BEGIN:VCALENDAR
VERSION:2.0
PRODID:-//Ville de La Ferté-Macé - ECPv6.15.20//NONSGML v1.0//EN
CALSCALE:GREGORIAN
METHOD:PUBLISH
X-ORIGINAL-URL:https://lafertemace.fr
X-WR-CALDESC:Évènements pour Ville de La Ferté-Macé
REFRESH-INTERVAL;VALUE=DURATION:PT1H
X-Robots-Tag:noindex
X-PUBLISHED-TTL:PT1H
BEGIN:VTIMEZONE
TZID:Europe/Helsinki
BEGIN:DAYLIGHT
TZOFFSETFROM:+0200
TZOFFSETTO:+0300
TZNAME:EEST
DTSTART:20240331T010000
END:DAYLIGHT
BEGIN:STANDARD
TZOFFSETFROM:+0300
TZOFFSETTO:+0200
TZNAME:EET
DTSTART:20241027T010000
END:STANDARD
BEGIN:DAYLIGHT
TZOFFSETFROM:+0200
TZOFFSETTO:+0300
TZNAME:EEST
DTSTART:20250330T010000
END:DAYLIGHT
BEGIN:STANDARD
TZOFFSETFROM:+0300
TZOFFSETTO:+0200
TZNAME:EET
DTSTART:20251026T010000
END:STANDARD
BEGIN:DAYLIGHT
TZOFFSETFROM:+0200
TZOFFSETTO:+0300
TZNAME:EEST
DTSTART:20260329T010000
END:DAYLIGHT
BEGIN:STANDARD
TZOFFSETFROM:+0300
TZOFFSETTO:+0200
TZNAME:EET
DTSTART:20261025T010000
END:STANDARD
END:VTIMEZONE
BEGIN:VEVENT
DTSTART;TZID=Europe/Helsinki:20250519T080000
DTEND;TZID=Europe/Helsinki:20250601T170000
DTSTAMP:20260421T095733
CREATED:20250519T141039Z
LAST-MODIFIED:20250519T141039Z
UID:10001033-1747641600-1748797200@lafertemace.fr
SUMMARY:Exposition Dessins "Héros du Rock'N'Roll" d'Alain Chennevière
DESCRIPTION:Exposition de dessins « Héros du Rock’N’Roll » du lundi 19 mai au 1er juin\, visible dans le hall de la mairie aux horaires d’ouverture de la mairie.\nAlain Chennevière\, parallèlement à sa carrière de chanteur\, a toujours dessiné et a travaillé dans la bande dessinée\, la publicité\, l’édition\, etc. Il a réalisé des pochettes de disques\, des affiches\, des logos\, et il a présenté ses œuvres dans différentes expositions. \nA l’occasion de la Fête de printemps sur le thème des années 50\, il propose une série de 17 dessins célébrant les héros du rock’n’roll réalisés avec différentes techniques (infographie\, aquarelle\, linogravure\, etc.) et imprimés chacun à 30 exemplaires sur un fort papier dessin\, numérotés de 1 à 30 et signés. \nCes dessins ont fait l’objet de deux expositions à Paris\, à la boutique Rock Paradise\, et au salon du disque de la porte Champerret\, certains ont été publiés dans la presse spécialisée. \nIl est possible d’acquérir certains de ces dessins en contactant Alain Chennevière à cette adresse mail : a.chenneviere@yahoo.fr \n 
URL:https://lafertemace.fr/event/exposition-dessins-heros-du-rocknroll-dalain-chenneviere/
LOCATION:Mairie\, Place de la République
CATEGORIES:Expositions
ATTACH;FMTTYPE=image/jpeg:https://lafertemace.fr/wp-content/uploads/2025/05/bandeau-site-expo-chenneviere.jpg
END:VEVENT
BEGIN:VEVENT
DTSTART;VALUE=DATE:20250524
DTEND;VALUE=DATE:20250526
DTSTAMP:20260421T095733
CREATED:20250512T152418Z
LAST-MODIFIED:20250512T152418Z
UID:10000632-1748044800-1748217599@lafertemace.fr
SUMMARY:UCIA : Opération Fête des Mères 24 & 25/05
DESCRIPTION:les 24 et 25 mai 2025\, Opération Fête des Mères : une rose offerte chez les commerçants participants
URL:https://lafertemace.fr/event/ucia-operation-fete-des-meres-24-25-05/
CATEGORIES:Loisirs,Marché - Braderie,Sports et Loisirs
ATTACH;FMTTYPE=image/jpeg:https://lafertemace.fr/wp-content/uploads/2016/03/UCIA-1.jpg
ORGANIZER;CN="UCIA":MAILTO:ucia.lafertemace@orange.fr
END:VEVENT
BEGIN:VEVENT
DTSTART;TZID=Europe/Helsinki:20250525T163000
DTEND;TZID=Europe/Helsinki:20250525T163000
DTSTAMP:20260421T095733
CREATED:20250512T151229Z
LAST-MODIFIED:20250512T151229Z
UID:10001187-1748190600-1748190600@lafertemace.fr
SUMMARY:Classiques sur grand écran
DESCRIPTION:Classiques sur grand écran (VO)\nProjection suivie d’une intervention de Monsieur Youri Deschamps\, spécialiste du cinéma de patrimoine et rédacteur en chef de la revue Eclipses.
URL:https://lafertemace.fr/event/classiques-sur-grand-ecran-7/2025-05-25/
LOCATION:Cinéma\, Salle G. Philipe 8 rue St Denis\, La Ferté-Macé
CATEGORIES:Cinéma,Loisirs,Sports et Loisirs
ATTACH;FMTTYPE=image/jpeg:https://lafertemace.fr/wp-content/uploads/2020/06/AVATAR_cinemaLAFM-2-e1652193177948.jpg
ORGANIZER;CN="Cin%C3%A9Fert%C3%A9":MAILTO:cinemagerardphilipe@wanadoo.fr
END:VEVENT
END:VCALENDAR