BEGIN:VCALENDAR
VERSION:2.0
PRODID:-//Ville de La Ferté-Macé - ECPv6.15.20//NONSGML v1.0//EN
CALSCALE:GREGORIAN
METHOD:PUBLISH
X-WR-CALNAME:Ville de La Ferté-Macé
X-ORIGINAL-URL:https://lafertemace.fr
X-WR-CALDESC:Évènements pour Ville de La Ferté-Macé
REFRESH-INTERVAL;VALUE=DURATION:PT1H
X-Robots-Tag:noindex
X-PUBLISHED-TTL:PT1H
BEGIN:VTIMEZONE
TZID:Europe/Helsinki
BEGIN:DAYLIGHT
TZOFFSETFROM:+0200
TZOFFSETTO:+0300
TZNAME:EEST
DTSTART:20240331T010000
END:DAYLIGHT
BEGIN:STANDARD
TZOFFSETFROM:+0300
TZOFFSETTO:+0200
TZNAME:EET
DTSTART:20241027T010000
END:STANDARD
BEGIN:DAYLIGHT
TZOFFSETFROM:+0200
TZOFFSETTO:+0300
TZNAME:EEST
DTSTART:20250330T010000
END:DAYLIGHT
BEGIN:STANDARD
TZOFFSETFROM:+0300
TZOFFSETTO:+0200
TZNAME:EET
DTSTART:20251026T010000
END:STANDARD
BEGIN:DAYLIGHT
TZOFFSETFROM:+0200
TZOFFSETTO:+0300
TZNAME:EEST
DTSTART:20260329T010000
END:DAYLIGHT
BEGIN:STANDARD
TZOFFSETFROM:+0300
TZOFFSETTO:+0200
TZNAME:EET
DTSTART:20261025T010000
END:STANDARD
END:VTIMEZONE
BEGIN:VEVENT
DTSTART;TZID=Europe/Helsinki:20251017T200000
DTEND;TZID=Europe/Helsinki:20251017T220000
DTSTAMP:20260419T131839
CREATED:20250901T104239Z
LAST-MODIFIED:20250901T104239Z
UID:10001237-1760731200-1760738400@lafertemace.fr
SUMMARY:Soirée jeux
DESCRIPTION:Soirée jeux\, proposées par les Amis des Jeux. Tous les vendredis de 20h à 22h\, 10 rue de Versailles. \nParticipation gratuite – plus de 500 jeux  qui peuvent aussi  être empruntés sous condition \, liste des jeux  : lafertemace.fr/liste-jeux.pdf  
URL:https://lafertemace.fr/event/soiree-jeux-5/2025-10-17/
LOCATION:Espace Jeux\, 10 rue de Versailles\, La Ferté-Macé
CATEGORIES:Loisirs,Sports et Loisirs
ATTACH;FMTTYPE=image/jpeg:https://lafertemace.fr/wp-content/uploads/2017/12/AVATAR_soiree-jeux.jpg
ORGANIZER;CN="Les amis des jeux":MAILTO:albert.le-monnier@wanadoo.fr
END:VEVENT
BEGIN:VEVENT
DTSTART;VALUE=DATE:20251017
DTEND;VALUE=DATE:20251018
DTSTAMP:20260419T131839
CREATED:20251006T104749Z
LAST-MODIFIED:20251006T104749Z
UID:10001031-1760659200-1760745599@lafertemace.fr
SUMMARY:Cinéma : Festival des Racont'Arts
DESCRIPTION:Le Festival des Racont’Arts\, festival départemental consacré au conte et à l’oralité\, propose chaque année des spectacles\, ateliers et expositions dans les médiathèques de l’Orne.\nÀ La Ferté-Macé\, le cinéma Gérard Philipe participe à cette belle initiative\, en partenariat avec la médiathèque. \nAu programme le soir :\n18h30 : Spectacle de théâtre à la médiathèque\n20h45 : Projection du film Les Esprits Libres au cinéma Gérard Philipe
URL:https://lafertemace.fr/event/cinema-festival-des-racontarts/2025-10-17/
LOCATION:Cinéma\, Salle G. Philipe 8 rue St Denis\, La Ferté-Macé
CATEGORIES:Cinéma,Concert - Spectacle - Débat,Loisirs,Sports et Loisirs
ATTACH;FMTTYPE=image/jpeg:https://lafertemace.fr/wp-content/uploads/2020/06/AVATAR_cinemaLAFM-2-e1652193177948.jpg
ORGANIZER;CN="Cin%C3%A9Fert%C3%A9":MAILTO:cinemagerardphilipe@wanadoo.fr
END:VEVENT
BEGIN:VEVENT
DTSTART;TZID=Europe/Helsinki:20251015T140000
DTEND;TZID=Europe/Helsinki:20251015T140000
DTSTAMP:20260419T131839
CREATED:20251006T103956Z
LAST-MODIFIED:20251006T103956Z
UID:10001029-1760536800-1760536800@lafertemace.fr
SUMMARY:Clap ou pas clap!
DESCRIPTION:A la rencontre des héroïnes !
URL:https://lafertemace.fr/event/clap-ou-pas-clap-12/2025-10-15/
LOCATION:Cinéma\, Salle G. Philipe 8 rue St Denis\, La Ferté-Macé
CATEGORIES:Cinéma,Loisirs,Sports et Loisirs
ATTACH;FMTTYPE=image/jpeg:https://lafertemace.fr/wp-content/uploads/2020/06/AVATAR_cinemaLAFM-2-e1652193177948.jpg
ORGANIZER;CN="Cin%C3%A9Fert%C3%A9":MAILTO:cinemagerardphilipe@wanadoo.fr
END:VEVENT
BEGIN:VEVENT
DTSTART;VALUE=DATE:20251015
DTEND;VALUE=DATE:20251016
DTSTAMP:20260419T131839
CREATED:20250910T163006Z
LAST-MODIFIED:20250910T163006Z
UID:10002050-1760486400-1760572799@lafertemace.fr
SUMMARY:Ateliers famille : mission sauvetage
DESCRIPTION:Ateliers familles Octobre et Novembre
URL:https://lafertemace.fr/event/ateliers-famille-mission-sauvetage/2025-10-15/
LOCATION:Centre Socioculturel Thérèse Letinturier\, 14 Rue Pasteur\, La Ferté-Macé\, 61600
CATEGORIES:Loisirs,Santé - Social,Sports et Loisirs
ATTACH;FMTTYPE=image/jpeg:https://lafertemace.fr/wp-content/uploads/2023/08/2023-Centre-Socio-Therse-Letinturier-2.jpg
ORGANIZER;CN="Centre Socioculturel Th%C3%A9r%C3%A8se Letinturier":MAILTO:centresocioculturel@lafertemace.fr
END:VEVENT
BEGIN:VEVENT
DTSTART;VALUE=DATE:20251015
DTEND;VALUE=DATE:20251016
DTSTAMP:20260419T131839
CREATED:20250909T095001Z
LAST-MODIFIED:20250909T105220Z
UID:10001218-1760486400-1760572799@lafertemace.fr
SUMMARY:Centre de loisirs 6/11 ans
DESCRIPTION:Accueil du mercredi (du 03/09 au 15/10/25) \n« 1001 façons de s’amuser sans écran »\nDurant cette période\, on range les écrans… et on s’amuse pour de vrai ! Au centre de loisirs\, tu pourras cuisiner\, bricoler\, faire du vélo\, lire des histoires\, jouer à plein de jeux et découvrir plein d’activités rigolotes. On parlera aussi des écrans : à quoi ils servent\, et pourquoi c’est bien de s’en passer de temps en temps.\nViens bouger\, créer\, rigoler… sans tablette ni télé ! \nPlaquette 6-11 ans (septembre – octobre 2025)
URL:https://lafertemace.fr/event/centre-de-loisirs-6-11-ans/2025-10-15/
LOCATION:Centre Socioculturel Thérèse Letinturier\, 14 Rue Pasteur\, La Ferté-Macé\, 61600
CATEGORIES:Loisirs,Sports et Loisirs
ATTACH;FMTTYPE=image/jpeg:https://lafertemace.fr/wp-content/uploads/2016/03/Centre-socioculturel-Fertois-X-540.jpg
ORGANIZER;CN="Centre Socioculturel Th%C3%A9r%C3%A8se Letinturier":MAILTO:centresocioculturel@lafertemace.fr
END:VEVENT
BEGIN:VEVENT
DTSTART;VALUE=DATE:20251015
DTEND;VALUE=DATE:20251016
DTSTAMP:20260419T131839
CREATED:20241018T112735Z
LAST-MODIFIED:20251001T151341Z
UID:10001375-1760486400-1760572799@lafertemace.fr
SUMMARY:Musée du jouet (septembre\, octobre)
DESCRIPTION:Jusqu’ au 25 octobre\, le Musée du Jouet est ouvert : \n\nLes mercredis et samedis de 14h à 17h – Fermeture exceptionnelle Samedi 11 octobre\n\nRetrouvez :  \n\njeux en libre accès\nlivret-jeux enfant dès 7 ans\njeu d’observation : Retrouve les animaux du musée
URL:https://lafertemace.fr/event/musee-du-jouet-septembre-octobre/2025-10-15/
LOCATION:Musée du Jouet\, Rue de la Victoire\, La Ferté-Macé\, 61600
CATEGORIES:Expositions,Loisirs,Patrimoine,Sports et Loisirs
ATTACH;FMTTYPE=image/jpeg:https://lafertemace.fr/wp-content/uploads/2016/09/JPMuseeDuJouet.jpg
ORGANIZER;CN="Service Culture%2C Sports et Loisirs":MAILTO:sports.loisirs@lafertemace.fr
END:VEVENT
BEGIN:VEVENT
DTSTART;VALUE=DATE:20251014
DTEND;VALUE=DATE:20251015
DTSTAMP:20260419T131839
CREATED:20250910T163333Z
LAST-MODIFIED:20250910T163333Z
UID:10002062-1760400000-1760486399@lafertemace.fr
SUMMARY:Petits pas (0-3 ans)
DESCRIPTION:Animations pour les 0-3 ans
URL:https://lafertemace.fr/event/petits-pas-0-3-ans/2025-10-14/
LOCATION:Centre Socioculturel Thérèse Letinturier\, 14 Rue Pasteur\, La Ferté-Macé\, 61600
CATEGORIES:Santé - Social,Sports et Loisirs
ATTACH;FMTTYPE=image/jpeg:https://lafertemace.fr/wp-content/uploads/2023/08/2023-Centre-Socio-Therse-Letinturier-2.jpg
ORGANIZER;CN="Centre Socioculturel Th%C3%A9r%C3%A8se Letinturier":MAILTO:centresocioculturel@lafertemace.fr
END:VEVENT
BEGIN:VEVENT
DTSTART;TZID=Europe/Helsinki:20251013T203000
DTEND;TZID=Europe/Helsinki:20251013T203000
DTSTAMP:20260419T131839
CREATED:20251006T103631Z
LAST-MODIFIED:20251006T103631Z
UID:10001330-1760387400-1760387400@lafertemace.fr
SUMMARY:Cinéma : clôture festival Street Art
DESCRIPTION:
URL:https://lafertemace.fr/event/cinema-cloture-festival-street-art/2025-10-13/
LOCATION:Cinéma\, Salle G. Philipe 8 rue St Denis\, La Ferté-Macé
CATEGORIES:Cinéma,Loisirs,Sports et Loisirs
ATTACH;FMTTYPE=image/jpeg:https://lafertemace.fr/wp-content/uploads/2020/06/AVATAR_cinemaLAFM-2-e1652193177948.jpg
ORGANIZER;CN="Cin%C3%A9Fert%C3%A9":MAILTO:cinemagerardphilipe@wanadoo.fr
END:VEVENT
BEGIN:VEVENT
DTSTART;VALUE=DATE:20251012
DTEND;VALUE=DATE:20251014
DTSTAMP:20260419T131839
CREATED:20250905T134359Z
LAST-MODIFIED:20251008T162905Z
UID:10001197-1760227200-1760399999@lafertemace.fr
SUMMARY:Bourse aux vêtements
DESCRIPTION:Bourse aux vêtements 11 et 12 octobre 2025
URL:https://lafertemace.fr/event/bourse-aux-vetements-5/2025-10-12/
LOCATION:Salle Guy Rossolini\, Bd Hamonic\, La Ferté-Macé\, 61600
CATEGORIES:Marché - Braderie,Santé - Social
ATTACH;FMTTYPE=image/jpeg:https://lafertemace.fr/wp-content/uploads/2017/05/Bourse-aux-vetements-X-540.jpg
END:VEVENT
BEGIN:VEVENT
DTSTART;TZID=Europe/Helsinki:20251011T090000
DTEND;TZID=Europe/Helsinki:20251011T180000
DTSTAMP:20260419T131839
CREATED:20250311T102851Z
LAST-MODIFIED:20250417T153714Z
UID:10001403-1760173200-1760205600@lafertemace.fr
SUMMARY:Foire aux livres
DESCRIPTION:Organisée par les Fourmis Fertoises\, de 9h à 18h. Rue du Collège
URL:https://lafertemace.fr/event/foire-aux-livres/2025-10-11/
LOCATION:Les Fourmis Fertoises – Recyclerie\, 8 rue du Collège
CATEGORIES:Lecture,Loisirs,Marché - Braderie,Sports et Loisirs
ATTACH;FMTTYPE=image/jpeg:https://lafertemace.fr/wp-content/uploads/2021/09/Fourmis-Fertoises-Foire-aux-livres-e1632127257818.jpg
END:VEVENT
BEGIN:VEVENT
DTSTART;VALUE=DATE:20251011
DTEND;VALUE=DATE:20251013
DTSTAMP:20260419T131839
CREATED:20250905T134359Z
LAST-MODIFIED:20251008T162905Z
UID:10001196-1760140800-1760313599@lafertemace.fr
SUMMARY:Bourse aux vêtements
DESCRIPTION:Bourse aux vêtements 11 et 12 octobre 2025
URL:https://lafertemace.fr/event/bourse-aux-vetements-5/2025-10-11/
LOCATION:Salle Guy Rossolini\, Bd Hamonic\, La Ferté-Macé\, 61600
CATEGORIES:Marché - Braderie,Santé - Social
ATTACH;FMTTYPE=image/jpeg:https://lafertemace.fr/wp-content/uploads/2017/05/Bourse-aux-vetements-X-540.jpg
END:VEVENT
BEGIN:VEVENT
DTSTART;VALUE=DATE:20251011
DTEND;VALUE=DATE:20251012
DTSTAMP:20260419T131839
CREATED:20241018T112735Z
LAST-MODIFIED:20251001T151341Z
UID:10001374-1760140800-1760227199@lafertemace.fr
SUMMARY:Musée du jouet (septembre\, octobre)
DESCRIPTION:Jusqu’ au 25 octobre\, le Musée du Jouet est ouvert : \n\nLes mercredis et samedis de 14h à 17h – Fermeture exceptionnelle Samedi 11 octobre\n\nRetrouvez :  \n\njeux en libre accès\nlivret-jeux enfant dès 7 ans\njeu d’observation : Retrouve les animaux du musée
URL:https://lafertemace.fr/event/musee-du-jouet-septembre-octobre/2025-10-11/
LOCATION:Musée du Jouet\, Rue de la Victoire\, La Ferté-Macé\, 61600
CATEGORIES:Expositions,Loisirs,Patrimoine,Sports et Loisirs
ATTACH;FMTTYPE=image/jpeg:https://lafertemace.fr/wp-content/uploads/2016/09/JPMuseeDuJouet.jpg
ORGANIZER;CN="Service Culture%2C Sports et Loisirs":MAILTO:sports.loisirs@lafertemace.fr
END:VEVENT
BEGIN:VEVENT
DTSTART;TZID=Europe/Helsinki:20251010T200000
DTEND;TZID=Europe/Helsinki:20251010T220000
DTSTAMP:20260419T131839
CREATED:20250901T104239Z
LAST-MODIFIED:20250901T104239Z
UID:10001236-1760126400-1760133600@lafertemace.fr
SUMMARY:Soirée jeux
DESCRIPTION:Soirée jeux\, proposées par les Amis des Jeux. Tous les vendredis de 20h à 22h\, 10 rue de Versailles. \nParticipation gratuite – plus de 500 jeux  qui peuvent aussi  être empruntés sous condition \, liste des jeux  : lafertemace.fr/liste-jeux.pdf  
URL:https://lafertemace.fr/event/soiree-jeux-5/2025-10-10/
LOCATION:Espace Jeux\, 10 rue de Versailles\, La Ferté-Macé
CATEGORIES:Loisirs,Sports et Loisirs
ATTACH;FMTTYPE=image/jpeg:https://lafertemace.fr/wp-content/uploads/2017/12/AVATAR_soiree-jeux.jpg
ORGANIZER;CN="Les amis des jeux":MAILTO:albert.le-monnier@wanadoo.fr
END:VEVENT
BEGIN:VEVENT
DTSTART;VALUE=DATE:20251010
DTEND;VALUE=DATE:20251011
DTSTAMP:20260419T131839
CREATED:20251008T162638Z
LAST-MODIFIED:20251008T162638Z
UID:10002082-1760054400-1760140799@lafertemace.fr
SUMMARY:Clôture Festival Street Art
DESCRIPTION:Rendez-vous à 15h au stade Gaston Meillon avec le circuit des fresques commentées par les artistes invités et les associations organisatrices du festival : RoadBook Arts et Artbeaurésens. \nCe circuit sera accompagné par la Batucada du groupe « O’MARACUJÁ ». Un spectacle de percussionnistes costumés qui revisitent le Samba-Reggae traditionnel de Salvador de Bahia au Brésil avec des sonorités venues de divers horizons : afro\, rock\, tibwa\, electro\, maloya\, punk\, pop… \nAprès le circuit des fresques\, le vernissage du festival aura lieu à 17h30 au marché couvert de l’hôtel de ville. \n 
URL:https://lafertemace.fr/event/cloture-festival-street-art/2025-10-10/
CATEGORIES:Expositions,Loisirs,Plein air,Sports et Loisirs
ATTACH;FMTTYPE=image/jpeg:https://lafertemace.fr/wp-content/uploads/2025/08/2025-street-art2.jpg
END:VEVENT
BEGIN:VEVENT
DTSTART;TZID=Europe/Helsinki:20251009T160000
DTEND;TZID=Europe/Helsinki:20251009T170000
DTSTAMP:20260419T131839
CREATED:20251007T114018Z
LAST-MODIFIED:20251007T114217Z
UID:10001300-1760025600-1760029200@lafertemace.fr
SUMMARY:Collecte de lunettes
DESCRIPTION:Le Lions Club organise une collecte de lunettes\, jeudi 09 octobre de 16h à 17h\, sur les marches de la Mairie.
URL:https://lafertemace.fr/event/collecte-de-lunettes/2025-10-09/
LOCATION:Mairie\, Place de la République
CATEGORIES:Santé - Social
ATTACH;FMTTYPE=image/jpeg:https://lafertemace.fr/wp-content/uploads/2016/10/Lions-club-X540.jpg
END:VEVENT
BEGIN:VEVENT
DTSTART;VALUE=DATE:20251008
DTEND;VALUE=DATE:20251009
DTSTAMP:20260419T131839
CREATED:20250909T095001Z
LAST-MODIFIED:20250909T105220Z
UID:10001217-1759881600-1759967999@lafertemace.fr
SUMMARY:Centre de loisirs 6/11 ans
DESCRIPTION:Accueil du mercredi (du 03/09 au 15/10/25) \n« 1001 façons de s’amuser sans écran »\nDurant cette période\, on range les écrans… et on s’amuse pour de vrai ! Au centre de loisirs\, tu pourras cuisiner\, bricoler\, faire du vélo\, lire des histoires\, jouer à plein de jeux et découvrir plein d’activités rigolotes. On parlera aussi des écrans : à quoi ils servent\, et pourquoi c’est bien de s’en passer de temps en temps.\nViens bouger\, créer\, rigoler… sans tablette ni télé ! \nPlaquette 6-11 ans (septembre – octobre 2025)
URL:https://lafertemace.fr/event/centre-de-loisirs-6-11-ans/2025-10-08/
LOCATION:Centre Socioculturel Thérèse Letinturier\, 14 Rue Pasteur\, La Ferté-Macé\, 61600
CATEGORIES:Loisirs,Sports et Loisirs
ATTACH;FMTTYPE=image/jpeg:https://lafertemace.fr/wp-content/uploads/2016/03/Centre-socioculturel-Fertois-X-540.jpg
ORGANIZER;CN="Centre Socioculturel Th%C3%A9r%C3%A8se Letinturier":MAILTO:centresocioculturel@lafertemace.fr
END:VEVENT
BEGIN:VEVENT
DTSTART;VALUE=DATE:20251008
DTEND;VALUE=DATE:20251009
DTSTAMP:20260419T131839
CREATED:20241018T112735Z
LAST-MODIFIED:20251001T151341Z
UID:10001373-1759881600-1759967999@lafertemace.fr
SUMMARY:Musée du jouet (septembre\, octobre)
DESCRIPTION:Jusqu’ au 25 octobre\, le Musée du Jouet est ouvert : \n\nLes mercredis et samedis de 14h à 17h – Fermeture exceptionnelle Samedi 11 octobre\n\nRetrouvez :  \n\njeux en libre accès\nlivret-jeux enfant dès 7 ans\njeu d’observation : Retrouve les animaux du musée
URL:https://lafertemace.fr/event/musee-du-jouet-septembre-octobre/2025-10-08/
LOCATION:Musée du Jouet\, Rue de la Victoire\, La Ferté-Macé\, 61600
CATEGORIES:Expositions,Loisirs,Patrimoine,Sports et Loisirs
ATTACH;FMTTYPE=image/jpeg:https://lafertemace.fr/wp-content/uploads/2016/09/JPMuseeDuJouet.jpg
ORGANIZER;CN="Service Culture%2C Sports et Loisirs":MAILTO:sports.loisirs@lafertemace.fr
END:VEVENT
BEGIN:VEVENT
DTSTART;TZID=Europe/Helsinki:20251004T110000
DTEND;TZID=Europe/Helsinki:20251004T110000
DTSTAMP:20260419T131839
CREATED:20250924T155915Z
LAST-MODIFIED:20250924T155915Z
UID:10002072-1759575600-1759575600@lafertemace.fr
SUMMARY:La Mare à Bout'chou
DESCRIPTION:Pour les 10 ans de la médiathèque…
URL:https://lafertemace.fr/event/la-mare-a-boutchou-4/2025-10-04/
LOCATION:Médiathèque « La Grande Nouvelle »\, Le Grand Turc\, Rue St Denis\, La Ferté-macé\, 61600
CATEGORIES:Lecture,Loisirs,Sports et Loisirs
ATTACH;FMTTYPE=image/jpeg:https://lafertemace.fr/wp-content/uploads/2025/09/2025-10-ans-mediatheque.jpg
ORGANIZER;CN="M%C3%A9diath%C3%A8que 'La Grande Nouvelle' (Flers Agglo)":MAILTO:mediatheque.lafetemace@flers-agglo.fr
END:VEVENT
BEGIN:VEVENT
DTSTART;VALUE=DATE:20251004
DTEND;VALUE=DATE:20251005
DTSTAMP:20260419T131840
CREATED:20250924T160304Z
LAST-MODIFIED:20250924T160304Z
UID:10002073-1759536000-1759622399@lafertemace.fr
SUMMARY:Théâtre d'objets et magie urbaine
DESCRIPTION:Pour les 10 ans de la médiathèque…
URL:https://lafertemace.fr/event/theatre-dobjets-et-magie-urbaine/2025-10-04/
LOCATION:Médiathèque « La Grande Nouvelle »\, Le Grand Turc\, Rue St Denis\, La Ferté-macé\, 61600
CATEGORIES:Concert - Spectacle - Débat,Loisirs,Sports et Loisirs
ATTACH;FMTTYPE=image/jpeg:https://lafertemace.fr/wp-content/uploads/2025/09/2025-10-ans-mediatheque.jpg
ORGANIZER;CN="M%C3%A9diath%C3%A8que 'La Grande Nouvelle' (Flers Agglo)":MAILTO:mediatheque.lafetemace@flers-agglo.fr
END:VEVENT
BEGIN:VEVENT
DTSTART;VALUE=DATE:20251004
DTEND;VALUE=DATE:20251005
DTSTAMP:20260419T131840
CREATED:20241018T112735Z
LAST-MODIFIED:20251001T151341Z
UID:10001372-1759536000-1759622399@lafertemace.fr
SUMMARY:Musée du jouet (septembre\, octobre)
DESCRIPTION:Jusqu’ au 25 octobre\, le Musée du Jouet est ouvert : \n\nLes mercredis et samedis de 14h à 17h – Fermeture exceptionnelle Samedi 11 octobre\n\nRetrouvez :  \n\njeux en libre accès\nlivret-jeux enfant dès 7 ans\njeu d’observation : Retrouve les animaux du musée
URL:https://lafertemace.fr/event/musee-du-jouet-septembre-octobre/2025-10-04/
LOCATION:Musée du Jouet\, Rue de la Victoire\, La Ferté-Macé\, 61600
CATEGORIES:Expositions,Loisirs,Patrimoine,Sports et Loisirs
ATTACH;FMTTYPE=image/jpeg:https://lafertemace.fr/wp-content/uploads/2016/09/JPMuseeDuJouet.jpg
ORGANIZER;CN="Service Culture%2C Sports et Loisirs":MAILTO:sports.loisirs@lafertemace.fr
END:VEVENT
BEGIN:VEVENT
DTSTART;TZID=Europe/Helsinki:20251003T200000
DTEND;TZID=Europe/Helsinki:20251003T220000
DTSTAMP:20260419T131840
CREATED:20250901T104239Z
LAST-MODIFIED:20250901T104239Z
UID:10001235-1759521600-1759528800@lafertemace.fr
SUMMARY:Soirée jeux
DESCRIPTION:Soirée jeux\, proposées par les Amis des Jeux. Tous les vendredis de 20h à 22h\, 10 rue de Versailles. \nParticipation gratuite – plus de 500 jeux  qui peuvent aussi  être empruntés sous condition \, liste des jeux  : lafertemace.fr/liste-jeux.pdf  
URL:https://lafertemace.fr/event/soiree-jeux-5/2025-10-03/
LOCATION:Espace Jeux\, 10 rue de Versailles\, La Ferté-Macé
CATEGORIES:Loisirs,Sports et Loisirs
ATTACH;FMTTYPE=image/jpeg:https://lafertemace.fr/wp-content/uploads/2017/12/AVATAR_soiree-jeux.jpg
ORGANIZER;CN="Les amis des jeux":MAILTO:albert.le-monnier@wanadoo.fr
END:VEVENT
BEGIN:VEVENT
DTSTART;TZID=Europe/Helsinki:20251003T190000
DTEND;TZID=Europe/Helsinki:20251003T190000
DTSTAMP:20260419T131840
CREATED:20250924T155621Z
LAST-MODIFIED:20250924T155621Z
UID:10002071-1759518000-1759518000@lafertemace.fr
SUMMARY:After work musical
DESCRIPTION:Pour les 10 ans de la médiathèque…
URL:https://lafertemace.fr/event/after-work-musical/2025-10-03/
LOCATION:Médiathèque « La Grande Nouvelle »\, Le Grand Turc\, Rue St Denis\, La Ferté-macé\, 61600
CATEGORIES:Concert - Spectacle - Débat,Loisirs,Sports et Loisirs
ATTACH;FMTTYPE=image/jpeg:https://lafertemace.fr/wp-content/uploads/2025/09/2025-10-ans-mediatheque.jpg
ORGANIZER;CN="M%C3%A9diath%C3%A8que 'La Grande Nouvelle' (Flers Agglo)":MAILTO:mediatheque.lafetemace@flers-agglo.fr
END:VEVENT
BEGIN:VEVENT
DTSTART;TZID=Europe/Helsinki:20251001T150000
DTEND;TZID=Europe/Helsinki:20251001T150000
DTSTAMP:20260419T131840
CREATED:20250924T155243Z
LAST-MODIFIED:20250924T155243Z
UID:10002070-1759330800-1759330800@lafertemace.fr
SUMMARY:L'histoire du Grand Turc
DESCRIPTION:Pour les 10 ans de la médiathèque…
URL:https://lafertemace.fr/event/lhistoire-du-grand-turc/2025-10-01/
LOCATION:Médiathèque « La Grande Nouvelle »\, Le Grand Turc\, Rue St Denis\, La Ferté-macé\, 61600
CATEGORIES:Loisirs,Sports et Loisirs
ATTACH;FMTTYPE=image/jpeg:https://lafertemace.fr/wp-content/uploads/2025/09/2025-10-ans-mediatheque.jpg
ORGANIZER;CN="M%C3%A9diath%C3%A8que 'La Grande Nouvelle' (Flers Agglo)":MAILTO:mediatheque.lafetemace@flers-agglo.fr
END:VEVENT
BEGIN:VEVENT
DTSTART;VALUE=DATE:20251001
DTEND;VALUE=DATE:20251002
DTSTAMP:20260419T131840
CREATED:20250924T154822Z
LAST-MODIFIED:20250924T154822Z
UID:10002069-1759276800-1759363199@lafertemace.fr
SUMMARY:Escape Game
DESCRIPTION:Pour les 10 ans de la Médiathèque…
URL:https://lafertemace.fr/event/escape-game/2025-10-01/
LOCATION:Médiathèque « La Grande Nouvelle »\, Le Grand Turc\, Rue St Denis\, La Ferté-macé\, 61600
CATEGORIES:Loisirs,Sports et Loisirs
ATTACH;FMTTYPE=image/jpeg:https://lafertemace.fr/wp-content/uploads/2025/09/2025-10-ans-mediatheque.jpg
ORGANIZER;CN="M%C3%A9diath%C3%A8que 'La Grande Nouvelle' (Flers Agglo)":MAILTO:mediatheque.lafetemace@flers-agglo.fr
END:VEVENT
BEGIN:VEVENT
DTSTART;VALUE=DATE:20251001
DTEND;VALUE=DATE:20251002
DTSTAMP:20260419T131840
CREATED:20250910T163006Z
LAST-MODIFIED:20250910T163006Z
UID:10002049-1759276800-1759363199@lafertemace.fr
SUMMARY:Ateliers famille : mission sauvetage
DESCRIPTION:Ateliers familles Octobre et Novembre
URL:https://lafertemace.fr/event/ateliers-famille-mission-sauvetage/2025-10-01/
LOCATION:Centre Socioculturel Thérèse Letinturier\, 14 Rue Pasteur\, La Ferté-Macé\, 61600
CATEGORIES:Loisirs,Santé - Social,Sports et Loisirs
ATTACH;FMTTYPE=image/jpeg:https://lafertemace.fr/wp-content/uploads/2023/08/2023-Centre-Socio-Therse-Letinturier-2.jpg
ORGANIZER;CN="Centre Socioculturel Th%C3%A9r%C3%A8se Letinturier":MAILTO:centresocioculturel@lafertemace.fr
END:VEVENT
BEGIN:VEVENT
DTSTART;VALUE=DATE:20251001
DTEND;VALUE=DATE:20251002
DTSTAMP:20260419T131840
CREATED:20250909T095001Z
LAST-MODIFIED:20250909T105220Z
UID:10001216-1759276800-1759363199@lafertemace.fr
SUMMARY:Centre de loisirs 6/11 ans
DESCRIPTION:Accueil du mercredi (du 03/09 au 15/10/25) \n« 1001 façons de s’amuser sans écran »\nDurant cette période\, on range les écrans… et on s’amuse pour de vrai ! Au centre de loisirs\, tu pourras cuisiner\, bricoler\, faire du vélo\, lire des histoires\, jouer à plein de jeux et découvrir plein d’activités rigolotes. On parlera aussi des écrans : à quoi ils servent\, et pourquoi c’est bien de s’en passer de temps en temps.\nViens bouger\, créer\, rigoler… sans tablette ni télé ! \nPlaquette 6-11 ans (septembre – octobre 2025)
URL:https://lafertemace.fr/event/centre-de-loisirs-6-11-ans/2025-10-01/
LOCATION:Centre Socioculturel Thérèse Letinturier\, 14 Rue Pasteur\, La Ferté-Macé\, 61600
CATEGORIES:Loisirs,Sports et Loisirs
ATTACH;FMTTYPE=image/jpeg:https://lafertemace.fr/wp-content/uploads/2016/03/Centre-socioculturel-Fertois-X-540.jpg
ORGANIZER;CN="Centre Socioculturel Th%C3%A9r%C3%A8se Letinturier":MAILTO:centresocioculturel@lafertemace.fr
END:VEVENT
BEGIN:VEVENT
DTSTART;VALUE=DATE:20251001
DTEND;VALUE=DATE:20251002
DTSTAMP:20260419T131840
CREATED:20241018T112735Z
LAST-MODIFIED:20251001T151341Z
UID:10001371-1759276800-1759363199@lafertemace.fr
SUMMARY:Musée du jouet (septembre\, octobre)
DESCRIPTION:Jusqu’ au 25 octobre\, le Musée du Jouet est ouvert : \n\nLes mercredis et samedis de 14h à 17h – Fermeture exceptionnelle Samedi 11 octobre\n\nRetrouvez :  \n\njeux en libre accès\nlivret-jeux enfant dès 7 ans\njeu d’observation : Retrouve les animaux du musée
URL:https://lafertemace.fr/event/musee-du-jouet-septembre-octobre/2025-10-01/
LOCATION:Musée du Jouet\, Rue de la Victoire\, La Ferté-Macé\, 61600
CATEGORIES:Expositions,Loisirs,Patrimoine,Sports et Loisirs
ATTACH;FMTTYPE=image/jpeg:https://lafertemace.fr/wp-content/uploads/2016/09/JPMuseeDuJouet.jpg
ORGANIZER;CN="Service Culture%2C Sports et Loisirs":MAILTO:sports.loisirs@lafertemace.fr
END:VEVENT
BEGIN:VEVENT
DTSTART;TZID=Europe/Helsinki:20250930T200000
DTEND;TZID=Europe/Helsinki:20250930T200000
DTSTAMP:20260419T131840
CREATED:20250924T154500Z
LAST-MODIFIED:20250924T154500Z
UID:10002068-1759262400-1759262400@lafertemace.fr
SUMMARY:Contes vagabonds - Soirée contée
DESCRIPTION:Pour les 10 ans de la médiathèque… \n 
URL:https://lafertemace.fr/event/contes-vagabonds-soiree-contee/2025-09-30/
LOCATION:Médiathèque « La Grande Nouvelle »\, Le Grand Turc\, Rue St Denis\, La Ferté-macé\, 61600
CATEGORIES:Concert - Spectacle - Débat,Lecture,Loisirs,Sports et Loisirs
ORGANIZER;CN="M%C3%A9diath%C3%A8que 'La Grande Nouvelle' (Flers Agglo)":MAILTO:mediatheque.lafetemace@flers-agglo.fr
END:VEVENT
BEGIN:VEVENT
DTSTART;TZID=Europe/Helsinki:20250927T110000
DTEND;TZID=Europe/Helsinki:20250927T110000
DTSTAMP:20260419T131840
CREATED:20250924T153953Z
LAST-MODIFIED:20250924T153953Z
UID:10002067-1758970800-1758970800@lafertemace.fr
SUMMARY:Les p'tites oreilles
DESCRIPTION:Un moment festif\, tout doux pour les plus jeunes … et les oreilles attentives ! \nTout public\, à partir de 5 ans – Accès libre – Médiathèque
URL:https://lafertemace.fr/event/les-ptites-oreilles-7/2025-09-27/
LOCATION:Médiathèque « La Grande Nouvelle »\, Le Grand Turc\, Rue St Denis\, La Ferté-macé\, 61600
CATEGORIES:Lecture,Loisirs,Sports et Loisirs
ATTACH;FMTTYPE=image/jpeg:https://lafertemace.fr/wp-content/uploads/2025/09/2025-10-ans-mediatheque.jpg
ORGANIZER;CN="M%C3%A9diath%C3%A8que 'La Grande Nouvelle' (Flers Agglo)":MAILTO:mediatheque.lafetemace@flers-agglo.fr
END:VEVENT
BEGIN:VEVENT
DTSTART;VALUE=DATE:20250927
DTEND;VALUE=DATE:20250928
DTSTAMP:20260419T131840
CREATED:20241018T112735Z
LAST-MODIFIED:20251001T151341Z
UID:10001370-1758931200-1759017599@lafertemace.fr
SUMMARY:Musée du jouet (septembre\, octobre)
DESCRIPTION:Jusqu’ au 25 octobre\, le Musée du Jouet est ouvert : \n\nLes mercredis et samedis de 14h à 17h – Fermeture exceptionnelle Samedi 11 octobre\n\nRetrouvez :  \n\njeux en libre accès\nlivret-jeux enfant dès 7 ans\njeu d’observation : Retrouve les animaux du musée
URL:https://lafertemace.fr/event/musee-du-jouet-septembre-octobre/2025-09-27/
LOCATION:Musée du Jouet\, Rue de la Victoire\, La Ferté-Macé\, 61600
CATEGORIES:Expositions,Loisirs,Patrimoine,Sports et Loisirs
ATTACH;FMTTYPE=image/jpeg:https://lafertemace.fr/wp-content/uploads/2016/09/JPMuseeDuJouet.jpg
ORGANIZER;CN="Service Culture%2C Sports et Loisirs":MAILTO:sports.loisirs@lafertemace.fr
END:VEVENT
END:VCALENDAR