BEGIN:VCALENDAR
VERSION:2.0
PRODID:-//Ville de La Ferté-Macé - ECPv6.15.20//NONSGML v1.0//EN
CALSCALE:GREGORIAN
METHOD:PUBLISH
X-WR-CALNAME:Ville de La Ferté-Macé
X-ORIGINAL-URL:https://lafertemace.fr
X-WR-CALDESC:Évènements pour Ville de La Ferté-Macé
REFRESH-INTERVAL;VALUE=DURATION:PT1H
X-Robots-Tag:noindex
X-PUBLISHED-TTL:PT1H
BEGIN:VTIMEZONE
TZID:Europe/Helsinki
BEGIN:DAYLIGHT
TZOFFSETFROM:+0200
TZOFFSETTO:+0300
TZNAME:EEST
DTSTART:20240331T010000
END:DAYLIGHT
BEGIN:STANDARD
TZOFFSETFROM:+0300
TZOFFSETTO:+0200
TZNAME:EET
DTSTART:20241027T010000
END:STANDARD
BEGIN:DAYLIGHT
TZOFFSETFROM:+0200
TZOFFSETTO:+0300
TZNAME:EEST
DTSTART:20250330T010000
END:DAYLIGHT
BEGIN:STANDARD
TZOFFSETFROM:+0300
TZOFFSETTO:+0200
TZNAME:EET
DTSTART:20251026T010000
END:STANDARD
BEGIN:DAYLIGHT
TZOFFSETFROM:+0200
TZOFFSETTO:+0300
TZNAME:EEST
DTSTART:20260329T010000
END:DAYLIGHT
BEGIN:STANDARD
TZOFFSETFROM:+0300
TZOFFSETTO:+0200
TZNAME:EET
DTSTART:20261025T010000
END:STANDARD
END:VTIMEZONE
BEGIN:VEVENT
DTSTART;VALUE=DATE:20250917
DTEND;VALUE=DATE:20250918
DTSTAMP:20260419T181048
CREATED:20241018T112735Z
LAST-MODIFIED:20251001T151341Z
UID:10001367-1758067200-1758153599@lafertemace.fr
SUMMARY:Musée du jouet (septembre\, octobre)
DESCRIPTION:Jusqu’ au 25 octobre\, le Musée du Jouet est ouvert : \n\nLes mercredis et samedis de 14h à 17h – Fermeture exceptionnelle Samedi 11 octobre\n\nRetrouvez :  \n\njeux en libre accès\nlivret-jeux enfant dès 7 ans\njeu d’observation : Retrouve les animaux du musée
URL:https://lafertemace.fr/event/musee-du-jouet-septembre-octobre/2025-09-17/
LOCATION:Musée du Jouet\, Rue de la Victoire\, La Ferté-Macé\, 61600
CATEGORIES:Expositions,Loisirs,Patrimoine,Sports et Loisirs
ATTACH;FMTTYPE=image/jpeg:https://lafertemace.fr/wp-content/uploads/2016/09/JPMuseeDuJouet.jpg
ORGANIZER;CN="Service Culture%2C Sports et Loisirs":MAILTO:sports.loisirs@lafertemace.fr
END:VEVENT
BEGIN:VEVENT
DTSTART;VALUE=DATE:20250916
DTEND;VALUE=DATE:20250917
DTSTAMP:20260419T181048
CREATED:20250910T163333Z
LAST-MODIFIED:20250910T163333Z
UID:10002061-1757980800-1758067199@lafertemace.fr
SUMMARY:Petits pas (0-3 ans)
DESCRIPTION:Animations pour les 0-3 ans
URL:https://lafertemace.fr/event/petits-pas-0-3-ans/2025-09-16/
LOCATION:Centre Socioculturel Thérèse Letinturier\, 14 Rue Pasteur\, La Ferté-Macé\, 61600
CATEGORIES:Santé - Social,Sports et Loisirs
ATTACH;FMTTYPE=image/jpeg:https://lafertemace.fr/wp-content/uploads/2023/08/2023-Centre-Socio-Therse-Letinturier-2.jpg
ORGANIZER;CN="Centre Socioculturel Th%C3%A9r%C3%A8se Letinturier":MAILTO:centresocioculturel@lafertemace.fr
END:VEVENT
BEGIN:VEVENT
DTSTART;VALUE=DATE:20250916
DTEND;VALUE=DATE:20250917
DTSTAMP:20260419T181048
CREATED:20250910T162609Z
LAST-MODIFIED:20250910T162609Z
UID:10002055-1757980800-1758067199@lafertemace.fr
SUMMARY:Les rendez-vous du Centre socioculturel
DESCRIPTION:Retrouvez « Les rendez-vous du Centre socioculturel Thérèse Letinturier : ateliers\, sorties\, soirées… » du mois de septembre
URL:https://lafertemace.fr/event/les-rendez-vous-du-centre-socioculturel-2/2025-09-16/
LOCATION:Centre Socioculturel Thérèse Letinturier\, 14 Rue Pasteur\, La Ferté-Macé\, 61600
CATEGORIES:Atelier,Cinéma,Expositions,Loisirs,Repas,Santé - Social,Sports et Loisirs
ATTACH;FMTTYPE=image/jpeg:https://lafertemace.fr/wp-content/uploads/2023/08/2023-Centre-Socio-Therse-Letinturier-2.jpg
ORGANIZER;CN="Centre Socioculturel Th%C3%A9r%C3%A8se Letinturier":MAILTO:centresocioculturel@lafertemace.fr
END:VEVENT
BEGIN:VEVENT
DTSTART;VALUE=DATE:20250914
DTEND;VALUE=DATE:20250915
DTSTAMP:20260419T181048
CREATED:20250514T153346Z
LAST-MODIFIED:20250725T092401Z
UID:10001135-1757808000-1757894399@lafertemace.fr
SUMMARY:Hydromodélisme
DESCRIPTION:Démonstrations d’hydromodélisme sur la base de loisirs. Accès par La Brochardière
URL:https://lafertemace.fr/event/hydromodelisme/2025-09-14/
LOCATION:Base de Loisirs\, Bd de la Forêt d'Andaine\, La Ferté-Macé\, 61600
CATEGORIES:Loisirs,Plein air,Sports et Loisirs
ATTACH;FMTTYPE=image/jpeg:https://lafertemace.fr/wp-content/uploads/2023/01/2023-hydromodelisme.jpg
ORGANIZER;CN="Club Hydromod%C3%A9lisme Fertois":MAILTO:chmf61@gmail.com
END:VEVENT
BEGIN:VEVENT
DTSTART;VALUE=DATE:20250913
DTEND;VALUE=DATE:20250914
DTSTAMP:20260419T181048
CREATED:20241018T112735Z
LAST-MODIFIED:20251001T151341Z
UID:10001366-1757721600-1757807999@lafertemace.fr
SUMMARY:Musée du jouet (septembre\, octobre)
DESCRIPTION:Jusqu’ au 25 octobre\, le Musée du Jouet est ouvert : \n\nLes mercredis et samedis de 14h à 17h – Fermeture exceptionnelle Samedi 11 octobre\n\nRetrouvez :  \n\njeux en libre accès\nlivret-jeux enfant dès 7 ans\njeu d’observation : Retrouve les animaux du musée
URL:https://lafertemace.fr/event/musee-du-jouet-septembre-octobre/2025-09-13/
LOCATION:Musée du Jouet\, Rue de la Victoire\, La Ferté-Macé\, 61600
CATEGORIES:Expositions,Loisirs,Patrimoine,Sports et Loisirs
ATTACH;FMTTYPE=image/jpeg:https://lafertemace.fr/wp-content/uploads/2016/09/JPMuseeDuJouet.jpg
ORGANIZER;CN="Service Culture%2C Sports et Loisirs":MAILTO:sports.loisirs@lafertemace.fr
END:VEVENT
BEGIN:VEVENT
DTSTART;TZID=Europe/Helsinki:20250912T200000
DTEND;TZID=Europe/Helsinki:20250912T220000
DTSTAMP:20260419T181048
CREATED:20250901T104239Z
LAST-MODIFIED:20250901T104239Z
UID:10001232-1757707200-1757714400@lafertemace.fr
SUMMARY:Soirée jeux
DESCRIPTION:Soirée jeux\, proposées par les Amis des Jeux. Tous les vendredis de 20h à 22h\, 10 rue de Versailles. \nParticipation gratuite – plus de 500 jeux  qui peuvent aussi  être empruntés sous condition \, liste des jeux  : lafertemace.fr/liste-jeux.pdf  
URL:https://lafertemace.fr/event/soiree-jeux-5/2025-09-12/
LOCATION:Espace Jeux\, 10 rue de Versailles\, La Ferté-Macé
CATEGORIES:Loisirs,Sports et Loisirs
ATTACH;FMTTYPE=image/jpeg:https://lafertemace.fr/wp-content/uploads/2017/12/AVATAR_soiree-jeux.jpg
ORGANIZER;CN="Les amis des jeux":MAILTO:albert.le-monnier@wanadoo.fr
END:VEVENT
BEGIN:VEVENT
DTSTART;TZID=Europe/Helsinki:20250911T203000
DTEND;TZID=Europe/Helsinki:20250911T203000
DTSTAMP:20260419T181048
CREATED:20250904T153055Z
LAST-MODIFIED:20250904T153837Z
UID:10001193-1757622600-1757622600@lafertemace.fr
SUMMARY:Ciné débat autour de l'autisme
DESCRIPTION:Soirée spéciale consacrée au Trouble du Spectre Autistique (TSA) et au diagnostic tardif\, le jeudi 11 septembre 2025 à 20h30. Cet événement prendra la forme d’un ciné-débat : projection du film « Différente » suivie d’un temps d’échange avec le public. \nLe débat sera animé en présence de représentants : du GEM TSA de Partage 61 et d’Autisme Basse-Normandie.
URL:https://lafertemace.fr/event/cine-debat-autour-de-lautisme/2025-09-11/
LOCATION:Cinéma\, Salle G. Philipe 8 rue St Denis\, La Ferté-Macé
CATEGORIES:Cinéma,Concert - Spectacle - Débat,Loisirs,Sports et Loisirs
ATTACH;FMTTYPE=image/jpeg:https://lafertemace.fr/wp-content/uploads/2020/06/AVATAR_cinemaLAFM-2-e1652193177948.jpg
ORGANIZER;CN="Cin%C3%A9Fert%C3%A9":MAILTO:cinemagerardphilipe@wanadoo.fr
END:VEVENT
BEGIN:VEVENT
DTSTART;VALUE=DATE:20250911
DTEND;VALUE=DATE:20250912
DTSTAMP:20260419T181048
CREATED:20250910T162609Z
LAST-MODIFIED:20250910T162609Z
UID:10002054-1757548800-1757635199@lafertemace.fr
SUMMARY:Les rendez-vous du Centre socioculturel
DESCRIPTION:Retrouvez « Les rendez-vous du Centre socioculturel Thérèse Letinturier : ateliers\, sorties\, soirées… » du mois de septembre
URL:https://lafertemace.fr/event/les-rendez-vous-du-centre-socioculturel-2/2025-09-11/
LOCATION:Centre Socioculturel Thérèse Letinturier\, 14 Rue Pasteur\, La Ferté-Macé\, 61600
CATEGORIES:Atelier,Cinéma,Expositions,Loisirs,Repas,Santé - Social,Sports et Loisirs
ATTACH;FMTTYPE=image/jpeg:https://lafertemace.fr/wp-content/uploads/2023/08/2023-Centre-Socio-Therse-Letinturier-2.jpg
ORGANIZER;CN="Centre Socioculturel Th%C3%A9r%C3%A8se Letinturier":MAILTO:centresocioculturel@lafertemace.fr
END:VEVENT
BEGIN:VEVENT
DTSTART;VALUE=DATE:20250910
DTEND;VALUE=DATE:20250911
DTSTAMP:20260419T181048
CREATED:20250909T095001Z
LAST-MODIFIED:20250909T105220Z
UID:10001213-1757462400-1757548799@lafertemace.fr
SUMMARY:Centre de loisirs 6/11 ans
DESCRIPTION:Accueil du mercredi (du 03/09 au 15/10/25) \n« 1001 façons de s’amuser sans écran »\nDurant cette période\, on range les écrans… et on s’amuse pour de vrai ! Au centre de loisirs\, tu pourras cuisiner\, bricoler\, faire du vélo\, lire des histoires\, jouer à plein de jeux et découvrir plein d’activités rigolotes. On parlera aussi des écrans : à quoi ils servent\, et pourquoi c’est bien de s’en passer de temps en temps.\nViens bouger\, créer\, rigoler… sans tablette ni télé ! \nPlaquette 6-11 ans (septembre – octobre 2025)
URL:https://lafertemace.fr/event/centre-de-loisirs-6-11-ans/2025-09-10/
LOCATION:Centre Socioculturel Thérèse Letinturier\, 14 Rue Pasteur\, La Ferté-Macé\, 61600
CATEGORIES:Loisirs,Sports et Loisirs
ATTACH;FMTTYPE=image/jpeg:https://lafertemace.fr/wp-content/uploads/2016/03/Centre-socioculturel-Fertois-X-540.jpg
ORGANIZER;CN="Centre Socioculturel Th%C3%A9r%C3%A8se Letinturier":MAILTO:centresocioculturel@lafertemace.fr
END:VEVENT
BEGIN:VEVENT
DTSTART;VALUE=DATE:20250910
DTEND;VALUE=DATE:20250911
DTSTAMP:20260419T181048
CREATED:20241018T112735Z
LAST-MODIFIED:20251001T151341Z
UID:10001365-1757462400-1757548799@lafertemace.fr
SUMMARY:Musée du jouet (septembre\, octobre)
DESCRIPTION:Jusqu’ au 25 octobre\, le Musée du Jouet est ouvert : \n\nLes mercredis et samedis de 14h à 17h – Fermeture exceptionnelle Samedi 11 octobre\n\nRetrouvez :  \n\njeux en libre accès\nlivret-jeux enfant dès 7 ans\njeu d’observation : Retrouve les animaux du musée
URL:https://lafertemace.fr/event/musee-du-jouet-septembre-octobre/2025-09-10/
LOCATION:Musée du Jouet\, Rue de la Victoire\, La Ferté-Macé\, 61600
CATEGORIES:Expositions,Loisirs,Patrimoine,Sports et Loisirs
ATTACH;FMTTYPE=image/jpeg:https://lafertemace.fr/wp-content/uploads/2016/09/JPMuseeDuJouet.jpg
ORGANIZER;CN="Service Culture%2C Sports et Loisirs":MAILTO:sports.loisirs@lafertemace.fr
END:VEVENT
BEGIN:VEVENT
DTSTART;VALUE=DATE:20250909
DTEND;VALUE=DATE:20250910
DTSTAMP:20260419T181048
CREATED:20250910T162609Z
LAST-MODIFIED:20250910T162609Z
UID:10002053-1757376000-1757462399@lafertemace.fr
SUMMARY:Les rendez-vous du Centre socioculturel
DESCRIPTION:Retrouvez « Les rendez-vous du Centre socioculturel Thérèse Letinturier : ateliers\, sorties\, soirées… » du mois de septembre
URL:https://lafertemace.fr/event/les-rendez-vous-du-centre-socioculturel-2/2025-09-09/
LOCATION:Centre Socioculturel Thérèse Letinturier\, 14 Rue Pasteur\, La Ferté-Macé\, 61600
CATEGORIES:Atelier,Cinéma,Expositions,Loisirs,Repas,Santé - Social,Sports et Loisirs
ATTACH;FMTTYPE=image/jpeg:https://lafertemace.fr/wp-content/uploads/2023/08/2023-Centre-Socio-Therse-Letinturier-2.jpg
ORGANIZER;CN="Centre Socioculturel Th%C3%A9r%C3%A8se Letinturier":MAILTO:centresocioculturel@lafertemace.fr
END:VEVENT
BEGIN:VEVENT
DTSTART;VALUE=DATE:20250907
DTEND;VALUE=DATE:20250908
DTSTAMP:20260419T181048
CREATED:20250115T104709Z
LAST-MODIFIED:20250610T102623Z
UID:10001706-1757203200-1757289599@lafertemace.fr
SUMMARY:Braderie
DESCRIPTION:Braderie – vide greniers dans les rues de la ville. \nOrganisation : UCIA
URL:https://lafertemace.fr/event/braderie/2025-09-07/
CATEGORIES:Loisirs,Marché - Braderie,Sports et Loisirs
ATTACH;FMTTYPE=image/jpeg:https://lafertemace.fr/wp-content/uploads/2016/08/AVATAR_braderie.jpg
ORGANIZER;CN="UCIA":MAILTO:ucia.lafertemace@orange.fr
END:VEVENT
BEGIN:VEVENT
DTSTART;VALUE=DATE:20250906
DTEND;VALUE=DATE:20250907
DTSTAMP:20260419T181048
CREATED:20250115T104459Z
LAST-MODIFIED:20250610T102103Z
UID:10001705-1757116800-1757203199@lafertemace.fr
SUMMARY:Marché Art et Terroir
DESCRIPTION:Marché Art et Terroir – Foire aux vins… \nCentre ville. \n  \n \nOrganisation :UCIA
URL:https://lafertemace.fr/event/marche-art-et-terroir-2/2025-09-06/
CATEGORIES:Loisirs,Marché - Braderie,Sports et Loisirs
ATTACH;FMTTYPE=image/jpeg:https://lafertemace.fr/wp-content/uploads/2018/04/foireauxvins800.jpg
ORGANIZER;CN="UCIA":MAILTO:ucia.lafertemace@orange.fr
END:VEVENT
BEGIN:VEVENT
DTSTART;VALUE=DATE:20250906
DTEND;VALUE=DATE:20250907
DTSTAMP:20260419T181048
CREATED:20241018T112735Z
LAST-MODIFIED:20251001T151341Z
UID:10001364-1757116800-1757203199@lafertemace.fr
SUMMARY:Musée du jouet (septembre\, octobre)
DESCRIPTION:Jusqu’ au 25 octobre\, le Musée du Jouet est ouvert : \n\nLes mercredis et samedis de 14h à 17h – Fermeture exceptionnelle Samedi 11 octobre\n\nRetrouvez :  \n\njeux en libre accès\nlivret-jeux enfant dès 7 ans\njeu d’observation : Retrouve les animaux du musée
URL:https://lafertemace.fr/event/musee-du-jouet-septembre-octobre/2025-09-06/
LOCATION:Musée du Jouet\, Rue de la Victoire\, La Ferté-Macé\, 61600
CATEGORIES:Expositions,Loisirs,Patrimoine,Sports et Loisirs
ATTACH;FMTTYPE=image/jpeg:https://lafertemace.fr/wp-content/uploads/2016/09/JPMuseeDuJouet.jpg
ORGANIZER;CN="Service Culture%2C Sports et Loisirs":MAILTO:sports.loisirs@lafertemace.fr
END:VEVENT
BEGIN:VEVENT
DTSTART;TZID=Europe/Helsinki:20250905T200000
DTEND;TZID=Europe/Helsinki:20250905T220000
DTSTAMP:20260419T181048
CREATED:20250901T104239Z
LAST-MODIFIED:20250901T104239Z
UID:10001231-1757102400-1757109600@lafertemace.fr
SUMMARY:Soirée jeux
DESCRIPTION:Soirée jeux\, proposées par les Amis des Jeux. Tous les vendredis de 20h à 22h\, 10 rue de Versailles. \nParticipation gratuite – plus de 500 jeux  qui peuvent aussi  être empruntés sous condition \, liste des jeux  : lafertemace.fr/liste-jeux.pdf  
URL:https://lafertemace.fr/event/soiree-jeux-5/2025-09-05/
LOCATION:Espace Jeux\, 10 rue de Versailles\, La Ferté-Macé
CATEGORIES:Loisirs,Sports et Loisirs
ATTACH;FMTTYPE=image/jpeg:https://lafertemace.fr/wp-content/uploads/2017/12/AVATAR_soiree-jeux.jpg
ORGANIZER;CN="Les amis des jeux":MAILTO:albert.le-monnier@wanadoo.fr
END:VEVENT
BEGIN:VEVENT
DTSTART;VALUE=DATE:20250903
DTEND;VALUE=DATE:20250904
DTSTAMP:20260419T181048
CREATED:20250909T095001Z
LAST-MODIFIED:20250909T105220Z
UID:10001212-1756857600-1756943999@lafertemace.fr
SUMMARY:Centre de loisirs 6/11 ans
DESCRIPTION:Accueil du mercredi (du 03/09 au 15/10/25) \n« 1001 façons de s’amuser sans écran »\nDurant cette période\, on range les écrans… et on s’amuse pour de vrai ! Au centre de loisirs\, tu pourras cuisiner\, bricoler\, faire du vélo\, lire des histoires\, jouer à plein de jeux et découvrir plein d’activités rigolotes. On parlera aussi des écrans : à quoi ils servent\, et pourquoi c’est bien de s’en passer de temps en temps.\nViens bouger\, créer\, rigoler… sans tablette ni télé ! \nPlaquette 6-11 ans (septembre – octobre 2025)
URL:https://lafertemace.fr/event/centre-de-loisirs-6-11-ans/2025-09-03/
LOCATION:Centre Socioculturel Thérèse Letinturier\, 14 Rue Pasteur\, La Ferté-Macé\, 61600
CATEGORIES:Loisirs,Sports et Loisirs
ATTACH;FMTTYPE=image/jpeg:https://lafertemace.fr/wp-content/uploads/2016/03/Centre-socioculturel-Fertois-X-540.jpg
ORGANIZER;CN="Centre Socioculturel Th%C3%A9r%C3%A8se Letinturier":MAILTO:centresocioculturel@lafertemace.fr
END:VEVENT
BEGIN:VEVENT
DTSTART;VALUE=DATE:20250903
DTEND;VALUE=DATE:20250904
DTSTAMP:20260419T181048
CREATED:20241018T112735Z
LAST-MODIFIED:20251001T151341Z
UID:10001363-1756857600-1756943999@lafertemace.fr
SUMMARY:Musée du jouet (septembre\, octobre)
DESCRIPTION:Jusqu’ au 25 octobre\, le Musée du Jouet est ouvert : \n\nLes mercredis et samedis de 14h à 17h – Fermeture exceptionnelle Samedi 11 octobre\n\nRetrouvez :  \n\njeux en libre accès\nlivret-jeux enfant dès 7 ans\njeu d’observation : Retrouve les animaux du musée
URL:https://lafertemace.fr/event/musee-du-jouet-septembre-octobre/2025-09-03/
LOCATION:Musée du Jouet\, Rue de la Victoire\, La Ferté-Macé\, 61600
CATEGORIES:Expositions,Loisirs,Patrimoine,Sports et Loisirs
ATTACH;FMTTYPE=image/jpeg:https://lafertemace.fr/wp-content/uploads/2016/09/JPMuseeDuJouet.jpg
ORGANIZER;CN="Service Culture%2C Sports et Loisirs":MAILTO:sports.loisirs@lafertemace.fr
END:VEVENT
BEGIN:VEVENT
DTSTART;VALUE=DATE:20250830
DTEND;VALUE=DATE:20250831
DTSTAMP:20260419T181048
CREATED:20241018T112355Z
LAST-MODIFIED:20241018T112355Z
UID:10000992-1756512000-1756598399@lafertemace.fr
SUMMARY:Musée du jouet (juillet et août)
DESCRIPTION:En juillet et août\, le Musée du Jouet est ouvert : \nLes mercredis\, jeudis\, vendredis et samedis de 14h à 17h (sauf 15 août) \nRetrouvez :  \n\njeux en libre accès\nlivret-jeux enfant dès 7 ans\njeu d’observation : Retrouve les animaux du musée
URL:https://lafertemace.fr/event/musee-du-jouet-juillet-et-aout/2025-08-30/
LOCATION:Musée du Jouet\, Rue de la Victoire\, La Ferté-Macé\, 61600
CATEGORIES:Expositions,Loisirs,Patrimoine,Sports et Loisirs
ATTACH;FMTTYPE=image/jpeg:https://lafertemace.fr/wp-content/uploads/2023/12/20230317_105609-scaled.jpg
ORGANIZER;CN="Service Culture%2C Sports et Loisirs":MAILTO:sports.loisirs@lafertemace.fr
END:VEVENT
BEGIN:VEVENT
DTSTART;TZID=Europe/Helsinki:20250829T163000
DTEND;TZID=Europe/Helsinki:20250829T200000
DTSTAMP:20260419T181048
CREATED:20250129T113615Z
LAST-MODIFIED:20250129T113615Z
UID:10001098-1756485000-1756497600@lafertemace.fr
SUMMARY:Fête des associations
DESCRIPTION:De 16h30 à 20h\, en centre-ville
URL:https://lafertemace.fr/event/fete-des-associations/2025-08-29/
CATEGORIES:Loisirs,Plein air,Santé - Social,Sports,Sports et Loisirs
ATTACH;FMTTYPE=image/jpeg:https://lafertemace.fr/wp-content/uploads/2023/08/2023-Fete-des-Associations-centre-socio4.jpg
ORGANIZER;CN="Service Culture%2C Sports et Loisirs":MAILTO:sports.loisirs@lafertemace.fr
END:VEVENT
BEGIN:VEVENT
DTSTART;VALUE=DATE:20250829
DTEND;VALUE=DATE:20250830
DTSTAMP:20260419T181048
CREATED:20241018T112355Z
LAST-MODIFIED:20241018T112355Z
UID:10000991-1756425600-1756511999@lafertemace.fr
SUMMARY:Musée du jouet (juillet et août)
DESCRIPTION:En juillet et août\, le Musée du Jouet est ouvert : \nLes mercredis\, jeudis\, vendredis et samedis de 14h à 17h (sauf 15 août) \nRetrouvez :  \n\njeux en libre accès\nlivret-jeux enfant dès 7 ans\njeu d’observation : Retrouve les animaux du musée
URL:https://lafertemace.fr/event/musee-du-jouet-juillet-et-aout/2025-08-29/
LOCATION:Musée du Jouet\, Rue de la Victoire\, La Ferté-Macé\, 61600
CATEGORIES:Expositions,Loisirs,Patrimoine,Sports et Loisirs
ATTACH;FMTTYPE=image/jpeg:https://lafertemace.fr/wp-content/uploads/2023/12/20230317_105609-scaled.jpg
ORGANIZER;CN="Service Culture%2C Sports et Loisirs":MAILTO:sports.loisirs@lafertemace.fr
END:VEVENT
BEGIN:VEVENT
DTSTART;TZID=Europe/Helsinki:20250828T143000
DTEND;TZID=Europe/Helsinki:20250828T143000
DTSTAMP:20260419T181048
CREATED:20250212T152452Z
LAST-MODIFIED:20250304T114351Z
UID:10001943-1756391400-1756391400@lafertemace.fr
SUMMARY:Visites de la ville
DESCRIPTION:Visite commentée au départ de l’Office de Tourisme (Rue de la Victoire)\nVenez découvrir les richesses de notre ville : église romane\, église Notre Dame\, Trésorama (exposition d’objets liturgiques et religieux)\, Mairie (salle de mariages\, tableaux de peintures..). \nSur réservation\, 02 33 37 10 97
URL:https://lafertemace.fr/event/visites-de-la-ville/2025-08-28/
LOCATION:Office de Tourisme\, 11 Rue de La Victoire\, La Ferté-Macé\, 61600\, France
CATEGORIES:Loisirs,Patrimoine,Sports et Loisirs
ATTACH;FMTTYPE=image/jpeg:https://lafertemace.fr/wp-content/uploads/2022/09/2022-eglise-inauguration.jpg
END:VEVENT
BEGIN:VEVENT
DTSTART;VALUE=DATE:20250828
DTEND;VALUE=DATE:20250829
DTSTAMP:20260419T181048
CREATED:20250725T094303Z
LAST-MODIFIED:20250725T094303Z
UID:10001145-1756339200-1756425599@lafertemace.fr
SUMMARY:Jeux de plein air
DESCRIPTION:Juillet et Août : tous les mardis et jeudis dès 14h à la Base de Loisirs\, l’association Les amis des Jeux vous proposent des jeux de plein air. \nGratuit pour tous
URL:https://lafertemace.fr/event/jeux-de-plein-air/2025-08-28/
LOCATION:Base de Loisirs\, Bd de la Forêt d'Andaine\, La Ferté-Macé\, 61600
CATEGORIES:Loisirs,Plein air,Sports et Loisirs
ATTACH;FMTTYPE=image/jpeg:https://lafertemace.fr/wp-content/uploads/2016/05/2012-manifestations-jeux-anciens-festival-des-jeux-Base-de-loisirs-jeu-de-quilles-1-e1463744110911.jpg
ORGANIZER;CN="Les amis des jeux":MAILTO:albert.le-monnier@wanadoo.fr
END:VEVENT
BEGIN:VEVENT
DTSTART;VALUE=DATE:20250828
DTEND;VALUE=DATE:20250829
DTSTAMP:20260419T181048
CREATED:20241018T112355Z
LAST-MODIFIED:20241018T112355Z
UID:10000990-1756339200-1756425599@lafertemace.fr
SUMMARY:Musée du jouet (juillet et août)
DESCRIPTION:En juillet et août\, le Musée du Jouet est ouvert : \nLes mercredis\, jeudis\, vendredis et samedis de 14h à 17h (sauf 15 août) \nRetrouvez :  \n\njeux en libre accès\nlivret-jeux enfant dès 7 ans\njeu d’observation : Retrouve les animaux du musée
URL:https://lafertemace.fr/event/musee-du-jouet-juillet-et-aout/2025-08-28/
LOCATION:Musée du Jouet\, Rue de la Victoire\, La Ferté-Macé\, 61600
CATEGORIES:Expositions,Loisirs,Patrimoine,Sports et Loisirs
ATTACH;FMTTYPE=image/jpeg:https://lafertemace.fr/wp-content/uploads/2023/12/20230317_105609-scaled.jpg
ORGANIZER;CN="Service Culture%2C Sports et Loisirs":MAILTO:sports.loisirs@lafertemace.fr
END:VEVENT
BEGIN:VEVENT
DTSTART;VALUE=DATE:20250827
DTEND;VALUE=DATE:20250828
DTSTAMP:20260419T181048
CREATED:20241018T112355Z
LAST-MODIFIED:20241018T112355Z
UID:10000989-1756252800-1756339199@lafertemace.fr
SUMMARY:Musée du jouet (juillet et août)
DESCRIPTION:En juillet et août\, le Musée du Jouet est ouvert : \nLes mercredis\, jeudis\, vendredis et samedis de 14h à 17h (sauf 15 août) \nRetrouvez :  \n\njeux en libre accès\nlivret-jeux enfant dès 7 ans\njeu d’observation : Retrouve les animaux du musée
URL:https://lafertemace.fr/event/musee-du-jouet-juillet-et-aout/2025-08-27/
LOCATION:Musée du Jouet\, Rue de la Victoire\, La Ferté-Macé\, 61600
CATEGORIES:Expositions,Loisirs,Patrimoine,Sports et Loisirs
ATTACH;FMTTYPE=image/jpeg:https://lafertemace.fr/wp-content/uploads/2023/12/20230317_105609-scaled.jpg
ORGANIZER;CN="Service Culture%2C Sports et Loisirs":MAILTO:sports.loisirs@lafertemace.fr
END:VEVENT
BEGIN:VEVENT
DTSTART;VALUE=DATE:20250826
DTEND;VALUE=DATE:20250827
DTSTAMP:20260419T181048
CREATED:20250725T094303Z
LAST-MODIFIED:20250725T094303Z
UID:10001144-1756166400-1756252799@lafertemace.fr
SUMMARY:Jeux de plein air
DESCRIPTION:Juillet et Août : tous les mardis et jeudis dès 14h à la Base de Loisirs\, l’association Les amis des Jeux vous proposent des jeux de plein air. \nGratuit pour tous
URL:https://lafertemace.fr/event/jeux-de-plein-air/2025-08-26/
LOCATION:Base de Loisirs\, Bd de la Forêt d'Andaine\, La Ferté-Macé\, 61600
CATEGORIES:Loisirs,Plein air,Sports et Loisirs
ATTACH;FMTTYPE=image/jpeg:https://lafertemace.fr/wp-content/uploads/2016/05/2012-manifestations-jeux-anciens-festival-des-jeux-Base-de-loisirs-jeu-de-quilles-1-e1463744110911.jpg
ORGANIZER;CN="Les amis des jeux":MAILTO:albert.le-monnier@wanadoo.fr
END:VEVENT
BEGIN:VEVENT
DTSTART;TZID=Europe/Helsinki:20250824T100000
DTEND;TZID=Europe/Helsinki:20250824T120000
DTSTAMP:20260419T181048
CREATED:20250715T100033Z
LAST-MODIFIED:20250715T100033Z
UID:10001220-1756029600-1756036800@lafertemace.fr
SUMMARY:La matinale biodynamique
DESCRIPTION:
URL:https://lafertemace.fr/event/la-matinale-biodynamique/2025-08-24/
LOCATION:Salle des arts martiaux Mélanie Lemée\, Rue des Noisetiers\, La Ferté-Macé\, 61600
CATEGORIES:Sports et Loisirs
ATTACH;FMTTYPE=image/jpeg:https://lafertemace.fr/wp-content/uploads/2021/06/Salle-Melanie-Lemee-3-e1649770115286.jpg
END:VEVENT
BEGIN:VEVENT
DTSTART;VALUE=DATE:20250824
DTEND;VALUE=DATE:20250825
DTSTAMP:20260419T181048
CREATED:20250514T153346Z
LAST-MODIFIED:20250725T092401Z
UID:10001134-1755993600-1756079999@lafertemace.fr
SUMMARY:Hydromodélisme
DESCRIPTION:Démonstrations d’hydromodélisme sur la base de loisirs. Accès par La Brochardière
URL:https://lafertemace.fr/event/hydromodelisme/2025-08-24/
LOCATION:Base de Loisirs\, Bd de la Forêt d'Andaine\, La Ferté-Macé\, 61600
CATEGORIES:Loisirs,Plein air,Sports et Loisirs
ATTACH;FMTTYPE=image/jpeg:https://lafertemace.fr/wp-content/uploads/2023/01/2023-hydromodelisme.jpg
ORGANIZER;CN="Club Hydromod%C3%A9lisme Fertois":MAILTO:chmf61@gmail.com
END:VEVENT
BEGIN:VEVENT
DTSTART;VALUE=DATE:20250823
DTEND;VALUE=DATE:20250824
DTSTAMP:20260419T181048
CREATED:20241018T112355Z
LAST-MODIFIED:20241018T112355Z
UID:10000988-1755907200-1755993599@lafertemace.fr
SUMMARY:Musée du jouet (juillet et août)
DESCRIPTION:En juillet et août\, le Musée du Jouet est ouvert : \nLes mercredis\, jeudis\, vendredis et samedis de 14h à 17h (sauf 15 août) \nRetrouvez :  \n\njeux en libre accès\nlivret-jeux enfant dès 7 ans\njeu d’observation : Retrouve les animaux du musée
URL:https://lafertemace.fr/event/musee-du-jouet-juillet-et-aout/2025-08-23/
LOCATION:Musée du Jouet\, Rue de la Victoire\, La Ferté-Macé\, 61600
CATEGORIES:Expositions,Loisirs,Patrimoine,Sports et Loisirs
ATTACH;FMTTYPE=image/jpeg:https://lafertemace.fr/wp-content/uploads/2023/12/20230317_105609-scaled.jpg
ORGANIZER;CN="Service Culture%2C Sports et Loisirs":MAILTO:sports.loisirs@lafertemace.fr
END:VEVENT
BEGIN:VEVENT
DTSTART;VALUE=DATE:20250822
DTEND;VALUE=DATE:20250823
DTSTAMP:20260419T181048
CREATED:20250515T141115Z
LAST-MODIFIED:20250515T141115Z
UID:10001348-1755820800-1755907199@lafertemace.fr
SUMMARY:Ciné Plein air
DESCRIPTION:Séance de cinéma en plein air : « Les petites victoires ». Place du Gal Leclerc\, parvis de l’Eglise. \nGratuit pour tous \nDes chaises seront à votre disposition mais si vous préférez\, vous pouvez amener la vôtre et une couverture ou un plaid pour profiter confortablement du film
URL:https://lafertemace.fr/event/cine-plein-air-3/2025-08-22/
CATEGORIES:Cinéma,Loisirs,Plein air,Sports et Loisirs
ATTACH;FMTTYPE=image/jpeg:https://lafertemace.fr/wp-content/uploads/2024/06/2014-cine-plein-air-005-1-scaled.jpg
ORGANIZER;CN="Cin%C3%A9Fert%C3%A9":MAILTO:cinemagerardphilipe@wanadoo.fr
END:VEVENT
BEGIN:VEVENT
DTSTART;VALUE=DATE:20250822
DTEND;VALUE=DATE:20250823
DTSTAMP:20260419T181048
CREATED:20241018T112355Z
LAST-MODIFIED:20241018T112355Z
UID:10000987-1755820800-1755907199@lafertemace.fr
SUMMARY:Musée du jouet (juillet et août)
DESCRIPTION:En juillet et août\, le Musée du Jouet est ouvert : \nLes mercredis\, jeudis\, vendredis et samedis de 14h à 17h (sauf 15 août) \nRetrouvez :  \n\njeux en libre accès\nlivret-jeux enfant dès 7 ans\njeu d’observation : Retrouve les animaux du musée
URL:https://lafertemace.fr/event/musee-du-jouet-juillet-et-aout/2025-08-22/
LOCATION:Musée du Jouet\, Rue de la Victoire\, La Ferté-Macé\, 61600
CATEGORIES:Expositions,Loisirs,Patrimoine,Sports et Loisirs
ATTACH;FMTTYPE=image/jpeg:https://lafertemace.fr/wp-content/uploads/2023/12/20230317_105609-scaled.jpg
ORGANIZER;CN="Service Culture%2C Sports et Loisirs":MAILTO:sports.loisirs@lafertemace.fr
END:VEVENT
END:VCALENDAR