BEGIN:VCALENDAR
VERSION:2.0
PRODID:-//Ville de La Ferté-Macé - ECPv6.15.20//NONSGML v1.0//EN
CALSCALE:GREGORIAN
METHOD:PUBLISH
X-ORIGINAL-URL:https://lafertemace.fr
X-WR-CALDESC:Évènements pour Ville de La Ferté-Macé
REFRESH-INTERVAL;VALUE=DURATION:PT1H
X-Robots-Tag:noindex
X-PUBLISHED-TTL:PT1H
BEGIN:VTIMEZONE
TZID:Europe/Helsinki
BEGIN:DAYLIGHT
TZOFFSETFROM:+0200
TZOFFSETTO:+0300
TZNAME:EEST
DTSTART:20240331T010000
END:DAYLIGHT
BEGIN:STANDARD
TZOFFSETFROM:+0300
TZOFFSETTO:+0200
TZNAME:EET
DTSTART:20241027T010000
END:STANDARD
BEGIN:DAYLIGHT
TZOFFSETFROM:+0200
TZOFFSETTO:+0300
TZNAME:EEST
DTSTART:20250330T010000
END:DAYLIGHT
BEGIN:STANDARD
TZOFFSETFROM:+0300
TZOFFSETTO:+0200
TZNAME:EET
DTSTART:20251026T010000
END:STANDARD
BEGIN:DAYLIGHT
TZOFFSETFROM:+0200
TZOFFSETTO:+0300
TZNAME:EEST
DTSTART:20260329T010000
END:DAYLIGHT
BEGIN:STANDARD
TZOFFSETFROM:+0300
TZOFFSETTO:+0200
TZNAME:EET
DTSTART:20261025T010000
END:STANDARD
END:VTIMEZONE
BEGIN:VEVENT
DTSTART;TZID=Europe/Helsinki:20250807T143000
DTEND;TZID=Europe/Helsinki:20250807T143000
DTSTAMP:20260419T224730
CREATED:20250212T152452Z
LAST-MODIFIED:20250304T114351Z
UID:10001940-1754577000-1754577000@lafertemace.fr
SUMMARY:Visites de la ville
DESCRIPTION:Visite commentée au départ de l’Office de Tourisme (Rue de la Victoire)\nVenez découvrir les richesses de notre ville : église romane\, église Notre Dame\, Trésorama (exposition d’objets liturgiques et religieux)\, Mairie (salle de mariages\, tableaux de peintures..). \nSur réservation\, 02 33 37 10 97
URL:https://lafertemace.fr/event/visites-de-la-ville/2025-08-07/
LOCATION:Office de Tourisme\, 11 Rue de La Victoire\, La Ferté-Macé\, 61600\, France
CATEGORIES:Loisirs,Patrimoine,Sports et Loisirs
ATTACH;FMTTYPE=image/jpeg:https://lafertemace.fr/wp-content/uploads/2022/09/2022-eglise-inauguration.jpg
END:VEVENT
BEGIN:VEVENT
DTSTART;VALUE=DATE:20250807
DTEND;VALUE=DATE:20250808
DTSTAMP:20260419T224730
CREATED:20250725T094303Z
LAST-MODIFIED:20250725T094303Z
UID:10001139-1754524800-1754611199@lafertemace.fr
SUMMARY:Jeux de plein air
DESCRIPTION:Juillet et Août : tous les mardis et jeudis dès 14h à la Base de Loisirs\, l’association Les amis des Jeux vous proposent des jeux de plein air. \nGratuit pour tous
URL:https://lafertemace.fr/event/jeux-de-plein-air/2025-08-07/
LOCATION:Base de Loisirs\, Bd de la Forêt d'Andaine\, La Ferté-Macé\, 61600
CATEGORIES:Loisirs,Plein air,Sports et Loisirs
ATTACH;FMTTYPE=image/jpeg:https://lafertemace.fr/wp-content/uploads/2016/05/2012-manifestations-jeux-anciens-festival-des-jeux-Base-de-loisirs-jeu-de-quilles-1-e1463744110911.jpg
ORGANIZER;CN="Les amis des jeux":MAILTO:albert.le-monnier@wanadoo.fr
END:VEVENT
BEGIN:VEVENT
DTSTART;VALUE=DATE:20250807
DTEND;VALUE=DATE:20250808
DTSTAMP:20260419T224730
CREATED:20241018T112355Z
LAST-MODIFIED:20241018T112355Z
UID:10000978-1754524800-1754611199@lafertemace.fr
SUMMARY:Musée du jouet (juillet et août)
DESCRIPTION:En juillet et août\, le Musée du Jouet est ouvert : \nLes mercredis\, jeudis\, vendredis et samedis de 14h à 17h (sauf 15 août) \nRetrouvez :  \n\njeux en libre accès\nlivret-jeux enfant dès 7 ans\njeu d’observation : Retrouve les animaux du musée
URL:https://lafertemace.fr/event/musee-du-jouet-juillet-et-aout/2025-08-07/
LOCATION:Musée du Jouet\, Rue de la Victoire\, La Ferté-Macé\, 61600
CATEGORIES:Expositions,Loisirs,Patrimoine,Sports et Loisirs
ATTACH;FMTTYPE=image/jpeg:https://lafertemace.fr/wp-content/uploads/2023/12/20230317_105609-scaled.jpg
ORGANIZER;CN="Service Culture%2C Sports et Loisirs":MAILTO:sports.loisirs@lafertemace.fr
END:VEVENT
BEGIN:VEVENT
DTSTART;VALUE=DATE:20250806
DTEND;VALUE=DATE:20250807
DTSTAMP:20260419T224730
CREATED:20241018T112355Z
LAST-MODIFIED:20241018T112355Z
UID:10000977-1754438400-1754524799@lafertemace.fr
SUMMARY:Musée du jouet (juillet et août)
DESCRIPTION:En juillet et août\, le Musée du Jouet est ouvert : \nLes mercredis\, jeudis\, vendredis et samedis de 14h à 17h (sauf 15 août) \nRetrouvez :  \n\njeux en libre accès\nlivret-jeux enfant dès 7 ans\njeu d’observation : Retrouve les animaux du musée
URL:https://lafertemace.fr/event/musee-du-jouet-juillet-et-aout/2025-08-06/
LOCATION:Musée du Jouet\, Rue de la Victoire\, La Ferté-Macé\, 61600
CATEGORIES:Expositions,Loisirs,Patrimoine,Sports et Loisirs
ATTACH;FMTTYPE=image/jpeg:https://lafertemace.fr/wp-content/uploads/2023/12/20230317_105609-scaled.jpg
ORGANIZER;CN="Service Culture%2C Sports et Loisirs":MAILTO:sports.loisirs@lafertemace.fr
END:VEVENT
BEGIN:VEVENT
DTSTART;VALUE=DATE:20250805
DTEND;VALUE=DATE:20250806
DTSTAMP:20260419T224731
CREATED:20250725T094303Z
LAST-MODIFIED:20250725T094303Z
UID:10001138-1754352000-1754438399@lafertemace.fr
SUMMARY:Jeux de plein air
DESCRIPTION:Juillet et Août : tous les mardis et jeudis dès 14h à la Base de Loisirs\, l’association Les amis des Jeux vous proposent des jeux de plein air. \nGratuit pour tous
URL:https://lafertemace.fr/event/jeux-de-plein-air/2025-08-05/
LOCATION:Base de Loisirs\, Bd de la Forêt d'Andaine\, La Ferté-Macé\, 61600
CATEGORIES:Loisirs,Plein air,Sports et Loisirs
ATTACH;FMTTYPE=image/jpeg:https://lafertemace.fr/wp-content/uploads/2016/05/2012-manifestations-jeux-anciens-festival-des-jeux-Base-de-loisirs-jeu-de-quilles-1-e1463744110911.jpg
ORGANIZER;CN="Les amis des jeux":MAILTO:albert.le-monnier@wanadoo.fr
END:VEVENT
BEGIN:VEVENT
DTSTART;TZID=Europe/Helsinki:20250803T100000
DTEND;TZID=Europe/Helsinki:20250803T120000
DTSTAMP:20260419T224731
CREATED:20250715T100033Z
LAST-MODIFIED:20250715T100033Z
UID:10001219-1754215200-1754222400@lafertemace.fr
SUMMARY:La matinale biodynamique
DESCRIPTION:
URL:https://lafertemace.fr/event/la-matinale-biodynamique/2025-08-03/
LOCATION:Salle des arts martiaux Mélanie Lemée\, Rue des Noisetiers\, La Ferté-Macé\, 61600
CATEGORIES:Sports et Loisirs
ATTACH;FMTTYPE=image/jpeg:https://lafertemace.fr/wp-content/uploads/2021/06/Salle-Melanie-Lemee-3-e1649770115286.jpg
END:VEVENT
BEGIN:VEVENT
DTSTART;VALUE=DATE:20250802
DTEND;VALUE=DATE:20250803
DTSTAMP:20260419T224731
CREATED:20241018T112355Z
LAST-MODIFIED:20241018T112355Z
UID:10000976-1754092800-1754179199@lafertemace.fr
SUMMARY:Musée du jouet (juillet et août)
DESCRIPTION:En juillet et août\, le Musée du Jouet est ouvert : \nLes mercredis\, jeudis\, vendredis et samedis de 14h à 17h (sauf 15 août) \nRetrouvez :  \n\njeux en libre accès\nlivret-jeux enfant dès 7 ans\njeu d’observation : Retrouve les animaux du musée
URL:https://lafertemace.fr/event/musee-du-jouet-juillet-et-aout/2025-08-02/
LOCATION:Musée du Jouet\, Rue de la Victoire\, La Ferté-Macé\, 61600
CATEGORIES:Expositions,Loisirs,Patrimoine,Sports et Loisirs
ATTACH;FMTTYPE=image/jpeg:https://lafertemace.fr/wp-content/uploads/2023/12/20230317_105609-scaled.jpg
ORGANIZER;CN="Service Culture%2C Sports et Loisirs":MAILTO:sports.loisirs@lafertemace.fr
END:VEVENT
BEGIN:VEVENT
DTSTART;VALUE=DATE:20250801
DTEND;VALUE=DATE:20250802
DTSTAMP:20260419T224731
CREATED:20241018T112355Z
LAST-MODIFIED:20241018T112355Z
UID:10000975-1754006400-1754092799@lafertemace.fr
SUMMARY:Musée du jouet (juillet et août)
DESCRIPTION:En juillet et août\, le Musée du Jouet est ouvert : \nLes mercredis\, jeudis\, vendredis et samedis de 14h à 17h (sauf 15 août) \nRetrouvez :  \n\njeux en libre accès\nlivret-jeux enfant dès 7 ans\njeu d’observation : Retrouve les animaux du musée
URL:https://lafertemace.fr/event/musee-du-jouet-juillet-et-aout/2025-08-01/
LOCATION:Musée du Jouet\, Rue de la Victoire\, La Ferté-Macé\, 61600
CATEGORIES:Expositions,Loisirs,Patrimoine,Sports et Loisirs
ATTACH;FMTTYPE=image/jpeg:https://lafertemace.fr/wp-content/uploads/2023/12/20230317_105609-scaled.jpg
ORGANIZER;CN="Service Culture%2C Sports et Loisirs":MAILTO:sports.loisirs@lafertemace.fr
END:VEVENT
BEGIN:VEVENT
DTSTART;TZID=Europe/Helsinki:20250731T143000
DTEND;TZID=Europe/Helsinki:20250731T143000
DTSTAMP:20260419T224731
CREATED:20250212T152452Z
LAST-MODIFIED:20250304T114351Z
UID:10001939-1753972200-1753972200@lafertemace.fr
SUMMARY:Visites de la ville
DESCRIPTION:Visite commentée au départ de l’Office de Tourisme (Rue de la Victoire)\nVenez découvrir les richesses de notre ville : église romane\, église Notre Dame\, Trésorama (exposition d’objets liturgiques et religieux)\, Mairie (salle de mariages\, tableaux de peintures..). \nSur réservation\, 02 33 37 10 97
URL:https://lafertemace.fr/event/visites-de-la-ville/2025-07-31/
LOCATION:Office de Tourisme\, 11 Rue de La Victoire\, La Ferté-Macé\, 61600\, France
CATEGORIES:Loisirs,Patrimoine,Sports et Loisirs
ATTACH;FMTTYPE=image/jpeg:https://lafertemace.fr/wp-content/uploads/2022/09/2022-eglise-inauguration.jpg
END:VEVENT
BEGIN:VEVENT
DTSTART;VALUE=DATE:20250731
DTEND;VALUE=DATE:20250801
DTSTAMP:20260419T224731
CREATED:20250725T094303Z
LAST-MODIFIED:20250725T094303Z
UID:10001137-1753920000-1754006399@lafertemace.fr
SUMMARY:Jeux de plein air
DESCRIPTION:Juillet et Août : tous les mardis et jeudis dès 14h à la Base de Loisirs\, l’association Les amis des Jeux vous proposent des jeux de plein air. \nGratuit pour tous
URL:https://lafertemace.fr/event/jeux-de-plein-air/2025-07-31/
LOCATION:Base de Loisirs\, Bd de la Forêt d'Andaine\, La Ferté-Macé\, 61600
CATEGORIES:Loisirs,Plein air,Sports et Loisirs
ATTACH;FMTTYPE=image/jpeg:https://lafertemace.fr/wp-content/uploads/2016/05/2012-manifestations-jeux-anciens-festival-des-jeux-Base-de-loisirs-jeu-de-quilles-1-e1463744110911.jpg
ORGANIZER;CN="Les amis des jeux":MAILTO:albert.le-monnier@wanadoo.fr
END:VEVENT
BEGIN:VEVENT
DTSTART;VALUE=DATE:20250731
DTEND;VALUE=DATE:20250801
DTSTAMP:20260419T224731
CREATED:20250722T163237Z
LAST-MODIFIED:20250722T163328Z
UID:10001208-1753920000-1754006399@lafertemace.fr
SUMMARY:Beach Basket Tour
DESCRIPTION:Initiation au basket\, sur l’aire de beach de la Base de Loisirs. \nGratuit et ouvert à tous. Organisation Ligue Régionale de Normandie basket ball.  \nContact : Service Culture\, Sports et Loisirs\, 02 33 37 38 10
URL:https://lafertemace.fr/event/beach-basket-tour-2/
LOCATION:Base de Loisirs\, Bd de la Forêt d'Andaine\, La Ferté-Macé\, 61600
CATEGORIES:Loisirs,Plein air,Sports et Loisirs
ATTACH;FMTTYPE=image/jpeg:https://lafertemace.fr/wp-content/uploads/2021/06/2021-ete-Base-de-loisirs-juin-4-scaled-e1718703974578.jpg
ORGANIZER;CN="Service Culture%2C Sports et Loisirs":MAILTO:sports.loisirs@lafertemace.fr
END:VEVENT
BEGIN:VEVENT
DTSTART;VALUE=DATE:20250731
DTEND;VALUE=DATE:20250801
DTSTAMP:20260419T224731
CREATED:20241018T112355Z
LAST-MODIFIED:20241018T112355Z
UID:10000974-1753920000-1754006399@lafertemace.fr
SUMMARY:Musée du jouet (juillet et août)
DESCRIPTION:En juillet et août\, le Musée du Jouet est ouvert : \nLes mercredis\, jeudis\, vendredis et samedis de 14h à 17h (sauf 15 août) \nRetrouvez :  \n\njeux en libre accès\nlivret-jeux enfant dès 7 ans\njeu d’observation : Retrouve les animaux du musée
URL:https://lafertemace.fr/event/musee-du-jouet-juillet-et-aout/2025-07-31/
LOCATION:Musée du Jouet\, Rue de la Victoire\, La Ferté-Macé\, 61600
CATEGORIES:Expositions,Loisirs,Patrimoine,Sports et Loisirs
ATTACH;FMTTYPE=image/jpeg:https://lafertemace.fr/wp-content/uploads/2023/12/20230317_105609-scaled.jpg
ORGANIZER;CN="Service Culture%2C Sports et Loisirs":MAILTO:sports.loisirs@lafertemace.fr
END:VEVENT
BEGIN:VEVENT
DTSTART;TZID=Europe/Helsinki:20250730T100000
DTEND;TZID=Europe/Helsinki:20250730T120000
DTSTAMP:20260419T224731
CREATED:20250715T100443Z
LAST-MODIFIED:20250715T100443Z
UID:10000558-1753869600-1753876800@lafertemace.fr
SUMMARY:Ballade festive
DESCRIPTION:
URL:https://lafertemace.fr/event/ballade-festive/2025-07-30/
LOCATION:Base de Loisirs\, Bd de la Forêt d'Andaine\, La Ferté-Macé\, 61600
CATEGORIES:Sports et Loisirs
ATTACH;FMTTYPE=image/jpeg:https://lafertemace.fr/wp-content/uploads/2016/07/Base-de-loisirs-X-2000.jpg
END:VEVENT
BEGIN:VEVENT
DTSTART;VALUE=DATE:20250730
DTEND;VALUE=DATE:20250731
DTSTAMP:20260419T224731
CREATED:20241018T112355Z
LAST-MODIFIED:20241018T112355Z
UID:10000973-1753833600-1753919999@lafertemace.fr
SUMMARY:Musée du jouet (juillet et août)
DESCRIPTION:En juillet et août\, le Musée du Jouet est ouvert : \nLes mercredis\, jeudis\, vendredis et samedis de 14h à 17h (sauf 15 août) \nRetrouvez :  \n\njeux en libre accès\nlivret-jeux enfant dès 7 ans\njeu d’observation : Retrouve les animaux du musée
URL:https://lafertemace.fr/event/musee-du-jouet-juillet-et-aout/2025-07-30/
LOCATION:Musée du Jouet\, Rue de la Victoire\, La Ferté-Macé\, 61600
CATEGORIES:Expositions,Loisirs,Patrimoine,Sports et Loisirs
ATTACH;FMTTYPE=image/jpeg:https://lafertemace.fr/wp-content/uploads/2023/12/20230317_105609-scaled.jpg
ORGANIZER;CN="Service Culture%2C Sports et Loisirs":MAILTO:sports.loisirs@lafertemace.fr
END:VEVENT
BEGIN:VEVENT
DTSTART;VALUE=DATE:20250729
DTEND;VALUE=DATE:20250730
DTSTAMP:20260419T224731
CREATED:20250725T094303Z
LAST-MODIFIED:20250725T094303Z
UID:10001136-1753747200-1753833599@lafertemace.fr
SUMMARY:Jeux de plein air
DESCRIPTION:Juillet et Août : tous les mardis et jeudis dès 14h à la Base de Loisirs\, l’association Les amis des Jeux vous proposent des jeux de plein air. \nGratuit pour tous
URL:https://lafertemace.fr/event/jeux-de-plein-air/2025-07-29/
LOCATION:Base de Loisirs\, Bd de la Forêt d'Andaine\, La Ferté-Macé\, 61600
CATEGORIES:Loisirs,Plein air,Sports et Loisirs
ATTACH;FMTTYPE=image/jpeg:https://lafertemace.fr/wp-content/uploads/2016/05/2012-manifestations-jeux-anciens-festival-des-jeux-Base-de-loisirs-jeu-de-quilles-1-e1463744110911.jpg
ORGANIZER;CN="Les amis des jeux":MAILTO:albert.le-monnier@wanadoo.fr
END:VEVENT
BEGIN:VEVENT
DTSTART;VALUE=DATE:20250728
DTEND;VALUE=DATE:20250815
DTSTAMP:20260419T224731
CREATED:20250521T155016Z
LAST-MODIFIED:20250616T145018Z
UID:10001404-1753660800-1755215999@lafertemace.fr
SUMMARY:Après-midis multisports
DESCRIPTION:Après-midis multisports à la Base de Loisirs \n\nDu Mardi 28/07 au Vendredi 01/08\nDu Mardi 04 au Vendredi 08/08\nDu Lundi  11 au Jeudi 14/08\n\nTarif : 3 € pour les Fertois\, 5 € pour les extérieurs.\nInscriptions : Service Culture\, Sports et Loisirs\, 02 33 37 38 10
URL:https://lafertemace.fr/event/apres-midis-multisports/
LOCATION:Base de Loisirs\, Bd de la Forêt d'Andaine\, La Ferté-Macé\, 61600
CATEGORIES:Loisirs,Plein air,Sports,Sports et Loisirs
ATTACH;FMTTYPE=image/jpeg:https://lafertemace.fr/wp-content/uploads/2016/07/Multisports-X540.jpg
ORGANIZER;CN="Service Culture%2C Sports et Loisirs":MAILTO:sports.loisirs@lafertemace.fr
END:VEVENT
BEGIN:VEVENT
DTSTART;TZID=Europe/Helsinki:20250726T210000
DTEND;TZID=Europe/Helsinki:20250726T210000
DTSTAMP:20260419T224731
CREATED:20250519T140154Z
LAST-MODIFIED:20250707T143238Z
UID:10001352-1753563600-1753563600@lafertemace.fr
SUMMARY:Les rendez-vous de l'été
DESCRIPTION:Les rendez-vous de l’été avec Anim’Ferté. Samedi 26 juillet au Parc Barré Saint.
URL:https://lafertemace.fr/event/les-rendez-vous-de-lete/2025-07-26/
LOCATION:Parc Barré Saint\, Rue F. Desaunay / Rue du Dr Poulain\, La Ferté-Macé
CATEGORIES:Concert - Spectacle - Débat,Loisirs,Plein air,Sports et Loisirs
ATTACH;FMTTYPE=image/jpeg:https://lafertemace.fr/wp-content/uploads/2017/01/animferté.jpg
ORGANIZER;CN="ANIM'FERTE":MAILTO:thierry.pottier@gmail.com
END:VEVENT
BEGIN:VEVENT
DTSTART;TZID=Europe/Helsinki:20250726T143000
DTEND;TZID=Europe/Helsinki:20250726T143000
DTSTAMP:20260419T224731
CREATED:20250212T154953Z
LAST-MODIFIED:20250304T114442Z
UID:10001945-1753540200-1753540200@lafertemace.fr
SUMMARY:Balade greeter
DESCRIPTION:Balade greeter avec Michel Louvel « les maisons bourgeoises »\nA 14h30\, à l’office de Tourisme\nsur réservation\n6 personnes maximum
URL:https://lafertemace.fr/event/balade-greeter/2025-07-26/
LOCATION:Office de Tourisme\, 11 Rue de La Victoire\, La Ferté-Macé\, 61600\, France
CATEGORIES:Loisirs,Patrimoine,Plein air,Sports et Loisirs
ATTACH;FMTTYPE=image/jpeg:https://lafertemace.fr/wp-content/uploads/2022/09/2022-eglise-inauguration.jpg
END:VEVENT
BEGIN:VEVENT
DTSTART;VALUE=DATE:20250726
DTEND;VALUE=DATE:20250727
DTSTAMP:20260419T224731
CREATED:20241018T112355Z
LAST-MODIFIED:20241018T112355Z
UID:10000972-1753488000-1753574399@lafertemace.fr
SUMMARY:Musée du jouet (juillet et août)
DESCRIPTION:En juillet et août\, le Musée du Jouet est ouvert : \nLes mercredis\, jeudis\, vendredis et samedis de 14h à 17h (sauf 15 août) \nRetrouvez :  \n\njeux en libre accès\nlivret-jeux enfant dès 7 ans\njeu d’observation : Retrouve les animaux du musée
URL:https://lafertemace.fr/event/musee-du-jouet-juillet-et-aout/2025-07-26/
LOCATION:Musée du Jouet\, Rue de la Victoire\, La Ferté-Macé\, 61600
CATEGORIES:Expositions,Loisirs,Patrimoine,Sports et Loisirs
ATTACH;FMTTYPE=image/jpeg:https://lafertemace.fr/wp-content/uploads/2023/12/20230317_105609-scaled.jpg
ORGANIZER;CN="Service Culture%2C Sports et Loisirs":MAILTO:sports.loisirs@lafertemace.fr
END:VEVENT
BEGIN:VEVENT
DTSTART;TZID=Europe/Helsinki:20250725T140000
DTEND;TZID=Europe/Helsinki:20250725T170000
DTSTAMP:20260419T224731
CREATED:20250722T165314Z
LAST-MODIFIED:20250722T165314Z
UID:10001229-1753452000-1753462800@lafertemace.fr
SUMMARY:BIJ TOUR
DESCRIPTION:BIJ Tour de 14h à 17h à la Base de Loisirs. \n 
URL:https://lafertemace.fr/event/bij-tour-2/2025-07-25/
LOCATION:Base de Loisirs\, Bd de la Forêt d'Andaine\, La Ferté-Macé\, 61600
CATEGORIES:Loisirs,Plein air,Sports et Loisirs
ATTACH;FMTTYPE=image/jpeg:https://lafertemace.fr/wp-content/uploads/2018/07/AVATAR_BIJ-tour-2018.jpg
ORGANIZER;CN="Service Culture%2C Sports et Loisirs":MAILTO:sports.loisirs@lafertemace.fr
END:VEVENT
BEGIN:VEVENT
DTSTART;VALUE=DATE:20250725
DTEND;VALUE=DATE:20250726
DTSTAMP:20260419T224731
CREATED:20241018T112355Z
LAST-MODIFIED:20241018T112355Z
UID:10000971-1753401600-1753487999@lafertemace.fr
SUMMARY:Musée du jouet (juillet et août)
DESCRIPTION:En juillet et août\, le Musée du Jouet est ouvert : \nLes mercredis\, jeudis\, vendredis et samedis de 14h à 17h (sauf 15 août) \nRetrouvez :  \n\njeux en libre accès\nlivret-jeux enfant dès 7 ans\njeu d’observation : Retrouve les animaux du musée
URL:https://lafertemace.fr/event/musee-du-jouet-juillet-et-aout/2025-07-25/
LOCATION:Musée du Jouet\, Rue de la Victoire\, La Ferté-Macé\, 61600
CATEGORIES:Expositions,Loisirs,Patrimoine,Sports et Loisirs
ATTACH;FMTTYPE=image/jpeg:https://lafertemace.fr/wp-content/uploads/2023/12/20230317_105609-scaled.jpg
ORGANIZER;CN="Service Culture%2C Sports et Loisirs":MAILTO:sports.loisirs@lafertemace.fr
END:VEVENT
BEGIN:VEVENT
DTSTART;TZID=Europe/Helsinki:20250724T143000
DTEND;TZID=Europe/Helsinki:20250724T143000
DTSTAMP:20260419T224731
CREATED:20250212T152452Z
LAST-MODIFIED:20250304T114351Z
UID:10001938-1753367400-1753367400@lafertemace.fr
SUMMARY:Visites de la ville
DESCRIPTION:Visite commentée au départ de l’Office de Tourisme (Rue de la Victoire)\nVenez découvrir les richesses de notre ville : église romane\, église Notre Dame\, Trésorama (exposition d’objets liturgiques et religieux)\, Mairie (salle de mariages\, tableaux de peintures..). \nSur réservation\, 02 33 37 10 97
URL:https://lafertemace.fr/event/visites-de-la-ville/2025-07-24/
LOCATION:Office de Tourisme\, 11 Rue de La Victoire\, La Ferté-Macé\, 61600\, France
CATEGORIES:Loisirs,Patrimoine,Sports et Loisirs
ATTACH;FMTTYPE=image/jpeg:https://lafertemace.fr/wp-content/uploads/2022/09/2022-eglise-inauguration.jpg
END:VEVENT
BEGIN:VEVENT
DTSTART;VALUE=DATE:20250724
DTEND;VALUE=DATE:20250725
DTSTAMP:20260419T224731
CREATED:20241018T112355Z
LAST-MODIFIED:20241018T112355Z
UID:10000970-1753315200-1753401599@lafertemace.fr
SUMMARY:Musée du jouet (juillet et août)
DESCRIPTION:En juillet et août\, le Musée du Jouet est ouvert : \nLes mercredis\, jeudis\, vendredis et samedis de 14h à 17h (sauf 15 août) \nRetrouvez :  \n\njeux en libre accès\nlivret-jeux enfant dès 7 ans\njeu d’observation : Retrouve les animaux du musée
URL:https://lafertemace.fr/event/musee-du-jouet-juillet-et-aout/2025-07-24/
LOCATION:Musée du Jouet\, Rue de la Victoire\, La Ferté-Macé\, 61600
CATEGORIES:Expositions,Loisirs,Patrimoine,Sports et Loisirs
ATTACH;FMTTYPE=image/jpeg:https://lafertemace.fr/wp-content/uploads/2023/12/20230317_105609-scaled.jpg
ORGANIZER;CN="Service Culture%2C Sports et Loisirs":MAILTO:sports.loisirs@lafertemace.fr
END:VEVENT
BEGIN:VEVENT
DTSTART;VALUE=DATE:20250723
DTEND;VALUE=DATE:20250724
DTSTAMP:20260419T224731
CREATED:20250616T144122Z
LAST-MODIFIED:20250722T163106Z
UID:10001463-1753228800-1753315199@lafertemace.fr
SUMMARY:Beach basket tour - Reporté au 31 juillet
DESCRIPTION:Initiation au basket\, sur l’aire de beach de la Base de Loisirs. \nGratuit et ouvert à tous. Organisation Ligue Régionale de Normandie basket ball.  \nContact : Service Culture\, Sports et Loisirs\, 02 33 37 38 10
URL:https://lafertemace.fr/event/beach-basket-tour/2025-07-23/
LOCATION:Base de Loisirs\, Bd de la Forêt d'Andaine\, La Ferté-Macé\, 61600
CATEGORIES:Loisirs,Plein air,Sports,Sports et Loisirs
ATTACH;FMTTYPE=image/jpeg:https://lafertemace.fr/wp-content/uploads/2021/06/2021-ete-Base-de-loisirs-juin-4-scaled-e1718703974578.jpg
ORGANIZER;CN="Service Culture%2C Sports et Loisirs":MAILTO:sports.loisirs@lafertemace.fr
END:VEVENT
BEGIN:VEVENT
DTSTART;VALUE=DATE:20250723
DTEND;VALUE=DATE:20250724
DTSTAMP:20260419T224731
CREATED:20241018T112355Z
LAST-MODIFIED:20241018T112355Z
UID:10000969-1753228800-1753315199@lafertemace.fr
SUMMARY:Musée du jouet (juillet et août)
DESCRIPTION:En juillet et août\, le Musée du Jouet est ouvert : \nLes mercredis\, jeudis\, vendredis et samedis de 14h à 17h (sauf 15 août) \nRetrouvez :  \n\njeux en libre accès\nlivret-jeux enfant dès 7 ans\njeu d’observation : Retrouve les animaux du musée
URL:https://lafertemace.fr/event/musee-du-jouet-juillet-et-aout/2025-07-23/
LOCATION:Musée du Jouet\, Rue de la Victoire\, La Ferté-Macé\, 61600
CATEGORIES:Expositions,Loisirs,Patrimoine,Sports et Loisirs
ATTACH;FMTTYPE=image/jpeg:https://lafertemace.fr/wp-content/uploads/2023/12/20230317_105609-scaled.jpg
ORGANIZER;CN="Service Culture%2C Sports et Loisirs":MAILTO:sports.loisirs@lafertemace.fr
END:VEVENT
BEGIN:VEVENT
DTSTART;VALUE=DATE:20250719
DTEND;VALUE=DATE:20250720
DTSTAMP:20260419T224731
CREATED:20241018T112355Z
LAST-MODIFIED:20241018T112355Z
UID:10000968-1752883200-1752969599@lafertemace.fr
SUMMARY:Musée du jouet (juillet et août)
DESCRIPTION:En juillet et août\, le Musée du Jouet est ouvert : \nLes mercredis\, jeudis\, vendredis et samedis de 14h à 17h (sauf 15 août) \nRetrouvez :  \n\njeux en libre accès\nlivret-jeux enfant dès 7 ans\njeu d’observation : Retrouve les animaux du musée
URL:https://lafertemace.fr/event/musee-du-jouet-juillet-et-aout/2025-07-19/
LOCATION:Musée du Jouet\, Rue de la Victoire\, La Ferté-Macé\, 61600
CATEGORIES:Expositions,Loisirs,Patrimoine,Sports et Loisirs
ATTACH;FMTTYPE=image/jpeg:https://lafertemace.fr/wp-content/uploads/2023/12/20230317_105609-scaled.jpg
ORGANIZER;CN="Service Culture%2C Sports et Loisirs":MAILTO:sports.loisirs@lafertemace.fr
END:VEVENT
BEGIN:VEVENT
DTSTART;VALUE=DATE:20250718
DTEND;VALUE=DATE:20250719
DTSTAMP:20260419T224731
CREATED:20241018T112355Z
LAST-MODIFIED:20241018T112355Z
UID:10000967-1752796800-1752883199@lafertemace.fr
SUMMARY:Musée du jouet (juillet et août)
DESCRIPTION:En juillet et août\, le Musée du Jouet est ouvert : \nLes mercredis\, jeudis\, vendredis et samedis de 14h à 17h (sauf 15 août) \nRetrouvez :  \n\njeux en libre accès\nlivret-jeux enfant dès 7 ans\njeu d’observation : Retrouve les animaux du musée
URL:https://lafertemace.fr/event/musee-du-jouet-juillet-et-aout/2025-07-18/
LOCATION:Musée du Jouet\, Rue de la Victoire\, La Ferté-Macé\, 61600
CATEGORIES:Expositions,Loisirs,Patrimoine,Sports et Loisirs
ATTACH;FMTTYPE=image/jpeg:https://lafertemace.fr/wp-content/uploads/2023/12/20230317_105609-scaled.jpg
ORGANIZER;CN="Service Culture%2C Sports et Loisirs":MAILTO:sports.loisirs@lafertemace.fr
END:VEVENT
BEGIN:VEVENT
DTSTART;TZID=Europe/Helsinki:20250717T143000
DTEND;TZID=Europe/Helsinki:20250717T143000
DTSTAMP:20260419T224731
CREATED:20250212T152452Z
LAST-MODIFIED:20250304T114351Z
UID:10001937-1752762600-1752762600@lafertemace.fr
SUMMARY:Visites de la ville
DESCRIPTION:Visite commentée au départ de l’Office de Tourisme (Rue de la Victoire)\nVenez découvrir les richesses de notre ville : église romane\, église Notre Dame\, Trésorama (exposition d’objets liturgiques et religieux)\, Mairie (salle de mariages\, tableaux de peintures..). \nSur réservation\, 02 33 37 10 97
URL:https://lafertemace.fr/event/visites-de-la-ville/2025-07-17/
LOCATION:Office de Tourisme\, 11 Rue de La Victoire\, La Ferté-Macé\, 61600\, France
CATEGORIES:Loisirs,Patrimoine,Sports et Loisirs
ATTACH;FMTTYPE=image/jpeg:https://lafertemace.fr/wp-content/uploads/2022/09/2022-eglise-inauguration.jpg
END:VEVENT
BEGIN:VEVENT
DTSTART;TZID=Europe/Helsinki:20250717T100000
DTEND;TZID=Europe/Helsinki:20250717T170000
DTSTAMP:20260419T224731
CREATED:20250129T113140Z
LAST-MODIFIED:20250710T145934Z
UID:10001100-1752746400-1752771600@lafertemace.fr
SUMMARY:Playa Tour
DESCRIPTION:L’UFOLEP Playa Tour\, la première tournée multisports et citoyenne arrive le 17 juillet à La Ferté-Macé ! Une journée gratuite\, ouverte à tous et ludique ! \nUne pratique sportive UFOLEP pour s’amuser\, se dépenser et se dépasser ! \nLes participants auront la possibilité de s’initier à de nombreux sports et de participer\, seuls ou en famille à de multiples activités artistiques et culturelles. \nAlors que 40% de la population ne part pas en vacances* et que 50% de la population* se déclare inactive\, le Playa Tour Ufolep est un engagement fort entre associations et la municipalité pour lutter contre les inégalités d’accès à la pratique sportive. Une réaffirmation du droit aux loisirs pour toutes et tous qui prend tout son sens en période estivale ! \n* Chiffres d’après le Centre d’observation de la société\, 24 juin 2020 & d’après le Centre de recherche pour l’étude et l’observation des conditions de vie. \n  \nPour information il y aura un temps protocolaire à 9h45 avec la présence du président de l’ufolep nationale\, président de l’ufolep régionale\, président ufolep Orne\, président de la ligue de l’enseignement de l’Orne. \n  \nAu programme\, de 10h à 17h \n ⚽  UFO’Challenge : Flag rugby / beach soccer / homeball (CDSA) / basket 3v3 \nIl s’agit d’un espace avec des tournois sur chaque discipline sur les créneaux suivants : 10h30-12h30 et 14h30-16h30. Pour cette partie\, prévoir des équipes de 5 à 8 jeunes pour les structures de loisirs ou groupe constitué. \n  \n   UFO’Games : Spikeball / parcours à l’aveugle / Morpion géant / Tir à la corde / Circuit trainning / Parcours de motricité \n  \n ⛱️  UFO’Sreposer : activité de UFO’Baby / Bâton chinois / Gym douce / Jeux de bois/ vélo smoothie avec le comité olympique de l’Orne \n  \n  Espace skatepark : initiation rollers\, skate\, et trottinette. Deux animateurs seront présents pour accompagner les participants dans la découverte des activités. Les protections seront fournies par les animateurs. \n  \n 
URL:https://lafertemace.fr/event/playa-tour/2025-07-17/
LOCATION:Base de Loisirs\, Bd de la Forêt d'Andaine\, La Ferté-Macé\, 61600
CATEGORIES:Loisirs,Santé - Social,Sports,Sports et Loisirs
ATTACH;FMTTYPE=image/jpeg:https://lafertemace.fr/wp-content/uploads/2025/07/playa-tour_2025-bandeau-site.jpg
ORGANIZER;CN="Service Culture%2C Sports et Loisirs":MAILTO:sports.loisirs@lafertemace.fr
END:VEVENT
BEGIN:VEVENT
DTSTART;VALUE=DATE:20250717
DTEND;VALUE=DATE:20250718
DTSTAMP:20260419T224731
CREATED:20241018T112355Z
LAST-MODIFIED:20241018T112355Z
UID:10000966-1752710400-1752796799@lafertemace.fr
SUMMARY:Musée du jouet (juillet et août)
DESCRIPTION:En juillet et août\, le Musée du Jouet est ouvert : \nLes mercredis\, jeudis\, vendredis et samedis de 14h à 17h (sauf 15 août) \nRetrouvez :  \n\njeux en libre accès\nlivret-jeux enfant dès 7 ans\njeu d’observation : Retrouve les animaux du musée
URL:https://lafertemace.fr/event/musee-du-jouet-juillet-et-aout/2025-07-17/
LOCATION:Musée du Jouet\, Rue de la Victoire\, La Ferté-Macé\, 61600
CATEGORIES:Expositions,Loisirs,Patrimoine,Sports et Loisirs
ATTACH;FMTTYPE=image/jpeg:https://lafertemace.fr/wp-content/uploads/2023/12/20230317_105609-scaled.jpg
ORGANIZER;CN="Service Culture%2C Sports et Loisirs":MAILTO:sports.loisirs@lafertemace.fr
END:VEVENT
END:VCALENDAR