BEGIN:VCALENDAR
VERSION:2.0
PRODID:-//Ville de La Ferté-Macé - ECPv6.15.20//NONSGML v1.0//EN
CALSCALE:GREGORIAN
METHOD:PUBLISH
X-ORIGINAL-URL:https://lafertemace.fr
X-WR-CALDESC:Évènements pour Ville de La Ferté-Macé
REFRESH-INTERVAL;VALUE=DURATION:PT1H
X-Robots-Tag:noindex
X-PUBLISHED-TTL:PT1H
BEGIN:VTIMEZONE
TZID:Europe/Helsinki
BEGIN:DAYLIGHT
TZOFFSETFROM:+0200
TZOFFSETTO:+0300
TZNAME:EEST
DTSTART:20240331T010000
END:DAYLIGHT
BEGIN:STANDARD
TZOFFSETFROM:+0300
TZOFFSETTO:+0200
TZNAME:EET
DTSTART:20241027T010000
END:STANDARD
BEGIN:DAYLIGHT
TZOFFSETFROM:+0200
TZOFFSETTO:+0300
TZNAME:EEST
DTSTART:20250330T010000
END:DAYLIGHT
BEGIN:STANDARD
TZOFFSETFROM:+0300
TZOFFSETTO:+0200
TZNAME:EET
DTSTART:20251026T010000
END:STANDARD
BEGIN:DAYLIGHT
TZOFFSETFROM:+0200
TZOFFSETTO:+0300
TZNAME:EEST
DTSTART:20260329T010000
END:DAYLIGHT
BEGIN:STANDARD
TZOFFSETFROM:+0300
TZOFFSETTO:+0200
TZNAME:EET
DTSTART:20261025T010000
END:STANDARD
END:VTIMEZONE
BEGIN:VEVENT
DTSTART;VALUE=DATE:20250703
DTEND;VALUE=DATE:20250704
DTSTAMP:20260420T034437
CREATED:20241018T112355Z
LAST-MODIFIED:20241018T112355Z
UID:10000958-1751500800-1751587199@lafertemace.fr
SUMMARY:Musée du jouet (juillet et août)
DESCRIPTION:En juillet et août\, le Musée du Jouet est ouvert : \nLes mercredis\, jeudis\, vendredis et samedis de 14h à 17h (sauf 15 août) \nRetrouvez :  \n\njeux en libre accès\nlivret-jeux enfant dès 7 ans\njeu d’observation : Retrouve les animaux du musée
URL:https://lafertemace.fr/event/musee-du-jouet-juillet-et-aout/2025-07-03/
LOCATION:Musée du Jouet\, Rue de la Victoire\, La Ferté-Macé\, 61600
CATEGORIES:Expositions,Loisirs,Patrimoine,Sports et Loisirs
ATTACH;FMTTYPE=image/jpeg:https://lafertemace.fr/wp-content/uploads/2023/12/20230317_105609-scaled.jpg
ORGANIZER;CN="Service Culture%2C Sports et Loisirs":MAILTO:sports.loisirs@lafertemace.fr
END:VEVENT
BEGIN:VEVENT
DTSTART;VALUE=DATE:20250702
DTEND;VALUE=DATE:20250703
DTSTAMP:20260420T034437
CREATED:20250520T112141Z
LAST-MODIFIED:20250520T112141Z
UID:10001178-1751414400-1751500799@lafertemace.fr
SUMMARY:Centres de loisirs 3-11 ans
DESCRIPTION: Activités des mercredis aux centres de loisirs 3-6 ans et 6-11 ans (jusqu’au 02 juillet 2025) \n\n3-6 ans : Plongeons dans l’univers « Disney » Présentation 3- 6 ans\n6-11 ans : Les aventures du mercredi Présentation 6-11 ans\n\nInscriptions au Centre Socioculturel Thérèse Letinturier\, 02 33 14 14 83
URL:https://lafertemace.fr/event/centres-de-loisirs-3-11-ans/2025-07-02/
LOCATION:Centre Socioculturel Thérèse Letinturier\, 14 Rue Pasteur\, La Ferté-Macé\, 61600
CATEGORIES:Loisirs,Sports et Loisirs
ATTACH;FMTTYPE=image/jpeg:https://lafertemace.fr/wp-content/uploads/2023/08/2023-Centre-Socio-Therse-Letinturier-2.jpg
ORGANIZER;CN="Centre Socioculturel Th%C3%A9r%C3%A8se Letinturier":MAILTO:centresocioculturel@lafertemace.fr
END:VEVENT
BEGIN:VEVENT
DTSTART;VALUE=DATE:20250702
DTEND;VALUE=DATE:20250703
DTSTAMP:20260420T034437
CREATED:20241018T112355Z
LAST-MODIFIED:20241018T112355Z
UID:10000957-1751414400-1751500799@lafertemace.fr
SUMMARY:Musée du jouet (juillet et août)
DESCRIPTION:En juillet et août\, le Musée du Jouet est ouvert : \nLes mercredis\, jeudis\, vendredis et samedis de 14h à 17h (sauf 15 août) \nRetrouvez :  \n\njeux en libre accès\nlivret-jeux enfant dès 7 ans\njeu d’observation : Retrouve les animaux du musée
URL:https://lafertemace.fr/event/musee-du-jouet-juillet-et-aout/2025-07-02/
LOCATION:Musée du Jouet\, Rue de la Victoire\, La Ferté-Macé\, 61600
CATEGORIES:Expositions,Loisirs,Patrimoine,Sports et Loisirs
ATTACH;FMTTYPE=image/jpeg:https://lafertemace.fr/wp-content/uploads/2023/12/20230317_105609-scaled.jpg
ORGANIZER;CN="Service Culture%2C Sports et Loisirs":MAILTO:sports.loisirs@lafertemace.fr
END:VEVENT
BEGIN:VEVENT
DTSTART;VALUE=DATE:20250628
DTEND;VALUE=DATE:20250630
DTSTAMP:20260420T034437
CREATED:20250128T124057Z
LAST-MODIFIED:20250128T124217Z
UID:10001923-1751068800-1751241599@lafertemace.fr
SUMMARY:Surviv'Orne
DESCRIPTION:Des épreuves de TRIATHLONS en Normandie\, les 28 et 29 juin 2025 sur la Base de Loisirs\nCHAMIONNAT DE NORMANDIE L \nPlus d’infos : https://www.lesurvivorne.fr/ \n 
URL:https://lafertemace.fr/event/survivorne/
LOCATION:Base de Loisirs\, Bd de la Forêt d'Andaine\, La Ferté-Macé\, 61600
CATEGORIES:Loisirs,Plein air,Sports et Loisirs
END:VEVENT
BEGIN:VEVENT
DTSTART;VALUE=DATE:20250628
DTEND;VALUE=DATE:20250629
DTSTAMP:20260420T034437
CREATED:20241018T111722Z
LAST-MODIFIED:20241018T112054Z
UID:10001325-1751068800-1751155199@lafertemace.fr
SUMMARY:Musée du jouet (du 05/04 au 28/06/25)
DESCRIPTION:Saison estivale du 05 avril au 25 octobre\, le Musée du Jouet est ouvert : \n\nLes mercredis et samedis de 14h à 17h (avril\, mai\, juin)\nLes mercredis\, jeudis\, vendredis et samedis de 14h à 17h (juillet et août sauf 15 août)\n\nRetrouvez :  \n\njeux en libre accès\nlivret-jeux enfant dès 7 ans\njeu d’observation : Retrouve les animaux du musée
URL:https://lafertemace.fr/event/musee-du-jouet-du-05-04-au-25-10-25/2025-06-28/
LOCATION:Musée du Jouet\, Rue de la Victoire\, La Ferté-Macé\, 61600
CATEGORIES:Expositions,Loisirs,Patrimoine,Sports et Loisirs
ATTACH;FMTTYPE=image/jpeg:https://lafertemace.fr/wp-content/uploads/2016/09/JPMuseeDuJouet.jpg
ORGANIZER;CN="Service Culture%2C Sports et Loisirs":MAILTO:sports.loisirs@lafertemace.fr
END:VEVENT
BEGIN:VEVENT
DTSTART;TZID=Europe/Helsinki:20250626T203000
DTEND;TZID=Europe/Helsinki:20250626T203000
DTSTAMP:20260420T034437
CREATED:20250602T165354Z
LAST-MODIFIED:20250602T165354Z
UID:10002028-1750969800-1750969800@lafertemace.fr
SUMMARY:Deutscher film
DESCRIPTION:La décision de diffuser le film en version originale avec des sous-titres en français offre une opportunité unique aux cinéphiles et aux passionnés de langues d’approfondir leur compréhension de la langue allemande tout en découvrant une oeuvre cinématographique exceptionnelle.
URL:https://lafertemace.fr/event/deutscher-film-16/
LOCATION:Cinéma\, Salle G. Philipe 8 rue St Denis\, La Ferté-Macé
CATEGORIES:Cinéma,Loisirs,Sports et Loisirs
ORGANIZER;CN="Cin%C3%A9Fert%C3%A9":MAILTO:cinemagerardphilipe@wanadoo.fr
END:VEVENT
BEGIN:VEVENT
DTSTART;TZID=Europe/Helsinki:20250626T143000
DTEND;TZID=Europe/Helsinki:20250626T143000
DTSTAMP:20260420T034437
CREATED:20250212T152452Z
LAST-MODIFIED:20250304T114351Z
UID:10001934-1750948200-1750948200@lafertemace.fr
SUMMARY:Visites de la ville
DESCRIPTION:Visite commentée au départ de l’Office de Tourisme (Rue de la Victoire)\nVenez découvrir les richesses de notre ville : église romane\, église Notre Dame\, Trésorama (exposition d’objets liturgiques et religieux)\, Mairie (salle de mariages\, tableaux de peintures..). \nSur réservation\, 02 33 37 10 97
URL:https://lafertemace.fr/event/visites-de-la-ville/2025-06-26/
LOCATION:Office de Tourisme\, 11 Rue de La Victoire\, La Ferté-Macé\, 61600\, France
CATEGORIES:Loisirs,Patrimoine,Sports et Loisirs
ATTACH;FMTTYPE=image/jpeg:https://lafertemace.fr/wp-content/uploads/2022/09/2022-eglise-inauguration.jpg
END:VEVENT
BEGIN:VEVENT
DTSTART;TZID=Europe/Helsinki:20250625T140000
DTEND;TZID=Europe/Helsinki:20250625T140000
DTSTAMP:20260420T034437
CREATED:20250109T125802Z
LAST-MODIFIED:20250109T125802Z
UID:10001701-1750860000-1750860000@lafertemace.fr
SUMMARY:Une histoire dans la poche
DESCRIPTION:Ponctuellement ou régulièrement\, venez écouter pour ensuite raconter. Benoît Choquart vous expliquera comment mémoriser une histoire et vous donnera envie d’en raconter plein d’autres ! \nPour ados/adultes. Gratuit  \nA 14h à la médiathèque
URL:https://lafertemace.fr/event/une-histoire-dans-la-poche-2/2025-06-25/
LOCATION:Médiathèque « La Grande Nouvelle »\, Le Grand Turc\, Rue St Denis\, La Ferté-macé\, 61600
CATEGORIES:Atelier,Lecture,Loisirs,Sports et Loisirs
ATTACH;FMTTYPE=image/jpeg:https://lafertemace.fr/wp-content/uploads/2021/10/2021une-histoire-dans-la-poche-e1669127848578.jpg
ORGANIZER;CN="M%C3%A9diath%C3%A8que 'La Grande Nouvelle' (Flers Agglo)":MAILTO:mediatheque.lafetemace@flers-agglo.fr
END:VEVENT
BEGIN:VEVENT
DTSTART;VALUE=DATE:20250625
DTEND;VALUE=DATE:20250626
DTSTAMP:20260420T034437
CREATED:20250520T112141Z
LAST-MODIFIED:20250520T112141Z
UID:10001177-1750809600-1750895999@lafertemace.fr
SUMMARY:Centres de loisirs 3-11 ans
DESCRIPTION: Activités des mercredis aux centres de loisirs 3-6 ans et 6-11 ans (jusqu’au 02 juillet 2025) \n\n3-6 ans : Plongeons dans l’univers « Disney » Présentation 3- 6 ans\n6-11 ans : Les aventures du mercredi Présentation 6-11 ans\n\nInscriptions au Centre Socioculturel Thérèse Letinturier\, 02 33 14 14 83
URL:https://lafertemace.fr/event/centres-de-loisirs-3-11-ans/2025-06-25/
LOCATION:Centre Socioculturel Thérèse Letinturier\, 14 Rue Pasteur\, La Ferté-Macé\, 61600
CATEGORIES:Loisirs,Sports et Loisirs
ATTACH;FMTTYPE=image/jpeg:https://lafertemace.fr/wp-content/uploads/2023/08/2023-Centre-Socio-Therse-Letinturier-2.jpg
ORGANIZER;CN="Centre Socioculturel Th%C3%A9r%C3%A8se Letinturier":MAILTO:centresocioculturel@lafertemace.fr
END:VEVENT
BEGIN:VEVENT
DTSTART;VALUE=DATE:20250625
DTEND;VALUE=DATE:20250626
DTSTAMP:20260420T034437
CREATED:20241018T111722Z
LAST-MODIFIED:20241018T112054Z
UID:10001324-1750809600-1750895999@lafertemace.fr
SUMMARY:Musée du jouet (du 05/04 au 28/06/25)
DESCRIPTION:Saison estivale du 05 avril au 25 octobre\, le Musée du Jouet est ouvert : \n\nLes mercredis et samedis de 14h à 17h (avril\, mai\, juin)\nLes mercredis\, jeudis\, vendredis et samedis de 14h à 17h (juillet et août sauf 15 août)\n\nRetrouvez :  \n\njeux en libre accès\nlivret-jeux enfant dès 7 ans\njeu d’observation : Retrouve les animaux du musée
URL:https://lafertemace.fr/event/musee-du-jouet-du-05-04-au-25-10-25/2025-06-25/
LOCATION:Musée du Jouet\, Rue de la Victoire\, La Ferté-Macé\, 61600
CATEGORIES:Expositions,Loisirs,Patrimoine,Sports et Loisirs
ATTACH;FMTTYPE=image/jpeg:https://lafertemace.fr/wp-content/uploads/2016/09/JPMuseeDuJouet.jpg
ORGANIZER;CN="Service Culture%2C Sports et Loisirs":MAILTO:sports.loisirs@lafertemace.fr
END:VEVENT
BEGIN:VEVENT
DTSTART;TZID=Europe/Helsinki:20250624T140000
DTEND;TZID=Europe/Helsinki:20250624T163000
DTSTAMP:20260420T034437
CREATED:20250401T103915Z
LAST-MODIFIED:20250401T103915Z
UID:10001133-1750773600-1750782600@lafertemace.fr
SUMMARY:Atelier tricot\, couture et crochet
DESCRIPTION:Atelier gratuit tous les mardis de 14h à 16h. \nRenseignements Centre Socioculturel Thérèse Letinturier\, 02 33 14 14 83 \n 
URL:https://lafertemace.fr/event/atelier-tricot-couture-et-crochet/2025-06-24/
LOCATION:Centre Socioculturel Thérèse Letinturier\, 14 Rue Pasteur\, La Ferté-Macé\, 61600
CATEGORIES:Atelier,Loisirs,Santé - Social
ATTACH;FMTTYPE=image/jpeg:https://lafertemace.fr/wp-content/uploads/2016/03/Couture-Fotolia_36679033_Subscription_Monthly_M-X540.jpg
ORGANIZER;CN="Centre Socioculturel Th%C3%A9r%C3%A8se Letinturier":MAILTO:centresocioculturel@lafertemace.fr
END:VEVENT
BEGIN:VEVENT
DTSTART;TZID=Europe/Helsinki:20250621T090000
DTEND;TZID=Europe/Helsinki:20250621T180000
DTSTAMP:20260420T034437
CREATED:20250311T102851Z
LAST-MODIFIED:20250417T153714Z
UID:10001402-1750496400-1750528800@lafertemace.fr
SUMMARY:Foire aux livres
DESCRIPTION:Organisée par les Fourmis Fertoises\, de 9h à 18h. Rue du Collège
URL:https://lafertemace.fr/event/foire-aux-livres/2025-06-21/
LOCATION:Les Fourmis Fertoises – Recyclerie\, 8 rue du Collège
CATEGORIES:Lecture,Loisirs,Marché - Braderie,Sports et Loisirs
ATTACH;FMTTYPE=image/jpeg:https://lafertemace.fr/wp-content/uploads/2021/09/Fourmis-Fertoises-Foire-aux-livres-e1632127257818.jpg
END:VEVENT
BEGIN:VEVENT
DTSTART;VALUE=DATE:20250621
DTEND;VALUE=DATE:20250622
DTSTAMP:20260420T034437
CREATED:20250128T162810Z
LAST-MODIFIED:20250616T114802Z
UID:10001093-1750464000-1750550399@lafertemace.fr
SUMMARY:Fête de la musique
DESCRIPTION:Fête de la Musique\, le 21 juin – Gratuit \n\n11h30 – Eglise Notre-Dame → Carillon par Blandine Loupil – Variétés françaises et internationales\, musiques de films\n14h30 – Salle Guy Rossolini (Stade) → Spectacle des élèves de Maryline Journault de Zumba du Centre Socioculturel \n15h-17h : découverte d’instruments de musique dans les locaux d’ArtBeauRéSens\, 30 rue d’Hautvie\n17h-18h : Jardin Marcel Pierre → mini-scène ouverte avec Yoan Showmaker\n18h30 : Jardin Marcel Pierre → chorale éphémère autour d’un repas de rue (boissons\, plats salés et sucrés en vente) – ArtBeauRéSens\n17h30-19h30 : côté bureau de police → Spectacle de danse Country par AMLOS country\n18h30-19h30 : Cour du Grand Turc → Father & :sun – Duo fertois composé de Yasmine as :ṩun au chant et Yann as father à la guitare acoustique et au chant. Yasmine est actuellement chanteuse dans le groupe alençonnais Kukko. Yann fut jadis membre du trio Vagabonde et guitariste éphémère du groupe 314. Ils reprendront un florilège de chansons d’amour  in english (mais pas que)\, des Beatles à Childish Gambino.\n19h – 22h : Taverne de la Paix → Lost Weekend\n19h15-20h45 : Place de la République → SooZ – Duo composé de Prisca\, chanteuse/pianiste et Guillaume\, guitariste.  Ils  proposent une représentation étoffée de leur répertoire de reprises pop/rock en anglais et en français. »\n20h30-22h : Cour du Grand Turc → Celest on the Bayou  – Jazz New Orleans\, swing\, chants traditionnels venus de l’autre côté de l’Atlantique. Avec la rue comme terrain de jeu\, Celest on the Bayou surgit et vous appelle à danser\, à chanter et à festoyer en fanfare !\n21h-22h15 : Place de la République → 314 – Groupe de 6 musiciens normands qui entremêlent compositions du groupe et reprises pop\, chanson française et musiques du monde. \n21h-23h : Place Leclerc (parvis) → Effet m’Eire – Groupe de passionné.e.s de musique celtique et particulièrement de musique irlandaise. Il vous propose un répertoire riche de ses standards\, que vous avez certainement déjà entendus et sur lesquels vous avez peut-être dansé.\n\nRetrouvez en vente : Crêpes par « Anim’Ferté » – Glaces et pop-corn par « Aux délices Ornais » 
URL:https://lafertemace.fr/event/fete-de-la-musique-2/2025-06-21/
CATEGORIES:Concert - Spectacle - Débat,Loisirs,Plein air,Sports et Loisirs
ATTACH;FMTTYPE=image/jpeg:https://lafertemace.fr/wp-content/uploads/2016/03/Fete-de-la-musique-X540.jpg
ORGANIZER;CN="Service Culture%2C Sports et Loisirs":MAILTO:sports.loisirs@lafertemace.fr
END:VEVENT
BEGIN:VEVENT
DTSTART;VALUE=DATE:20250621
DTEND;VALUE=DATE:20250622
DTSTAMP:20260420T034437
CREATED:20241018T111722Z
LAST-MODIFIED:20241018T112054Z
UID:10001323-1750464000-1750550399@lafertemace.fr
SUMMARY:Musée du jouet (du 05/04 au 28/06/25)
DESCRIPTION:Saison estivale du 05 avril au 25 octobre\, le Musée du Jouet est ouvert : \n\nLes mercredis et samedis de 14h à 17h (avril\, mai\, juin)\nLes mercredis\, jeudis\, vendredis et samedis de 14h à 17h (juillet et août sauf 15 août)\n\nRetrouvez :  \n\njeux en libre accès\nlivret-jeux enfant dès 7 ans\njeu d’observation : Retrouve les animaux du musée
URL:https://lafertemace.fr/event/musee-du-jouet-du-05-04-au-25-10-25/2025-06-21/
LOCATION:Musée du Jouet\, Rue de la Victoire\, La Ferté-Macé\, 61600
CATEGORIES:Expositions,Loisirs,Patrimoine,Sports et Loisirs
ATTACH;FMTTYPE=image/jpeg:https://lafertemace.fr/wp-content/uploads/2016/09/JPMuseeDuJouet.jpg
ORGANIZER;CN="Service Culture%2C Sports et Loisirs":MAILTO:sports.loisirs@lafertemace.fr
END:VEVENT
BEGIN:VEVENT
DTSTART;TZID=Europe/Helsinki:20250620T203000
DTEND;TZID=Europe/Helsinki:20250620T203000
DTSTAMP:20260420T034437
CREATED:20250602T165022Z
LAST-MODIFIED:20250602T165022Z
UID:10002027-1750451400-1750451400@lafertemace.fr
SUMMARY:Ciné Débat
DESCRIPTION:À l’occasion de la Semaine Arc-en-ciel (11-21 juin) :  projection du film Queendom\, en version originale sous-titrée français.
URL:https://lafertemace.fr/event/cine-debat-7/
LOCATION:Cinéma\, Salle G. Philipe 8 rue St Denis\, La Ferté-Macé
CATEGORIES:Cinéma,Loisirs,Sports et Loisirs
ATTACH;FMTTYPE=image/jpeg:https://lafertemace.fr/wp-content/uploads/2020/06/AVATAR_cinemaLAFM-2-e1652193177948.jpg
ORGANIZER;CN="Cin%C3%A9Fert%C3%A9":MAILTO:cinemagerardphilipe@wanadoo.fr
END:VEVENT
BEGIN:VEVENT
DTSTART;TZID=Europe/Helsinki:20250619T203000
DTEND;TZID=Europe/Helsinki:20250619T203000
DTSTAMP:20260420T034437
CREATED:20250617T144816Z
LAST-MODIFIED:20250617T144816Z
UID:10002030-1750365000-1750365000@lafertemace.fr
SUMMARY:Conseil municipal
DESCRIPTION:Une réunion du Conseil Municipal aura lieu le jeudi 19 juin 2025 à 20h30\, Salle des Mariages en Mairie. 
URL:https://lafertemace.fr/event/conseil-municipal-4/2025-06-19/
LOCATION:Mairie\, Place de la République
CATEGORIES:Santé - Social,Sports et Loisirs
ATTACH;FMTTYPE=image/jpeg:https://lafertemace.fr/wp-content/uploads/2023/02/2023-mairie.jpg
END:VEVENT
BEGIN:VEVENT
DTSTART;TZID=Europe/Helsinki:20250619T143000
DTEND;TZID=Europe/Helsinki:20250619T143000
DTSTAMP:20260420T034437
CREATED:20250212T152452Z
LAST-MODIFIED:20250304T114351Z
UID:10001933-1750343400-1750343400@lafertemace.fr
SUMMARY:Visites de la ville
DESCRIPTION:Visite commentée au départ de l’Office de Tourisme (Rue de la Victoire)\nVenez découvrir les richesses de notre ville : église romane\, église Notre Dame\, Trésorama (exposition d’objets liturgiques et religieux)\, Mairie (salle de mariages\, tableaux de peintures..). \nSur réservation\, 02 33 37 10 97
URL:https://lafertemace.fr/event/visites-de-la-ville/2025-06-19/
LOCATION:Office de Tourisme\, 11 Rue de La Victoire\, La Ferté-Macé\, 61600\, France
CATEGORIES:Loisirs,Patrimoine,Sports et Loisirs
ATTACH;FMTTYPE=image/jpeg:https://lafertemace.fr/wp-content/uploads/2022/09/2022-eglise-inauguration.jpg
END:VEVENT
BEGIN:VEVENT
DTSTART;TZID=Europe/Helsinki:20250618T180000
DTEND;TZID=Europe/Helsinki:20250618T180000
DTSTAMP:20260420T034437
CREATED:20250602T164709Z
LAST-MODIFIED:20250602T164709Z
UID:10002026-1750269600-1750269600@lafertemace.fr
SUMMARY:Ciné british
DESCRIPTION:British Cinema – « Harvest » en VO sous titrée Français. Tout public avec avertissement\nLe British Cinema vous donne rendez-vous pour une nouvelle séance en version originale sous-titrée\, l’occasion parfaite de plonger dans l’univers du cinéma britannique et de savourer toute la richesse de la langue anglaise.
URL:https://lafertemace.fr/event/cine-british/
LOCATION:Cinéma\, Salle G. Philipe 8 rue St Denis\, La Ferté-Macé
CATEGORIES:Cinéma,Loisirs,Sports et Loisirs
ATTACH;FMTTYPE=image/jpeg:https://lafertemace.fr/wp-content/uploads/2020/06/AVATAR_cinemaLAFM-2-e1652193177948.jpg
ORGANIZER;CN="Cin%C3%A9Fert%C3%A9":MAILTO:cinemagerardphilipe@wanadoo.fr
END:VEVENT
BEGIN:VEVENT
DTSTART;TZID=Europe/Helsinki:20250618T151500
DTEND;TZID=Europe/Helsinki:20250618T151500
DTSTAMP:20260420T034437
CREATED:20250602T164358Z
LAST-MODIFIED:20250602T164358Z
UID:10001192-1750259700-1750259700@lafertemace.fr
SUMMARY:Ciné Lycéen
DESCRIPTION:
URL:https://lafertemace.fr/event/cine-lyceen-4/
LOCATION:Cinéma\, Salle G. Philipe 8 rue St Denis\, La Ferté-Macé
CATEGORIES:Cinéma,Loisirs,Sports et Loisirs
ATTACH;FMTTYPE=image/jpeg:https://lafertemace.fr/wp-content/uploads/2020/06/AVATAR_cinemaLAFM-2-e1652193177948.jpg
ORGANIZER;CN="Cin%C3%A9Fert%C3%A9":MAILTO:cinemagerardphilipe@wanadoo.fr
END:VEVENT
BEGIN:VEVENT
DTSTART;TZID=Europe/Helsinki:20250618T150000
DTEND;TZID=Europe/Helsinki:20250618T170000
DTSTAMP:20260420T034437
CREATED:20250325T172004Z
LAST-MODIFIED:20250325T172004Z
UID:10001154-1750258800-1750266000@lafertemace.fr
SUMMARY:La Fabrique : nos héros en relief!
DESCRIPTION:Atelier créatif en famille : plongez dans l’univers magique de vos héros préférés de la littérature jeunesse\, des mangas et d la BD. Créez ensembles des oeuvres originales inspirées de vos personnages favoris. \nA 15h à la médiathèque. \nDès 5 ans \, gratuit sur inscription. \n 
URL:https://lafertemace.fr/event/la-fabrique-nos-heros-en-relief/2025-06-18/
LOCATION:Médiathèque « La Grande Nouvelle »\, Le Grand Turc\, Rue St Denis\, La Ferté-macé\, 61600
CATEGORIES:Atelier,Loisirs
ATTACH;FMTTYPE=image/jpeg:https://lafertemace.fr/wp-content/uploads/2021/10/2021-LA-FABRIK-e1662127361660.jpg
ORGANIZER;CN="M%C3%A9diath%C3%A8que 'La Grande Nouvelle' (Flers Agglo)":MAILTO:mediatheque.lafetemace@flers-agglo.fr
END:VEVENT
BEGIN:VEVENT
DTSTART;VALUE=DATE:20250618
DTEND;VALUE=DATE:20250619
DTSTAMP:20260420T034437
CREATED:20250520T112141Z
LAST-MODIFIED:20250520T112141Z
UID:10001176-1750204800-1750291199@lafertemace.fr
SUMMARY:Centres de loisirs 3-11 ans
DESCRIPTION: Activités des mercredis aux centres de loisirs 3-6 ans et 6-11 ans (jusqu’au 02 juillet 2025) \n\n3-6 ans : Plongeons dans l’univers « Disney » Présentation 3- 6 ans\n6-11 ans : Les aventures du mercredi Présentation 6-11 ans\n\nInscriptions au Centre Socioculturel Thérèse Letinturier\, 02 33 14 14 83
URL:https://lafertemace.fr/event/centres-de-loisirs-3-11-ans/2025-06-18/
LOCATION:Centre Socioculturel Thérèse Letinturier\, 14 Rue Pasteur\, La Ferté-Macé\, 61600
CATEGORIES:Loisirs,Sports et Loisirs
ATTACH;FMTTYPE=image/jpeg:https://lafertemace.fr/wp-content/uploads/2023/08/2023-Centre-Socio-Therse-Letinturier-2.jpg
ORGANIZER;CN="Centre Socioculturel Th%C3%A9r%C3%A8se Letinturier":MAILTO:centresocioculturel@lafertemace.fr
END:VEVENT
BEGIN:VEVENT
DTSTART;VALUE=DATE:20250618
DTEND;VALUE=DATE:20250619
DTSTAMP:20260420T034438
CREATED:20241018T111722Z
LAST-MODIFIED:20241018T112054Z
UID:10001322-1750204800-1750291199@lafertemace.fr
SUMMARY:Musée du jouet (du 05/04 au 28/06/25)
DESCRIPTION:Saison estivale du 05 avril au 25 octobre\, le Musée du Jouet est ouvert : \n\nLes mercredis et samedis de 14h à 17h (avril\, mai\, juin)\nLes mercredis\, jeudis\, vendredis et samedis de 14h à 17h (juillet et août sauf 15 août)\n\nRetrouvez :  \n\njeux en libre accès\nlivret-jeux enfant dès 7 ans\njeu d’observation : Retrouve les animaux du musée
URL:https://lafertemace.fr/event/musee-du-jouet-du-05-04-au-25-10-25/2025-06-18/
LOCATION:Musée du Jouet\, Rue de la Victoire\, La Ferté-Macé\, 61600
CATEGORIES:Expositions,Loisirs,Patrimoine,Sports et Loisirs
ATTACH;FMTTYPE=image/jpeg:https://lafertemace.fr/wp-content/uploads/2016/09/JPMuseeDuJouet.jpg
ORGANIZER;CN="Service Culture%2C Sports et Loisirs":MAILTO:sports.loisirs@lafertemace.fr
END:VEVENT
BEGIN:VEVENT
DTSTART;TZID=Europe/Helsinki:20250617T140000
DTEND;TZID=Europe/Helsinki:20250617T163000
DTSTAMP:20260420T034438
CREATED:20250401T103915Z
LAST-MODIFIED:20250401T103915Z
UID:10001132-1750168800-1750177800@lafertemace.fr
SUMMARY:Atelier tricot\, couture et crochet
DESCRIPTION:Atelier gratuit tous les mardis de 14h à 16h. \nRenseignements Centre Socioculturel Thérèse Letinturier\, 02 33 14 14 83 \n 
URL:https://lafertemace.fr/event/atelier-tricot-couture-et-crochet/2025-06-17/
LOCATION:Centre Socioculturel Thérèse Letinturier\, 14 Rue Pasteur\, La Ferté-Macé\, 61600
CATEGORIES:Atelier,Loisirs,Santé - Social
ATTACH;FMTTYPE=image/jpeg:https://lafertemace.fr/wp-content/uploads/2016/03/Couture-Fotolia_36679033_Subscription_Monthly_M-X540.jpg
ORGANIZER;CN="Centre Socioculturel Th%C3%A9r%C3%A8se Letinturier":MAILTO:centresocioculturel@lafertemace.fr
END:VEVENT
BEGIN:VEVENT
DTSTART;TZID=Europe/Helsinki:20250617T080000
DTEND;TZID=Europe/Helsinki:20250617T170000
DTSTAMP:20260420T034438
CREATED:20250617T144450Z
LAST-MODIFIED:20250617T144450Z
UID:10001351-1750147200-1750179600@lafertemace.fr
SUMMARY:Commémoration 18 juin
DESCRIPTION:La journée Nationale commémorative de l’Appel historique du 18 juin 1940 aura lieu : MERCREDI 18 JUIN 2025 à 11h30 \n\nAllocution du Président de l’UNC.\nRassemblement Place de la République – Défilé jusqu’au Monument de la Victoire (Place du Général Leclerc).\nLecture de l’Appel du 18 juin.\nDépôt d’un coussin de fleurs tricolores.\nMinute de silence.\nMarseillaise et Chant des Partisans.\nDislocation du cortège devant l’Hôtel de Ville.
URL:https://lafertemace.fr/event/commemoration-18-juin/
CATEGORIES:Défilé,Sports et Loisirs
ATTACH;FMTTYPE=image/jpeg:https://lafertemace.fr/wp-content/uploads/2018/06/AVATAR-ceremonie-18-juin-e1687958400761.jpg
END:VEVENT
BEGIN:VEVENT
DTSTART;VALUE=DATE:20250617
DTEND;VALUE=DATE:20250618
DTSTAMP:20260420T034438
CREATED:20250129T124215Z
LAST-MODIFIED:20250129T124215Z
UID:10001103-1750118400-1750204799@lafertemace.fr
SUMMARY:Fête foraine
DESCRIPTION:Du 10 au 22 juin\, place de Neustadt
URL:https://lafertemace.fr/event/fete-foraine-2/2025-06-17/
LOCATION:Place de Neustadt\, La Ferté-Macé\, 61600
CATEGORIES:Loisirs,Sports et Loisirs
ATTACH;FMTTYPE=image/jpeg:https://lafertemace.fr/wp-content/uploads/2018/05/Fête-foraine-Fotolia_63854943-e1458293980192.jpg
ORGANIZER;CN="Service Culture%2C Sports et Loisirs":MAILTO:sports.loisirs@lafertemace.fr
END:VEVENT
BEGIN:VEVENT
DTSTART;VALUE=DATE:20250616
DTEND;VALUE=DATE:20250617
DTSTAMP:20260420T034438
CREATED:20241127T111158Z
LAST-MODIFIED:20241127T111207Z
UID:10001686-1750032000-1750118399@lafertemace.fr
SUMMARY:dON DE SANG
DESCRIPTION:Les prochaines collectes de sang se dérouleront à la salle Guy Rossolini – Bd Hamonic – de 15h à 19h  : \n\nJeudi 20 février\nJeudi 17 avril\nLundi 16 juin
URL:https://lafertemace.fr/event/don-de-sang-4/2025-06-16/
LOCATION:Salle Guy Rossolini\, Bd Hamonic\, La Ferté-Macé\, 61600
CATEGORIES:Santé - Social
ATTACH;FMTTYPE=image/jpeg:https://lafertemace.fr/wp-content/uploads/2016/02/don-du-sang-540X578.jpg
ORGANIZER;CN="Ass. des donneurs de sang b%C3%A9n%C3%A9voles":MAILTO:thevenard.jeannine@neuf.fr
END:VEVENT
BEGIN:VEVENT
DTSTART;VALUE=DATE:20250614
DTEND;VALUE=DATE:20250615
DTSTAMP:20260420T034438
CREATED:20250128T124442Z
LAST-MODIFIED:20250519T155559Z
UID:10001924-1749859200-1749945599@lafertemace.fr
SUMMARY:Olympiades Mélanie Passion Sports
DESCRIPTION:Salle Guy Rossolini – stade Gaston Meillon\, Bd Hamonic. \nMélanie Passion Sports organise des olympiades le 14 juin 2025 à partir de 10h. \nGratuit et ouvert à tous. 6 Clubs sportifs fertois : Swin golf – handball – basket ball – volley ball – karaté – judo et les Amis des Jeux.\nRécompense à chaque participant : Coupes et médailles et/ou entrées de cinéma\, piscine\, pédalos\, paddle\, kayaks\, rosalies\, musée du jouet et fête foraine… \nInscription sur place. Restauration sur place. \n 
URL:https://lafertemace.fr/event/olympiade-melanie-lemee/2025-06-14/
LOCATION:Stade Gaston Meillon\, Bd Hamonic\, La Ferté-Macé\, 61600
CATEGORIES:Loisirs,Sports,Sports et Loisirs
END:VEVENT
BEGIN:VEVENT
DTSTART;VALUE=DATE:20250614
DTEND;VALUE=DATE:20250615
DTSTAMP:20260420T034438
CREATED:20241018T111722Z
LAST-MODIFIED:20241018T112054Z
UID:10001321-1749859200-1749945599@lafertemace.fr
SUMMARY:Musée du jouet (du 05/04 au 28/06/25)
DESCRIPTION:Saison estivale du 05 avril au 25 octobre\, le Musée du Jouet est ouvert : \n\nLes mercredis et samedis de 14h à 17h (avril\, mai\, juin)\nLes mercredis\, jeudis\, vendredis et samedis de 14h à 17h (juillet et août sauf 15 août)\n\nRetrouvez :  \n\njeux en libre accès\nlivret-jeux enfant dès 7 ans\njeu d’observation : Retrouve les animaux du musée
URL:https://lafertemace.fr/event/musee-du-jouet-du-05-04-au-25-10-25/2025-06-14/
LOCATION:Musée du Jouet\, Rue de la Victoire\, La Ferté-Macé\, 61600
CATEGORIES:Expositions,Loisirs,Patrimoine,Sports et Loisirs
ATTACH;FMTTYPE=image/jpeg:https://lafertemace.fr/wp-content/uploads/2016/09/JPMuseeDuJouet.jpg
ORGANIZER;CN="Service Culture%2C Sports et Loisirs":MAILTO:sports.loisirs@lafertemace.fr
END:VEVENT
BEGIN:VEVENT
DTSTART;TZID=Europe/Helsinki:20250613T200000
DTEND;TZID=Europe/Helsinki:20250613T200000
DTSTAMP:20260420T034438
CREATED:20250528T115059Z
LAST-MODIFIED:20250528T115059Z
UID:10000469-1749844800-1749844800@lafertemace.fr
SUMMARY:Soirée casino et grillades
DESCRIPTION:
URL:https://lafertemace.fr/event/soiree-casino-et-grillades/
LOCATION:Centre Socioculturel Thérèse Letinturier\, 14 Rue Pasteur\, La Ferté-Macé\, 61600
CATEGORIES:Loisirs,Repas,Santé - Social,Sports et Loisirs
ATTACH;FMTTYPE=image/jpeg:https://lafertemace.fr/wp-content/uploads/2023/08/2023-Centre-Socio-Therse-Letinturier-2.jpg
ORGANIZER;CN="Centre Socioculturel Th%C3%A9r%C3%A8se Letinturier":MAILTO:centresocioculturel@lafertemace.fr
END:VEVENT
BEGIN:VEVENT
DTSTART;VALUE=DATE:20250613
DTEND;VALUE=DATE:20250615
DTSTAMP:20260420T034438
CREATED:20250128T152204Z
LAST-MODIFIED:20250128T152204Z
UID:10001925-1749772800-1749945599@lafertemace.fr
SUMMARY:Foot : Tournoi Martine
DESCRIPTION:Au stade Gaston Meillon\, organisé par la JFB. \n115 ans du club
URL:https://lafertemace.fr/event/foot-tournoi-martine/
LOCATION:Stade Gaston Meillon\, Bd Hamonic\, La Ferté-Macé\, 61600
CATEGORIES:Loisirs,Plein air,Sports,Sports et Loisirs
ATTACH;FMTTYPE=image/jpeg:https://lafertemace.fr/wp-content/uploads/2020/09/AVATAR_foot-e1673532188597.jpg
ORGANIZER;CN="JFB":MAILTO:j.f.b@wanadoo.fr
END:VEVENT
END:VCALENDAR