BEGIN:VCALENDAR
VERSION:2.0
PRODID:-//Ville de La Ferté-Macé - ECPv6.15.20//NONSGML v1.0//EN
CALSCALE:GREGORIAN
METHOD:PUBLISH
X-WR-CALNAME:Ville de La Ferté-Macé
X-ORIGINAL-URL:https://lafertemace.fr
X-WR-CALDESC:Évènements pour Ville de La Ferté-Macé
REFRESH-INTERVAL;VALUE=DURATION:PT1H
X-Robots-Tag:noindex
X-PUBLISHED-TTL:PT1H
BEGIN:VTIMEZONE
TZID:Europe/Helsinki
BEGIN:DAYLIGHT
TZOFFSETFROM:+0200
TZOFFSETTO:+0300
TZNAME:EEST
DTSTART:20240331T010000
END:DAYLIGHT
BEGIN:STANDARD
TZOFFSETFROM:+0300
TZOFFSETTO:+0200
TZNAME:EET
DTSTART:20241027T010000
END:STANDARD
BEGIN:DAYLIGHT
TZOFFSETFROM:+0200
TZOFFSETTO:+0300
TZNAME:EEST
DTSTART:20250330T010000
END:DAYLIGHT
BEGIN:STANDARD
TZOFFSETFROM:+0300
TZOFFSETTO:+0200
TZNAME:EET
DTSTART:20251026T010000
END:STANDARD
BEGIN:DAYLIGHT
TZOFFSETFROM:+0200
TZOFFSETTO:+0300
TZNAME:EEST
DTSTART:20260329T010000
END:DAYLIGHT
BEGIN:STANDARD
TZOFFSETFROM:+0300
TZOFFSETTO:+0200
TZNAME:EET
DTSTART:20261025T010000
END:STANDARD
END:VTIMEZONE
BEGIN:VEVENT
DTSTART;TZID=Europe/Helsinki:20250426T150000
DTEND;TZID=Europe/Helsinki:20250426T150000
DTSTAMP:20260422T160419
CREATED:20250319T165625Z
LAST-MODIFIED:20250319T165625Z
UID:10001159-1745679600-1745679600@lafertemace.fr
SUMMARY:Rencontre avec les membres de l'asso. P.A.R.A.D.E
DESCRIPTION:« Observer la nature à travers le regard du photographe ».  \nPar les membres de l’association P.A.R.A.D.E. \nPlongez au coeur de la nature à travers l’objectif des photographes de l’association P.A.R.A.D.E.\nLors de cette rencontre\, ils partageront leur regard unique et leurs techniques pour capturer la beauté du vivant
URL:https://lafertemace.fr/event/rencontre-avec-les-membres-de-lasso-p-a-r-a-d-e/2025-04-26/
LOCATION:Médiathèque « La Grande Nouvelle »\, Le Grand Turc\, Rue St Denis\, La Ferté-macé\, 61600
CATEGORIES:Loisirs,Sports et Loisirs
ATTACH;FMTTYPE=image/jpeg:https://lafertemace.fr/wp-content/uploads/2025/03/2025-Expo-PARADE.jpg
ORGANIZER;CN="M%C3%A9diath%C3%A8que 'La Grande Nouvelle' (Flers Agglo)":MAILTO:mediatheque.lafetemace@flers-agglo.fr
END:VEVENT
BEGIN:VEVENT
DTSTART;VALUE=DATE:20250426
DTEND;VALUE=DATE:20250512
DTSTAMP:20260422T160419
CREATED:20250424T164913Z
LAST-MODIFIED:20250424T164913Z
UID:10002017-1745625600-1747007999@lafertemace.fr
SUMMARY:Cirque Novelty (26/04-11/05/25)
DESCRIPTION:Le cirque Novelty est installé à la Base de Loisirs du 26 avril au 11 mai 2025.
URL:https://lafertemace.fr/event/cirque-novelty-26-04-11-05-25/
LOCATION:Base de Loisirs\, Bd de la Forêt d'Andaine\, La Ferté-Macé\, 61600
CATEGORIES:Concert - Spectacle - Débat,Loisirs,Sports et Loisirs
ATTACH;FMTTYPE=image/jpeg:https://lafertemace.fr/wp-content/uploads/2017/02/Cirque-Fotolia_77361138_Subscription_Monthly_M-X540.jpg
END:VEVENT
BEGIN:VEVENT
DTSTART;VALUE=DATE:20250426
DTEND;VALUE=DATE:20250427
DTSTAMP:20260422T160419
CREATED:20250317T112335Z
LAST-MODIFIED:20250317T112335Z
UID:10000490-1745625600-1745711999@lafertemace.fr
SUMMARY:Exposition P.A.R.A.D.E. (15/04-10/05/25)
DESCRIPTION:L’association P.A.R.A.D.E. réunit des passionnés de photographies animalières. \nIls nous présentent lors de cette exposition des photos faune flore et paysages. \nA la Médiathèque du 15/04 au 10/05/25\nTout public. Gratuit 
URL:https://lafertemace.fr/event/exposition-p-a-r-a-d-e-15-04-10-05-25/2025-04-26/
LOCATION:Médiathèque « La Grande Nouvelle »\, Le Grand Turc\, Rue St Denis\, La Ferté-macé\, 61600
CATEGORIES:Expositions,Loisirs,Sports et Loisirs
ATTACH;FMTTYPE=image/jpeg:https://lafertemace.fr/wp-content/uploads/2025/03/2025-Expo-PARADE.jpg
ORGANIZER;CN="M%C3%A9diath%C3%A8que 'La Grande Nouvelle' (Flers Agglo)":MAILTO:mediatheque.lafetemace@flers-agglo.fr
END:VEVENT
BEGIN:VEVENT
DTSTART;VALUE=DATE:20250426
DTEND;VALUE=DATE:20250427
DTSTAMP:20260422T160419
CREATED:20241018T111722Z
LAST-MODIFIED:20241018T112054Z
UID:10001307-1745625600-1745711999@lafertemace.fr
SUMMARY:Musée du jouet (du 05/04 au 28/06/25)
DESCRIPTION:Saison estivale du 05 avril au 25 octobre\, le Musée du Jouet est ouvert : \n\nLes mercredis et samedis de 14h à 17h (avril\, mai\, juin)\nLes mercredis\, jeudis\, vendredis et samedis de 14h à 17h (juillet et août sauf 15 août)\n\nRetrouvez :  \n\njeux en libre accès\nlivret-jeux enfant dès 7 ans\njeu d’observation : Retrouve les animaux du musée
URL:https://lafertemace.fr/event/musee-du-jouet-du-05-04-au-25-10-25/2025-04-26/
LOCATION:Musée du Jouet\, Rue de la Victoire\, La Ferté-Macé\, 61600
CATEGORIES:Expositions,Loisirs,Patrimoine,Sports et Loisirs
ATTACH;FMTTYPE=image/jpeg:https://lafertemace.fr/wp-content/uploads/2016/09/JPMuseeDuJouet.jpg
ORGANIZER;CN="Service Culture%2C Sports et Loisirs":MAILTO:sports.loisirs@lafertemace.fr
END:VEVENT
BEGIN:VEVENT
DTSTART;TZID=Europe/Helsinki:20250425T200000
DTEND;TZID=Europe/Helsinki:20250425T220000
DTSTAMP:20260422T160419
CREATED:20240909T145049Z
LAST-MODIFIED:20241213T110108Z
UID:10001630-1745611200-1745618400@lafertemace.fr
SUMMARY:Soirée jeux
DESCRIPTION:Soirées « jeux «  tous les vendredis 20h à 22 h jusqu’au 30 mai 2025\n« Après midi Jeux » les mardis et jeudis après midi pendant les petites vacances scolaires (sauf Noël)\n\n500 jeux de toutes sortes pour tous les âges. Gratuit- possibilité d’emprunt sous conditions \nA l’Espace jeux\,  10 rue de Versailles.\nContact : Les amis des jeux\, 06 85 89 18 40
URL:https://lafertemace.fr/event/soiree-jeux-4/2025-04-25/
LOCATION:Espace Jeux\, 10 rue de Versailles\, La Ferté-Macé
CATEGORIES:Loisirs,Santé - Social,Sports et Loisirs
ORGANIZER;CN="Les amis des jeux":MAILTO:albert.le-monnier@wanadoo.fr
END:VEVENT
BEGIN:VEVENT
DTSTART;TZID=Europe/Helsinki:20250425T100000
DTEND;TZID=Europe/Helsinki:20250425T120000
DTSTAMP:20260422T160419
CREATED:20250401T113149Z
LAST-MODIFIED:20250401T113149Z
UID:10001997-1745575200-1745582400@lafertemace.fr
SUMMARY:Atelier bricolage de Printemps
DESCRIPTION:Atelier bricolage de Printemps\, de 10h à 12h.  \nSur inscription au centre socioculturel T. Letinturier. 02 33 14 14 83
URL:https://lafertemace.fr/event/atelier-bricolage-de-printemps/2025-04-25/
LOCATION:Centre Socioculturel Thérèse Letinturier\, 14 Rue Pasteur\, La Ferté-Macé\, 61600
CATEGORIES:Atelier,Loisirs,Sports et Loisirs
ATTACH;FMTTYPE=image/jpeg:https://lafertemace.fr/wp-content/uploads/2017/02/Bricolage-_56709432_Subscription_Monthly_M-X540.jpg
ORGANIZER;CN="Centre Socioculturel Th%C3%A9r%C3%A8se Letinturier":MAILTO:centresocioculturel@lafertemace.fr
END:VEVENT
BEGIN:VEVENT
DTSTART;VALUE=DATE:20250425
DTEND;VALUE=DATE:20250426
DTSTAMP:20260422T160419
CREATED:20250403T143010Z
LAST-MODIFIED:20250403T143010Z
UID:10002004-1745539200-1745625599@lafertemace.fr
SUMMARY:Ciné : Soirée italienne
DESCRIPTION:Plongez au coeur du cinéma italien avec une soirée mettant à l’honneur deux films captivants. Entre émotion\, poésie et réalisme\, ces oeuvres vous feront voyager à travers des histoires intenses et profondément humaines. \n\n18h00 – Parthenope(VO) \n20h45 – Prima la vita (VO)
URL:https://lafertemace.fr/event/cine-soiree-italienne/2025-04-25/
LOCATION:Cinéma\, Salle G. Philipe 8 rue St Denis\, La Ferté-Macé
CATEGORIES:Cinéma,Loisirs,Sports et Loisirs
ATTACH;FMTTYPE=image/jpeg:https://lafertemace.fr/wp-content/uploads/2020/06/AVATAR_cinemaLAFM-2-e1652193177948.jpg
ORGANIZER;CN="Cin%C3%A9Fert%C3%A9":MAILTO:cinemagerardphilipe@wanadoo.fr
END:VEVENT
BEGIN:VEVENT
DTSTART;TZID=Europe/Helsinki:20250424T203000
DTEND;TZID=Europe/Helsinki:20250424T203000
DTSTAMP:20260422T160419
CREATED:20250403T113250Z
LAST-MODIFIED:20250403T113250Z
UID:10002003-1745526600-1745526600@lafertemace.fr
SUMMARY:Deutscher film
DESCRIPTION:La décision de diffuser le film en version originale avec des sous-titres en français offre une opportunité unique aux cinéphiles et aux passionnés de langues d’approfondir leur compréhension de la langue allemande tout en découvrant une oeuvre cinématographique exceptionnelle.
URL:https://lafertemace.fr/event/deutscher-film-14/2025-04-24/
LOCATION:Cinéma\, Salle G. Philipe 8 rue St Denis\, La Ferté-Macé
CATEGORIES:Cinéma,Loisirs,Sports et Loisirs
ATTACH;FMTTYPE=image/jpeg:https://lafertemace.fr/wp-content/uploads/2020/06/AVATAR_cinemaLAFM-2-e1652193177948.jpg
ORGANIZER;CN="Cin%C3%A9Fert%C3%A9":MAILTO:cinemagerardphilipe@wanadoo.fr
END:VEVENT
BEGIN:VEVENT
DTSTART;TZID=Europe/Helsinki:20250423T200000
DTEND;TZID=Europe/Helsinki:20250423T200000
DTSTAMP:20260422T160419
CREATED:20250319T124321Z
LAST-MODIFIED:20250319T124321Z
UID:10001161-1745438400-1745438400@lafertemace.fr
SUMMARY:Tri des déchets - Réunion d'information
DESCRIPTION:Le 5 mai 2025\, les sacs poubelles classiques ne seront plus collectés. Seuls les sacs translucides seront acceptés par le SIRTOM pour la collecte des déchets.\n\n\n \n\n\n* Une réunion publique d’information se tiendra le mercredi 23 avril à 20h au centre socioculturel Thérèse Letinturier.
URL:https://lafertemace.fr/event/tri-des-dechets-reunion-dinformation/2025-04-23/
LOCATION:Centre Socioculturel Thérèse Letinturier\, 14 Rue Pasteur\, La Ferté-Macé\, 61600
CATEGORIES:Santé - Social
ATTACH;FMTTYPE=image/jpeg:https://lafertemace.fr/wp-content/uploads/2025/03/2025-sirtom-mai.jpg
ORGANIZER;CN="Centre Socioculturel Th%C3%A9r%C3%A8se Letinturier":MAILTO:centresocioculturel@lafertemace.fr
END:VEVENT
BEGIN:VEVENT
DTSTART;TZID=Europe/Helsinki:20250423T153000
DTEND;TZID=Europe/Helsinki:20250423T153000
DTSTAMP:20260422T160419
CREATED:20250403T143233Z
LAST-MODIFIED:20250403T143233Z
UID:10002006-1745422200-1745422200@lafertemace.fr
SUMMARY:Ciné Lycéen
DESCRIPTION:Le Ciné-Lycéen a été conçu pour offrir aux lycéens une accessibilité au cinéma à un tarif très avantageux. Il permet de découvrir des films d’art et essai\, tout en enrichissant leur culture cinématographique.
URL:https://lafertemace.fr/event/cine-lyceen-2/2025-04-23/
LOCATION:Cinéma\, Salle G. Philipe 8 rue St Denis\, La Ferté-Macé
CATEGORIES:Cinéma,Loisirs,Sports et Loisirs
ATTACH;FMTTYPE=image/jpeg:https://lafertemace.fr/wp-content/uploads/2020/06/AVATAR_cinemaLAFM-2-e1652193177948.jpg
ORGANIZER;CN="Cin%C3%A9Fert%C3%A9":MAILTO:cinemagerardphilipe@wanadoo.fr
END:VEVENT
BEGIN:VEVENT
DTSTART;TZID=Europe/Helsinki:20250423T150000
DTEND;TZID=Europe/Helsinki:20250423T150000
DTSTAMP:20260422T160419
CREATED:20250401T112940Z
LAST-MODIFIED:20250401T112940Z
UID:10001996-1745420400-1745420400@lafertemace.fr
SUMMARY:En famille\, ateliers cuisine...
DESCRIPTION:09/04 à 14h30 : Atelier cuisine brioche « Doowap ». Gratuit sur inscription jusqu’au 07/04\n18/04 à 18h : Couleurs et saveurs (apéro dinatoire). Gratuit sur inscription jusqu’au 16/04\n23/04 à 15h : Atelier cuisine chocolat maison. Gratuit sur inscription jusqu’au 18/04\n\nAu centre socioculturel T. Letinturier\, 02 33 14 14 83
URL:https://lafertemace.fr/event/en-famille-ateliers-cuisine/2025-04-23/
LOCATION:Centre Socioculturel Thérèse Letinturier\, 14 Rue Pasteur\, La Ferté-Macé\, 61600
CATEGORIES:Atelier,Loisirs,Repas,Sports et Loisirs
ATTACH;FMTTYPE=image/jpeg:https://lafertemace.fr/wp-content/uploads/2016/03/couvert_27285151_Subscription_Monthly_M-540.jpg
ORGANIZER;CN="Centre Socioculturel Th%C3%A9r%C3%A8se Letinturier":MAILTO:centresocioculturel@lafertemace.fr
END:VEVENT
BEGIN:VEVENT
DTSTART;TZID=Europe/Helsinki:20250423T140000
DTEND;TZID=Europe/Helsinki:20250423T140000
DTSTAMP:20260422T160419
CREATED:20250109T125802Z
LAST-MODIFIED:20250109T125802Z
UID:10001699-1745416800-1745416800@lafertemace.fr
SUMMARY:Une histoire dans la poche
DESCRIPTION:Ponctuellement ou régulièrement\, venez écouter pour ensuite raconter. Benoît Choquart vous expliquera comment mémoriser une histoire et vous donnera envie d’en raconter plein d’autres ! \nPour ados/adultes. Gratuit  \nA 14h à la médiathèque
URL:https://lafertemace.fr/event/une-histoire-dans-la-poche-2/2025-04-23/
LOCATION:Médiathèque « La Grande Nouvelle »\, Le Grand Turc\, Rue St Denis\, La Ferté-macé\, 61600
CATEGORIES:Atelier,Lecture,Loisirs,Sports et Loisirs
ATTACH;FMTTYPE=image/jpeg:https://lafertemace.fr/wp-content/uploads/2021/10/2021une-histoire-dans-la-poche-e1669127848578.jpg
ORGANIZER;CN="M%C3%A9diath%C3%A8que 'La Grande Nouvelle' (Flers Agglo)":MAILTO:mediatheque.lafetemace@flers-agglo.fr
END:VEVENT
BEGIN:VEVENT
DTSTART;VALUE=DATE:20250423
DTEND;VALUE=DATE:20250424
DTSTAMP:20260422T160419
CREATED:20241018T111722Z
LAST-MODIFIED:20241018T112054Z
UID:10001306-1745366400-1745452799@lafertemace.fr
SUMMARY:Musée du jouet (du 05/04 au 28/06/25)
DESCRIPTION:Saison estivale du 05 avril au 25 octobre\, le Musée du Jouet est ouvert : \n\nLes mercredis et samedis de 14h à 17h (avril\, mai\, juin)\nLes mercredis\, jeudis\, vendredis et samedis de 14h à 17h (juillet et août sauf 15 août)\n\nRetrouvez :  \n\njeux en libre accès\nlivret-jeux enfant dès 7 ans\njeu d’observation : Retrouve les animaux du musée
URL:https://lafertemace.fr/event/musee-du-jouet-du-05-04-au-25-10-25/2025-04-23/
LOCATION:Musée du Jouet\, Rue de la Victoire\, La Ferté-Macé\, 61600
CATEGORIES:Expositions,Loisirs,Patrimoine,Sports et Loisirs
ATTACH;FMTTYPE=image/jpeg:https://lafertemace.fr/wp-content/uploads/2016/09/JPMuseeDuJouet.jpg
ORGANIZER;CN="Service Culture%2C Sports et Loisirs":MAILTO:sports.loisirs@lafertemace.fr
END:VEVENT
BEGIN:VEVENT
DTSTART;TZID=Europe/Helsinki:20250422T140000
DTEND;TZID=Europe/Helsinki:20250422T163000
DTSTAMP:20260422T160419
CREATED:20250401T103915Z
LAST-MODIFIED:20250401T103915Z
UID:10001124-1745330400-1745339400@lafertemace.fr
SUMMARY:Atelier tricot\, couture et crochet
DESCRIPTION:Atelier gratuit tous les mardis de 14h à 16h. \nRenseignements Centre Socioculturel Thérèse Letinturier\, 02 33 14 14 83 \n 
URL:https://lafertemace.fr/event/atelier-tricot-couture-et-crochet/2025-04-22/
LOCATION:Centre Socioculturel Thérèse Letinturier\, 14 Rue Pasteur\, La Ferté-Macé\, 61600
CATEGORIES:Atelier,Loisirs,Santé - Social
ATTACH;FMTTYPE=image/jpeg:https://lafertemace.fr/wp-content/uploads/2016/03/Couture-Fotolia_36679033_Subscription_Monthly_M-X540.jpg
ORGANIZER;CN="Centre Socioculturel Th%C3%A9r%C3%A8se Letinturier":MAILTO:centresocioculturel@lafertemace.fr
END:VEVENT
BEGIN:VEVENT
DTSTART;VALUE=DATE:20250422
DTEND;VALUE=DATE:20250423
DTSTAMP:20260422T160419
CREATED:20250317T112335Z
LAST-MODIFIED:20250317T112335Z
UID:10000489-1745280000-1745366399@lafertemace.fr
SUMMARY:Exposition P.A.R.A.D.E. (15/04-10/05/25)
DESCRIPTION:L’association P.A.R.A.D.E. réunit des passionnés de photographies animalières. \nIls nous présentent lors de cette exposition des photos faune flore et paysages. \nA la Médiathèque du 15/04 au 10/05/25\nTout public. Gratuit 
URL:https://lafertemace.fr/event/exposition-p-a-r-a-d-e-15-04-10-05-25/2025-04-22/
LOCATION:Médiathèque « La Grande Nouvelle »\, Le Grand Turc\, Rue St Denis\, La Ferté-macé\, 61600
CATEGORIES:Expositions,Loisirs,Sports et Loisirs
ATTACH;FMTTYPE=image/jpeg:https://lafertemace.fr/wp-content/uploads/2025/03/2025-Expo-PARADE.jpg
ORGANIZER;CN="M%C3%A9diath%C3%A8que 'La Grande Nouvelle' (Flers Agglo)":MAILTO:mediatheque.lafetemace@flers-agglo.fr
END:VEVENT
BEGIN:VEVENT
DTSTART;VALUE=DATE:20250422
DTEND;VALUE=DATE:20250423
DTSTAMP:20260422T160419
CREATED:20250304T110525Z
LAST-MODIFIED:20250304T110525Z
UID:10001962-1745280000-1745366399@lafertemace.fr
SUMMARY:SwinGolf - Mois découverte
DESCRIPTION:
URL:https://lafertemace.fr/event/swingolf-mois-decouverte/2025-04-22/
LOCATION:Terrain Annie Goutte\, Route de Domfront\, La Ferté-Macé\, 61600
CATEGORIES:Loisirs,Plein air,Sports,Sports et Loisirs
ATTACH;FMTTYPE=image/jpeg:https://lafertemace.fr/wp-content/uploads/2018/03/swin-golf-canne-balle.jpg
ORGANIZER;CN="Association Swin Fertois":MAILTO:aswinfertois@gmail.com
END:VEVENT
BEGIN:VEVENT
DTSTART;TZID=Europe/Helsinki:20250419T143000
DTEND;TZID=Europe/Helsinki:20250419T163000
DTSTAMP:20260422T160419
CREATED:20250319T163813Z
LAST-MODIFIED:20250319T163813Z
UID:10001160-1745073000-1745080200@lafertemace.fr
SUMMARY:Sortie avec le CPIE
DESCRIPTION:« Sur la piste des traces et empreintes » \nOrganisé en partenariat avec le CPIE Collines Normandes. \nParticipez à un jeu de piste passionnant sur les traces et empreintes des animaux qui habitent les environs de la Base de Loisirs. \nRDV : Base de Loisirs\, parking de La Brochardière. Gratuit pour tous
URL:https://lafertemace.fr/event/sortie-avec-le-cpie/2025-04-19/
LOCATION:Base de Loisirs\, Bd de la Forêt d'Andaine\, La Ferté-Macé\, 61600
CATEGORIES:Loisirs,Plein air,Santé - Social,Sports et Loisirs
ATTACH;FMTTYPE=image/jpeg:https://lafertemace.fr/wp-content/uploads/2017/10/AVATAR_mediatheque-e1509627180358.jpg
ORGANIZER;CN="M%C3%A9diath%C3%A8que 'La Grande Nouvelle' (Flers Agglo)":MAILTO:mediatheque.lafetemace@flers-agglo.fr
END:VEVENT
BEGIN:VEVENT
DTSTART;VALUE=DATE:20250419
DTEND;VALUE=DATE:20250420
DTSTAMP:20260422T160419
CREATED:20250408T103525Z
LAST-MODIFIED:20250408T103525Z
UID:10002009-1745020800-1745107199@lafertemace.fr
SUMMARY:Rallye de Pâques
DESCRIPTION:Jeux de piste organisés par Montagnes de Normandie du 12 au 21 avril 2025
URL:https://lafertemace.fr/event/rallye-de-paques-3/2025-04-19/
CATEGORIES:Loisirs,Sports et Loisirs
ORGANIZER;CN="Bureau Information Tourisme (Flers Agglo)":MAILTO:otsi.la-ferte-mace@wanadoo.fr
END:VEVENT
BEGIN:VEVENT
DTSTART;VALUE=DATE:20250419
DTEND;VALUE=DATE:20250420
DTSTAMP:20260422T160419
CREATED:20250317T112335Z
LAST-MODIFIED:20250317T112335Z
UID:10000488-1745020800-1745107199@lafertemace.fr
SUMMARY:Exposition P.A.R.A.D.E. (15/04-10/05/25)
DESCRIPTION:L’association P.A.R.A.D.E. réunit des passionnés de photographies animalières. \nIls nous présentent lors de cette exposition des photos faune flore et paysages. \nA la Médiathèque du 15/04 au 10/05/25\nTout public. Gratuit 
URL:https://lafertemace.fr/event/exposition-p-a-r-a-d-e-15-04-10-05-25/2025-04-19/
LOCATION:Médiathèque « La Grande Nouvelle »\, Le Grand Turc\, Rue St Denis\, La Ferté-macé\, 61600
CATEGORIES:Expositions,Loisirs,Sports et Loisirs
ATTACH;FMTTYPE=image/jpeg:https://lafertemace.fr/wp-content/uploads/2025/03/2025-Expo-PARADE.jpg
ORGANIZER;CN="M%C3%A9diath%C3%A8que 'La Grande Nouvelle' (Flers Agglo)":MAILTO:mediatheque.lafetemace@flers-agglo.fr
END:VEVENT
BEGIN:VEVENT
DTSTART;VALUE=DATE:20250419
DTEND;VALUE=DATE:20250420
DTSTAMP:20260422T160419
CREATED:20250213T121315Z
LAST-MODIFIED:20250213T121315Z
UID:10001947-1745020800-1745107199@lafertemace.fr
SUMMARY:Rallye de Pâques
DESCRIPTION:Du 19 au 21 avril\, partez à la découverte du patrimoine local de manière ludique\, en cherchant  des oeufs de pâques et en trouvant la clé des énigmes!. \nFiche jeu à récupérer à l’office de tourisme.
URL:https://lafertemace.fr/event/rallye-de-paques-2/2025-04-19/
LOCATION:Office de Tourisme\, 11 Rue de La Victoire\, La Ferté-Macé\, 61600\, France
CATEGORIES:Loisirs,Sports et Loisirs
ATTACH;FMTTYPE=image/jpeg:https://lafertemace.fr/wp-content/uploads/2017/04/chasse-aux-oeufs-Fotolia_136166555_Subscription_Monthly_M-X540.jpg
END:VEVENT
BEGIN:VEVENT
DTSTART;VALUE=DATE:20250419
DTEND;VALUE=DATE:20250420
DTSTAMP:20260422T160419
CREATED:20241018T111722Z
LAST-MODIFIED:20241018T112054Z
UID:10001305-1745020800-1745107199@lafertemace.fr
SUMMARY:Musée du jouet (du 05/04 au 28/06/25)
DESCRIPTION:Saison estivale du 05 avril au 25 octobre\, le Musée du Jouet est ouvert : \n\nLes mercredis et samedis de 14h à 17h (avril\, mai\, juin)\nLes mercredis\, jeudis\, vendredis et samedis de 14h à 17h (juillet et août sauf 15 août)\n\nRetrouvez :  \n\njeux en libre accès\nlivret-jeux enfant dès 7 ans\njeu d’observation : Retrouve les animaux du musée
URL:https://lafertemace.fr/event/musee-du-jouet-du-05-04-au-25-10-25/2025-04-19/
LOCATION:Musée du Jouet\, Rue de la Victoire\, La Ferté-Macé\, 61600
CATEGORIES:Expositions,Loisirs,Patrimoine,Sports et Loisirs
ATTACH;FMTTYPE=image/jpeg:https://lafertemace.fr/wp-content/uploads/2016/09/JPMuseeDuJouet.jpg
ORGANIZER;CN="Service Culture%2C Sports et Loisirs":MAILTO:sports.loisirs@lafertemace.fr
END:VEVENT
BEGIN:VEVENT
DTSTART;TZID=Europe/Helsinki:20250418T200000
DTEND;TZID=Europe/Helsinki:20250418T220000
DTSTAMP:20260422T160419
CREATED:20240909T145049Z
LAST-MODIFIED:20241213T110108Z
UID:10001629-1745006400-1745013600@lafertemace.fr
SUMMARY:Soirée jeux
DESCRIPTION:Soirées « jeux «  tous les vendredis 20h à 22 h jusqu’au 30 mai 2025\n« Après midi Jeux » les mardis et jeudis après midi pendant les petites vacances scolaires (sauf Noël)\n\n500 jeux de toutes sortes pour tous les âges. Gratuit- possibilité d’emprunt sous conditions \nA l’Espace jeux\,  10 rue de Versailles.\nContact : Les amis des jeux\, 06 85 89 18 40
URL:https://lafertemace.fr/event/soiree-jeux-4/2025-04-18/
LOCATION:Espace Jeux\, 10 rue de Versailles\, La Ferté-Macé
CATEGORIES:Loisirs,Santé - Social,Sports et Loisirs
ORGANIZER;CN="Les amis des jeux":MAILTO:albert.le-monnier@wanadoo.fr
END:VEVENT
BEGIN:VEVENT
DTSTART;TZID=Europe/Helsinki:20250418T180000
DTEND;TZID=Europe/Helsinki:20250418T180000
DTSTAMP:20260422T160419
CREATED:20250401T112940Z
LAST-MODIFIED:20250401T112940Z
UID:10001995-1744999200-1744999200@lafertemace.fr
SUMMARY:En famille\, ateliers cuisine...
DESCRIPTION:09/04 à 14h30 : Atelier cuisine brioche « Doowap ». Gratuit sur inscription jusqu’au 07/04\n18/04 à 18h : Couleurs et saveurs (apéro dinatoire). Gratuit sur inscription jusqu’au 16/04\n23/04 à 15h : Atelier cuisine chocolat maison. Gratuit sur inscription jusqu’au 18/04\n\nAu centre socioculturel T. Letinturier\, 02 33 14 14 83
URL:https://lafertemace.fr/event/en-famille-ateliers-cuisine/2025-04-18/
LOCATION:Centre Socioculturel Thérèse Letinturier\, 14 Rue Pasteur\, La Ferté-Macé\, 61600
CATEGORIES:Atelier,Loisirs,Repas,Sports et Loisirs
ATTACH;FMTTYPE=image/jpeg:https://lafertemace.fr/wp-content/uploads/2016/03/couvert_27285151_Subscription_Monthly_M-540.jpg
ORGANIZER;CN="Centre Socioculturel Th%C3%A9r%C3%A8se Letinturier":MAILTO:centresocioculturel@lafertemace.fr
END:VEVENT
BEGIN:VEVENT
DTSTART;TZID=Europe/Helsinki:20250418T150000
DTEND;TZID=Europe/Helsinki:20250418T170000
DTSTAMP:20260422T160419
CREATED:20250317T171336Z
LAST-MODIFIED:20250317T171336Z
UID:10001986-1744988400-1744995600@lafertemace.fr
SUMMARY:La Fabrique
DESCRIPTION:Décorations printanières \nAtelier créatif spécial printemps \nA 15h\, à la médiathèque.\nDès 5 ans\, gratuit sur inscription
URL:https://lafertemace.fr/event/la-fabrique-5/2025-04-18/
LOCATION:Médiathèque « La Grande Nouvelle »\, Le Grand Turc\, Rue St Denis\, La Ferté-macé\, 61600
CATEGORIES:Atelier,Loisirs,Sports et Loisirs
ATTACH;FMTTYPE=image/jpeg:https://lafertemace.fr/wp-content/uploads/2021/10/2021-LA-FABRIK-e1662127361660.jpg
ORGANIZER;CN="M%C3%A9diath%C3%A8que 'La Grande Nouvelle' (Flers Agglo)":MAILTO:mediatheque.lafetemace@flers-agglo.fr
END:VEVENT
BEGIN:VEVENT
DTSTART;TZID=Europe/Helsinki:20250418T103000
DTEND;TZID=Europe/Helsinki:20250418T103000
DTSTAMP:20260422T160419
CREATED:20250403T112938Z
LAST-MODIFIED:20250403T112938Z
UID:10002002-1744972200-1744972200@lafertemace.fr
SUMMARY:Cinéma\, séance adaptée
DESCRIPTION:Une séance spécialement adaptée aux personnes dont le handicap entraîne des troubles du comportement. Lors de cette projection\, tout est pensé pour offrir une expérience plus confortable et inclusive :\n– Volume sonore réduit\n– Lumière douce maintenue allumée\n– Liberté de mouvement et d’expression\nUne séance où chacun peut profiter du film à son rythme\, dans une atmosphère bienveillante et chaleureuse.
URL:https://lafertemace.fr/event/cinema-seance-adaptee/2025-04-18/
LOCATION:Cinéma\, Salle G. Philipe 8 rue St Denis\, La Ferté-Macé
CATEGORIES:Cinéma,Loisirs,Sports et Loisirs
ATTACH;FMTTYPE=image/jpeg:https://lafertemace.fr/wp-content/uploads/2020/06/AVATAR_cinemaLAFM-2-e1652193177948.jpg
ORGANIZER;CN="Cin%C3%A9Fert%C3%A9":MAILTO:cinemagerardphilipe@wanadoo.fr
END:VEVENT
BEGIN:VEVENT
DTSTART;TZID=Europe/Helsinki:20250417T150000
DTEND;TZID=Europe/Helsinki:20250417T150000
DTSTAMP:20260422T160419
CREATED:20250317T165336Z
LAST-MODIFIED:20250317T165336Z
UID:10001985-1744902000-1744902000@lafertemace.fr
SUMMARY:Les histoires en vacances!
DESCRIPTION:Des histoires lues et animées pendant les vacances\, suivi d’un goûter ! \nA 15h à la médiathèque\nDès 5 ans – Gratuit – Sur inscription
URL:https://lafertemace.fr/event/les-histoires-en-vacances/2025-04-17/
LOCATION:Médiathèque « La Grande Nouvelle »\, Le Grand Turc\, Rue St Denis\, La Ferté-macé\, 61600
CATEGORIES:Lecture,Loisirs,Sports et Loisirs
ORGANIZER;CN="M%C3%A9diath%C3%A8que 'La Grande Nouvelle' (Flers Agglo)":MAILTO:mediatheque.lafetemace@flers-agglo.fr
END:VEVENT
BEGIN:VEVENT
DTSTART;VALUE=DATE:20250417
DTEND;VALUE=DATE:20250418
DTSTAMP:20260422T160419
CREATED:20241127T111158Z
LAST-MODIFIED:20241127T111207Z
UID:10001685-1744848000-1744934399@lafertemace.fr
SUMMARY:dON DE SANG
DESCRIPTION:Les prochaines collectes de sang se dérouleront à la salle Guy Rossolini – Bd Hamonic – de 15h à 19h  : \n\nJeudi 20 février\nJeudi 17 avril\nLundi 16 juin
URL:https://lafertemace.fr/event/don-de-sang-4/2025-04-17/
LOCATION:Salle Guy Rossolini\, Bd Hamonic\, La Ferté-Macé\, 61600
CATEGORIES:Santé - Social
ATTACH;FMTTYPE=image/jpeg:https://lafertemace.fr/wp-content/uploads/2016/02/don-du-sang-540X578.jpg
ORGANIZER;CN="Ass. des donneurs de sang b%C3%A9n%C3%A9voles":MAILTO:thevenard.jeannine@neuf.fr
END:VEVENT
BEGIN:VEVENT
DTSTART;TZID=Europe/Helsinki:20250416T180000
DTEND;TZID=Europe/Helsinki:20250416T180000
DTSTAMP:20260422T160419
CREATED:20250403T112617Z
LAST-MODIFIED:20250403T112617Z
UID:10002001-1744826400-1744826400@lafertemace.fr
SUMMARY:British cinema
DESCRIPTION:Le British Cinema vous donne rendez-vous pour une nouvelle séance en version originale sous-titrée\, l’occasion parfaite de plonger dans l’univers du cinéma britannique et de savourer toute la richesse de la langue anglaise.
URL:https://lafertemace.fr/event/british-cinema-17/2025-04-16/
LOCATION:Cinéma\, Salle G. Philipe 8 rue St Denis\, La Ferté-Macé
CATEGORIES:Cinéma,Loisirs,Sports et Loisirs
ATTACH;FMTTYPE=image/jpeg:https://lafertemace.fr/wp-content/uploads/2020/06/AVATAR_cinemaLAFM-2-e1652193177948.jpg
ORGANIZER;CN="Cin%C3%A9Fert%C3%A9":MAILTO:cinemagerardphilipe@wanadoo.fr
END:VEVENT
BEGIN:VEVENT
DTSTART;VALUE=DATE:20250416
DTEND;VALUE=DATE:20250417
DTSTAMP:20260422T160419
CREATED:20241018T111722Z
LAST-MODIFIED:20241018T112054Z
UID:10001304-1744761600-1744847999@lafertemace.fr
SUMMARY:Musée du jouet (du 05/04 au 28/06/25)
DESCRIPTION:Saison estivale du 05 avril au 25 octobre\, le Musée du Jouet est ouvert : \n\nLes mercredis et samedis de 14h à 17h (avril\, mai\, juin)\nLes mercredis\, jeudis\, vendredis et samedis de 14h à 17h (juillet et août sauf 15 août)\n\nRetrouvez :  \n\njeux en libre accès\nlivret-jeux enfant dès 7 ans\njeu d’observation : Retrouve les animaux du musée
URL:https://lafertemace.fr/event/musee-du-jouet-du-05-04-au-25-10-25/2025-04-16/
LOCATION:Musée du Jouet\, Rue de la Victoire\, La Ferté-Macé\, 61600
CATEGORIES:Expositions,Loisirs,Patrimoine,Sports et Loisirs
ATTACH;FMTTYPE=image/jpeg:https://lafertemace.fr/wp-content/uploads/2016/09/JPMuseeDuJouet.jpg
ORGANIZER;CN="Service Culture%2C Sports et Loisirs":MAILTO:sports.loisirs@lafertemace.fr
END:VEVENT
BEGIN:VEVENT
DTSTART;TZID=Europe/Helsinki:20250415T140000
DTEND;TZID=Europe/Helsinki:20250415T163000
DTSTAMP:20260422T160419
CREATED:20250401T103915Z
LAST-MODIFIED:20250401T103915Z
UID:10001123-1744725600-1744734600@lafertemace.fr
SUMMARY:Atelier tricot\, couture et crochet
DESCRIPTION:Atelier gratuit tous les mardis de 14h à 16h. \nRenseignements Centre Socioculturel Thérèse Letinturier\, 02 33 14 14 83 \n 
URL:https://lafertemace.fr/event/atelier-tricot-couture-et-crochet/2025-04-15/
LOCATION:Centre Socioculturel Thérèse Letinturier\, 14 Rue Pasteur\, La Ferté-Macé\, 61600
CATEGORIES:Atelier,Loisirs,Santé - Social
ATTACH;FMTTYPE=image/jpeg:https://lafertemace.fr/wp-content/uploads/2016/03/Couture-Fotolia_36679033_Subscription_Monthly_M-X540.jpg
ORGANIZER;CN="Centre Socioculturel Th%C3%A9r%C3%A8se Letinturier":MAILTO:centresocioculturel@lafertemace.fr
END:VEVENT
END:VCALENDAR