BEGIN:VCALENDAR
VERSION:2.0
PRODID:-//Ville de La Ferté-Macé - ECPv6.15.20//NONSGML v1.0//EN
CALSCALE:GREGORIAN
METHOD:PUBLISH
X-WR-CALNAME:Ville de La Ferté-Macé
X-ORIGINAL-URL:https://lafertemace.fr
X-WR-CALDESC:Évènements pour Ville de La Ferté-Macé
REFRESH-INTERVAL;VALUE=DURATION:PT1H
X-Robots-Tag:noindex
X-PUBLISHED-TTL:PT1H
BEGIN:VTIMEZONE
TZID:Europe/Helsinki
BEGIN:DAYLIGHT
TZOFFSETFROM:+0200
TZOFFSETTO:+0300
TZNAME:EEST
DTSTART:20240331T010000
END:DAYLIGHT
BEGIN:STANDARD
TZOFFSETFROM:+0300
TZOFFSETTO:+0200
TZNAME:EET
DTSTART:20241027T010000
END:STANDARD
BEGIN:DAYLIGHT
TZOFFSETFROM:+0200
TZOFFSETTO:+0300
TZNAME:EEST
DTSTART:20250330T010000
END:DAYLIGHT
BEGIN:STANDARD
TZOFFSETFROM:+0300
TZOFFSETTO:+0200
TZNAME:EET
DTSTART:20251026T010000
END:STANDARD
BEGIN:DAYLIGHT
TZOFFSETFROM:+0200
TZOFFSETTO:+0300
TZNAME:EEST
DTSTART:20260329T010000
END:DAYLIGHT
BEGIN:STANDARD
TZOFFSETFROM:+0300
TZOFFSETTO:+0200
TZNAME:EET
DTSTART:20261025T010000
END:STANDARD
END:VTIMEZONE
BEGIN:VEVENT
DTSTART;VALUE=DATE:20250422
DTEND;VALUE=DATE:20250423
DTSTAMP:20260422T180204
CREATED:20250304T110525Z
LAST-MODIFIED:20250304T110525Z
UID:10001962-1745280000-1745366399@lafertemace.fr
SUMMARY:SwinGolf - Mois découverte
DESCRIPTION:
URL:https://lafertemace.fr/event/swingolf-mois-decouverte/2025-04-22/
LOCATION:Terrain Annie Goutte\, Route de Domfront\, La Ferté-Macé\, 61600
CATEGORIES:Loisirs,Plein air,Sports,Sports et Loisirs
ATTACH;FMTTYPE=image/jpeg:https://lafertemace.fr/wp-content/uploads/2018/03/swin-golf-canne-balle.jpg
ORGANIZER;CN="Association Swin Fertois":MAILTO:aswinfertois@gmail.com
END:VEVENT
BEGIN:VEVENT
DTSTART;TZID=Europe/Helsinki:20250419T143000
DTEND;TZID=Europe/Helsinki:20250419T163000
DTSTAMP:20260422T180204
CREATED:20250319T163813Z
LAST-MODIFIED:20250319T163813Z
UID:10001160-1745073000-1745080200@lafertemace.fr
SUMMARY:Sortie avec le CPIE
DESCRIPTION:« Sur la piste des traces et empreintes » \nOrganisé en partenariat avec le CPIE Collines Normandes. \nParticipez à un jeu de piste passionnant sur les traces et empreintes des animaux qui habitent les environs de la Base de Loisirs. \nRDV : Base de Loisirs\, parking de La Brochardière. Gratuit pour tous
URL:https://lafertemace.fr/event/sortie-avec-le-cpie/2025-04-19/
LOCATION:Base de Loisirs\, Bd de la Forêt d'Andaine\, La Ferté-Macé\, 61600
CATEGORIES:Loisirs,Plein air,Santé - Social,Sports et Loisirs
ATTACH;FMTTYPE=image/jpeg:https://lafertemace.fr/wp-content/uploads/2017/10/AVATAR_mediatheque-e1509627180358.jpg
ORGANIZER;CN="M%C3%A9diath%C3%A8que 'La Grande Nouvelle' (Flers Agglo)":MAILTO:mediatheque.lafetemace@flers-agglo.fr
END:VEVENT
BEGIN:VEVENT
DTSTART;VALUE=DATE:20250419
DTEND;VALUE=DATE:20250420
DTSTAMP:20260422T180204
CREATED:20250408T103525Z
LAST-MODIFIED:20250408T103525Z
UID:10002009-1745020800-1745107199@lafertemace.fr
SUMMARY:Rallye de Pâques
DESCRIPTION:Jeux de piste organisés par Montagnes de Normandie du 12 au 21 avril 2025
URL:https://lafertemace.fr/event/rallye-de-paques-3/2025-04-19/
CATEGORIES:Loisirs,Sports et Loisirs
ORGANIZER;CN="Bureau Information Tourisme (Flers Agglo)":MAILTO:otsi.la-ferte-mace@wanadoo.fr
END:VEVENT
BEGIN:VEVENT
DTSTART;VALUE=DATE:20250419
DTEND;VALUE=DATE:20250420
DTSTAMP:20260422T180204
CREATED:20250317T112335Z
LAST-MODIFIED:20250317T112335Z
UID:10000488-1745020800-1745107199@lafertemace.fr
SUMMARY:Exposition P.A.R.A.D.E. (15/04-10/05/25)
DESCRIPTION:L’association P.A.R.A.D.E. réunit des passionnés de photographies animalières. \nIls nous présentent lors de cette exposition des photos faune flore et paysages. \nA la Médiathèque du 15/04 au 10/05/25\nTout public. Gratuit 
URL:https://lafertemace.fr/event/exposition-p-a-r-a-d-e-15-04-10-05-25/2025-04-19/
LOCATION:Médiathèque « La Grande Nouvelle »\, Le Grand Turc\, Rue St Denis\, La Ferté-macé\, 61600
CATEGORIES:Expositions,Loisirs,Sports et Loisirs
ATTACH;FMTTYPE=image/jpeg:https://lafertemace.fr/wp-content/uploads/2025/03/2025-Expo-PARADE.jpg
ORGANIZER;CN="M%C3%A9diath%C3%A8que 'La Grande Nouvelle' (Flers Agglo)":MAILTO:mediatheque.lafetemace@flers-agglo.fr
END:VEVENT
BEGIN:VEVENT
DTSTART;VALUE=DATE:20250419
DTEND;VALUE=DATE:20250420
DTSTAMP:20260422T180204
CREATED:20250213T121315Z
LAST-MODIFIED:20250213T121315Z
UID:10001947-1745020800-1745107199@lafertemace.fr
SUMMARY:Rallye de Pâques
DESCRIPTION:Du 19 au 21 avril\, partez à la découverte du patrimoine local de manière ludique\, en cherchant  des oeufs de pâques et en trouvant la clé des énigmes!. \nFiche jeu à récupérer à l’office de tourisme.
URL:https://lafertemace.fr/event/rallye-de-paques-2/2025-04-19/
LOCATION:Office de Tourisme\, 11 Rue de La Victoire\, La Ferté-Macé\, 61600\, France
CATEGORIES:Loisirs,Sports et Loisirs
ATTACH;FMTTYPE=image/jpeg:https://lafertemace.fr/wp-content/uploads/2017/04/chasse-aux-oeufs-Fotolia_136166555_Subscription_Monthly_M-X540.jpg
END:VEVENT
BEGIN:VEVENT
DTSTART;VALUE=DATE:20250419
DTEND;VALUE=DATE:20250420
DTSTAMP:20260422T180205
CREATED:20241018T111722Z
LAST-MODIFIED:20241018T112054Z
UID:10001305-1745020800-1745107199@lafertemace.fr
SUMMARY:Musée du jouet (du 05/04 au 28/06/25)
DESCRIPTION:Saison estivale du 05 avril au 25 octobre\, le Musée du Jouet est ouvert : \n\nLes mercredis et samedis de 14h à 17h (avril\, mai\, juin)\nLes mercredis\, jeudis\, vendredis et samedis de 14h à 17h (juillet et août sauf 15 août)\n\nRetrouvez :  \n\njeux en libre accès\nlivret-jeux enfant dès 7 ans\njeu d’observation : Retrouve les animaux du musée
URL:https://lafertemace.fr/event/musee-du-jouet-du-05-04-au-25-10-25/2025-04-19/
LOCATION:Musée du Jouet\, Rue de la Victoire\, La Ferté-Macé\, 61600
CATEGORIES:Expositions,Loisirs,Patrimoine,Sports et Loisirs
ATTACH;FMTTYPE=image/jpeg:https://lafertemace.fr/wp-content/uploads/2016/09/JPMuseeDuJouet.jpg
ORGANIZER;CN="Service Culture%2C Sports et Loisirs":MAILTO:sports.loisirs@lafertemace.fr
END:VEVENT
BEGIN:VEVENT
DTSTART;TZID=Europe/Helsinki:20250418T200000
DTEND;TZID=Europe/Helsinki:20250418T220000
DTSTAMP:20260422T180205
CREATED:20240909T145049Z
LAST-MODIFIED:20241213T110108Z
UID:10001629-1745006400-1745013600@lafertemace.fr
SUMMARY:Soirée jeux
DESCRIPTION:Soirées « jeux «  tous les vendredis 20h à 22 h jusqu’au 30 mai 2025\n« Après midi Jeux » les mardis et jeudis après midi pendant les petites vacances scolaires (sauf Noël)\n\n500 jeux de toutes sortes pour tous les âges. Gratuit- possibilité d’emprunt sous conditions \nA l’Espace jeux\,  10 rue de Versailles.\nContact : Les amis des jeux\, 06 85 89 18 40
URL:https://lafertemace.fr/event/soiree-jeux-4/2025-04-18/
LOCATION:Espace Jeux\, 10 rue de Versailles\, La Ferté-Macé
CATEGORIES:Loisirs,Santé - Social,Sports et Loisirs
ORGANIZER;CN="Les amis des jeux":MAILTO:albert.le-monnier@wanadoo.fr
END:VEVENT
BEGIN:VEVENT
DTSTART;TZID=Europe/Helsinki:20250418T180000
DTEND;TZID=Europe/Helsinki:20250418T180000
DTSTAMP:20260422T180205
CREATED:20250401T112940Z
LAST-MODIFIED:20250401T112940Z
UID:10001995-1744999200-1744999200@lafertemace.fr
SUMMARY:En famille\, ateliers cuisine...
DESCRIPTION:09/04 à 14h30 : Atelier cuisine brioche « Doowap ». Gratuit sur inscription jusqu’au 07/04\n18/04 à 18h : Couleurs et saveurs (apéro dinatoire). Gratuit sur inscription jusqu’au 16/04\n23/04 à 15h : Atelier cuisine chocolat maison. Gratuit sur inscription jusqu’au 18/04\n\nAu centre socioculturel T. Letinturier\, 02 33 14 14 83
URL:https://lafertemace.fr/event/en-famille-ateliers-cuisine/2025-04-18/
LOCATION:Centre Socioculturel Thérèse Letinturier\, 14 Rue Pasteur\, La Ferté-Macé\, 61600
CATEGORIES:Atelier,Loisirs,Repas,Sports et Loisirs
ATTACH;FMTTYPE=image/jpeg:https://lafertemace.fr/wp-content/uploads/2016/03/couvert_27285151_Subscription_Monthly_M-540.jpg
ORGANIZER;CN="Centre Socioculturel Th%C3%A9r%C3%A8se Letinturier":MAILTO:centresocioculturel@lafertemace.fr
END:VEVENT
BEGIN:VEVENT
DTSTART;TZID=Europe/Helsinki:20250418T150000
DTEND;TZID=Europe/Helsinki:20250418T170000
DTSTAMP:20260422T180205
CREATED:20250317T171336Z
LAST-MODIFIED:20250317T171336Z
UID:10001986-1744988400-1744995600@lafertemace.fr
SUMMARY:La Fabrique
DESCRIPTION:Décorations printanières \nAtelier créatif spécial printemps \nA 15h\, à la médiathèque.\nDès 5 ans\, gratuit sur inscription
URL:https://lafertemace.fr/event/la-fabrique-5/2025-04-18/
LOCATION:Médiathèque « La Grande Nouvelle »\, Le Grand Turc\, Rue St Denis\, La Ferté-macé\, 61600
CATEGORIES:Atelier,Loisirs,Sports et Loisirs
ATTACH;FMTTYPE=image/jpeg:https://lafertemace.fr/wp-content/uploads/2021/10/2021-LA-FABRIK-e1662127361660.jpg
ORGANIZER;CN="M%C3%A9diath%C3%A8que 'La Grande Nouvelle' (Flers Agglo)":MAILTO:mediatheque.lafetemace@flers-agglo.fr
END:VEVENT
BEGIN:VEVENT
DTSTART;TZID=Europe/Helsinki:20250418T103000
DTEND;TZID=Europe/Helsinki:20250418T103000
DTSTAMP:20260422T180205
CREATED:20250403T112938Z
LAST-MODIFIED:20250403T112938Z
UID:10002002-1744972200-1744972200@lafertemace.fr
SUMMARY:Cinéma\, séance adaptée
DESCRIPTION:Une séance spécialement adaptée aux personnes dont le handicap entraîne des troubles du comportement. Lors de cette projection\, tout est pensé pour offrir une expérience plus confortable et inclusive :\n– Volume sonore réduit\n– Lumière douce maintenue allumée\n– Liberté de mouvement et d’expression\nUne séance où chacun peut profiter du film à son rythme\, dans une atmosphère bienveillante et chaleureuse.
URL:https://lafertemace.fr/event/cinema-seance-adaptee/2025-04-18/
LOCATION:Cinéma\, Salle G. Philipe 8 rue St Denis\, La Ferté-Macé
CATEGORIES:Cinéma,Loisirs,Sports et Loisirs
ATTACH;FMTTYPE=image/jpeg:https://lafertemace.fr/wp-content/uploads/2020/06/AVATAR_cinemaLAFM-2-e1652193177948.jpg
ORGANIZER;CN="Cin%C3%A9Fert%C3%A9":MAILTO:cinemagerardphilipe@wanadoo.fr
END:VEVENT
BEGIN:VEVENT
DTSTART;TZID=Europe/Helsinki:20250417T150000
DTEND;TZID=Europe/Helsinki:20250417T150000
DTSTAMP:20260422T180205
CREATED:20250317T165336Z
LAST-MODIFIED:20250317T165336Z
UID:10001985-1744902000-1744902000@lafertemace.fr
SUMMARY:Les histoires en vacances!
DESCRIPTION:Des histoires lues et animées pendant les vacances\, suivi d’un goûter ! \nA 15h à la médiathèque\nDès 5 ans – Gratuit – Sur inscription
URL:https://lafertemace.fr/event/les-histoires-en-vacances/2025-04-17/
LOCATION:Médiathèque « La Grande Nouvelle »\, Le Grand Turc\, Rue St Denis\, La Ferté-macé\, 61600
CATEGORIES:Lecture,Loisirs,Sports et Loisirs
ORGANIZER;CN="M%C3%A9diath%C3%A8que 'La Grande Nouvelle' (Flers Agglo)":MAILTO:mediatheque.lafetemace@flers-agglo.fr
END:VEVENT
BEGIN:VEVENT
DTSTART;VALUE=DATE:20250417
DTEND;VALUE=DATE:20250418
DTSTAMP:20260422T180205
CREATED:20241127T111158Z
LAST-MODIFIED:20241127T111207Z
UID:10001685-1744848000-1744934399@lafertemace.fr
SUMMARY:dON DE SANG
DESCRIPTION:Les prochaines collectes de sang se dérouleront à la salle Guy Rossolini – Bd Hamonic – de 15h à 19h  : \n\nJeudi 20 février\nJeudi 17 avril\nLundi 16 juin
URL:https://lafertemace.fr/event/don-de-sang-4/2025-04-17/
LOCATION:Salle Guy Rossolini\, Bd Hamonic\, La Ferté-Macé\, 61600
CATEGORIES:Santé - Social
ATTACH;FMTTYPE=image/jpeg:https://lafertemace.fr/wp-content/uploads/2016/02/don-du-sang-540X578.jpg
ORGANIZER;CN="Ass. des donneurs de sang b%C3%A9n%C3%A9voles":MAILTO:thevenard.jeannine@neuf.fr
END:VEVENT
BEGIN:VEVENT
DTSTART;TZID=Europe/Helsinki:20250416T180000
DTEND;TZID=Europe/Helsinki:20250416T180000
DTSTAMP:20260422T180205
CREATED:20250403T112617Z
LAST-MODIFIED:20250403T112617Z
UID:10002001-1744826400-1744826400@lafertemace.fr
SUMMARY:British cinema
DESCRIPTION:Le British Cinema vous donne rendez-vous pour une nouvelle séance en version originale sous-titrée\, l’occasion parfaite de plonger dans l’univers du cinéma britannique et de savourer toute la richesse de la langue anglaise.
URL:https://lafertemace.fr/event/british-cinema-17/2025-04-16/
LOCATION:Cinéma\, Salle G. Philipe 8 rue St Denis\, La Ferté-Macé
CATEGORIES:Cinéma,Loisirs,Sports et Loisirs
ATTACH;FMTTYPE=image/jpeg:https://lafertemace.fr/wp-content/uploads/2020/06/AVATAR_cinemaLAFM-2-e1652193177948.jpg
ORGANIZER;CN="Cin%C3%A9Fert%C3%A9":MAILTO:cinemagerardphilipe@wanadoo.fr
END:VEVENT
BEGIN:VEVENT
DTSTART;VALUE=DATE:20250416
DTEND;VALUE=DATE:20250417
DTSTAMP:20260422T180205
CREATED:20241018T111722Z
LAST-MODIFIED:20241018T112054Z
UID:10001304-1744761600-1744847999@lafertemace.fr
SUMMARY:Musée du jouet (du 05/04 au 28/06/25)
DESCRIPTION:Saison estivale du 05 avril au 25 octobre\, le Musée du Jouet est ouvert : \n\nLes mercredis et samedis de 14h à 17h (avril\, mai\, juin)\nLes mercredis\, jeudis\, vendredis et samedis de 14h à 17h (juillet et août sauf 15 août)\n\nRetrouvez :  \n\njeux en libre accès\nlivret-jeux enfant dès 7 ans\njeu d’observation : Retrouve les animaux du musée
URL:https://lafertemace.fr/event/musee-du-jouet-du-05-04-au-25-10-25/2025-04-16/
LOCATION:Musée du Jouet\, Rue de la Victoire\, La Ferté-Macé\, 61600
CATEGORIES:Expositions,Loisirs,Patrimoine,Sports et Loisirs
ATTACH;FMTTYPE=image/jpeg:https://lafertemace.fr/wp-content/uploads/2016/09/JPMuseeDuJouet.jpg
ORGANIZER;CN="Service Culture%2C Sports et Loisirs":MAILTO:sports.loisirs@lafertemace.fr
END:VEVENT
BEGIN:VEVENT
DTSTART;TZID=Europe/Helsinki:20250415T140000
DTEND;TZID=Europe/Helsinki:20250415T163000
DTSTAMP:20260422T180205
CREATED:20250401T103915Z
LAST-MODIFIED:20250401T103915Z
UID:10001123-1744725600-1744734600@lafertemace.fr
SUMMARY:Atelier tricot\, couture et crochet
DESCRIPTION:Atelier gratuit tous les mardis de 14h à 16h. \nRenseignements Centre Socioculturel Thérèse Letinturier\, 02 33 14 14 83 \n 
URL:https://lafertemace.fr/event/atelier-tricot-couture-et-crochet/2025-04-15/
LOCATION:Centre Socioculturel Thérèse Letinturier\, 14 Rue Pasteur\, La Ferté-Macé\, 61600
CATEGORIES:Atelier,Loisirs,Santé - Social
ATTACH;FMTTYPE=image/jpeg:https://lafertemace.fr/wp-content/uploads/2016/03/Couture-Fotolia_36679033_Subscription_Monthly_M-X540.jpg
ORGANIZER;CN="Centre Socioculturel Th%C3%A9r%C3%A8se Letinturier":MAILTO:centresocioculturel@lafertemace.fr
END:VEVENT
BEGIN:VEVENT
DTSTART;VALUE=DATE:20250415
DTEND;VALUE=DATE:20250416
DTSTAMP:20260422T180205
CREATED:20250317T112335Z
LAST-MODIFIED:20250317T112335Z
UID:10000487-1744675200-1744761599@lafertemace.fr
SUMMARY:Exposition P.A.R.A.D.E. (15/04-10/05/25)
DESCRIPTION:L’association P.A.R.A.D.E. réunit des passionnés de photographies animalières. \nIls nous présentent lors de cette exposition des photos faune flore et paysages. \nA la Médiathèque du 15/04 au 10/05/25\nTout public. Gratuit 
URL:https://lafertemace.fr/event/exposition-p-a-r-a-d-e-15-04-10-05-25/2025-04-15/
LOCATION:Médiathèque « La Grande Nouvelle »\, Le Grand Turc\, Rue St Denis\, La Ferté-macé\, 61600
CATEGORIES:Expositions,Loisirs,Sports et Loisirs
ATTACH;FMTTYPE=image/jpeg:https://lafertemace.fr/wp-content/uploads/2025/03/2025-Expo-PARADE.jpg
ORGANIZER;CN="M%C3%A9diath%C3%A8que 'La Grande Nouvelle' (Flers Agglo)":MAILTO:mediatheque.lafetemace@flers-agglo.fr
END:VEVENT
BEGIN:VEVENT
DTSTART;VALUE=DATE:20250415
DTEND;VALUE=DATE:20250416
DTSTAMP:20260422T180205
CREATED:20250304T110525Z
LAST-MODIFIED:20250304T110525Z
UID:10001961-1744675200-1744761599@lafertemace.fr
SUMMARY:SwinGolf - Mois découverte
DESCRIPTION:
URL:https://lafertemace.fr/event/swingolf-mois-decouverte/2025-04-15/
LOCATION:Terrain Annie Goutte\, Route de Domfront\, La Ferté-Macé\, 61600
CATEGORIES:Loisirs,Plein air,Sports,Sports et Loisirs
ATTACH;FMTTYPE=image/jpeg:https://lafertemace.fr/wp-content/uploads/2018/03/swin-golf-canne-balle.jpg
ORGANIZER;CN="Association Swin Fertois":MAILTO:aswinfertois@gmail.com
END:VEVENT
BEGIN:VEVENT
DTSTART;VALUE=DATE:20250414
DTEND;VALUE=DATE:20250415
DTSTAMP:20260422T180205
CREATED:20250319T112044Z
LAST-MODIFIED:20250319T112044Z
UID:10001164-1744588800-1744675199@lafertemace.fr
SUMMARY:Vacances de printemps 6-11 ans (7-18/04)
DESCRIPTION:Activités proposées du 07 au  18 avril 2025\, au centre de loisirs 6 -11 ans \nRetour vers le passé : les années 50 \nPlongez dans une époque où le rock’n’roll rythmait le quotidien\, où les robes à pois tourbillonnaient et où les jeux d’enfants avaient un charme bien particulier. Pendant les vacances\, vos enfants partiront à la rencontre de personnes qui leur raconteront leur enfance d’autrefois. Ils découvriront les secrets du hula-hoop\, ils exploreront les jouets d’antan. Ils laisseront libre cours à leur créativité en imaginant la mode et les objets amusants de cette décennie.\nUne aventure pleine de souvenirs\, de rires et de surprises les attend ! \nLire la plaquette 6-11 ans
URL:https://lafertemace.fr/event/vacances-de-printemps-6-11-ans-7-18-04/2025-04-14/
LOCATION:Centre Socioculturel Thérèse Letinturier\, 14 Rue Pasteur\, La Ferté-Macé\, 61600
CATEGORIES:Loisirs,Sports et Loisirs
ATTACH;FMTTYPE=image/jpeg:https://lafertemace.fr/wp-content/uploads/2023/08/2023-Centre-Socio-Therse-Letinturier-2.jpg
ORGANIZER;CN="Centre Socioculturel Th%C3%A9r%C3%A8se Letinturier":MAILTO:centresocioculturel@lafertemace.fr
END:VEVENT
BEGIN:VEVENT
DTSTART;VALUE=DATE:20250414
DTEND;VALUE=DATE:20250415
DTSTAMP:20260422T180205
CREATED:20250319T105954Z
LAST-MODIFIED:20250319T105954Z
UID:10001992-1744588800-1744675199@lafertemace.fr
SUMMARY:Vacances de Printemps 3-6 ans (7-18/04)
DESCRIPTION:Activités proposées du 07 au  18 avril 2025\, au centre de loisirs 3-6 ans \nLe Printemps est là !\nLes arbres et les fleurs renaissent. C’est le moment idéal pour réveiller la créativité des enfants par des activités manuelles et ludiques ! Ils réaliseront des cadres en fleurs naturelles que nous cueillerons lors de balades. Ils découvriront l’utilisation de la peinture avec une fourchette\, à la paille\, avec du papier d’alu et du papier bulle\, pour y dessiner des fleurs\, des coccinelles\, des papillons. Les enfants vont explorer la magie par des expériences comme la transformation de leurs dessins en chenilles\, ou l’éclosion de fleurs avec de l’eau…\nVivement les vacances ! \nLire la plaquette avril 2025 3-6 ans
URL:https://lafertemace.fr/event/vacances-de-printemps-3-6-ans-7-18-04/2025-04-14/
LOCATION:Centre Socioculturel Thérèse Letinturier\, 14 Rue Pasteur\, La Ferté-Macé\, 61600
CATEGORIES:Loisirs,Sports et Loisirs
ATTACH;FMTTYPE=image/jpeg:https://lafertemace.fr/wp-content/uploads/2023/08/2023-Centre-Socio-Therse-Letinturier-2.jpg
ORGANIZER;CN="Centre Socioculturel Th%C3%A9r%C3%A8se Letinturier":MAILTO:centresocioculturel@lafertemace.fr
END:VEVENT
BEGIN:VEVENT
DTSTART;TZID=Europe/Helsinki:20250413T163000
DTEND;TZID=Europe/Helsinki:20250413T163000
DTSTAMP:20260422T180205
CREATED:20250403T112338Z
LAST-MODIFIED:20250403T112338Z
UID:10002000-1744561800-1744561800@lafertemace.fr
SUMMARY:Classiques sur grand écran (VO)
DESCRIPTION:À l’issue de la projection en version originale\, Youri Deschamps\, spécialiste du cinéma de patrimoine et rédacteur en chef de la revue Eclipses apportera son éclairage sur La Garçonnière\, en analysant son humour caustique\, sa mise en scène brillante et son héritage dans l’histoire du cinéma.
URL:https://lafertemace.fr/event/classiques-sur-grand-ecran-vo/2025-04-13/
LOCATION:Cinéma\, Salle G. Philipe 8 rue St Denis\, La Ferté-Macé
CATEGORIES:Cinéma,Loisirs,Sports et Loisirs
ATTACH;FMTTYPE=image/jpeg:https://lafertemace.fr/wp-content/uploads/2020/06/AVATAR_cinemaLAFM-2-e1652193177948.jpg
ORGANIZER;CN="Cin%C3%A9Fert%C3%A9":MAILTO:cinemagerardphilipe@wanadoo.fr
END:VEVENT
BEGIN:VEVENT
DTSTART;TZID=Europe/Helsinki:20250412T153000
DTEND;TZID=Europe/Helsinki:20250412T153000
DTSTAMP:20260422T180205
CREATED:20241128T164543Z
LAST-MODIFIED:20241128T164543Z
UID:10001047-1744471800-1744471800@lafertemace.fr
SUMMARY:Les Andain'ries
DESCRIPTION:Claudio Mutazzi à 15h30
URL:https://lafertemace.fr/event/les-andainries/2025-04-12/
CATEGORIES:Concert - Spectacle - Débat,Loisirs,Plein air,Sports et Loisirs
ATTACH;FMTTYPE=image/jpeg:https://lafertemace.fr/wp-content/uploads/2019/10/les-andainries-2020.jpg
ORGANIZER;CN="Service Culture%2C Sports et Loisirs":MAILTO:sports.loisirs@lafertemace.fr
END:VEVENT
BEGIN:VEVENT
DTSTART;VALUE=DATE:20250412
DTEND;VALUE=DATE:20250413
DTSTAMP:20260422T180205
CREATED:20250408T103525Z
LAST-MODIFIED:20250408T103525Z
UID:10002008-1744416000-1744502399@lafertemace.fr
SUMMARY:Rallye de Pâques
DESCRIPTION:Jeux de piste organisés par Montagnes de Normandie du 12 au 21 avril 2025
URL:https://lafertemace.fr/event/rallye-de-paques-3/2025-04-12/
CATEGORIES:Loisirs,Sports et Loisirs
ORGANIZER;CN="Bureau Information Tourisme (Flers Agglo)":MAILTO:otsi.la-ferte-mace@wanadoo.fr
END:VEVENT
BEGIN:VEVENT
DTSTART;VALUE=DATE:20250412
DTEND;VALUE=DATE:20250413
DTSTAMP:20260422T180205
CREATED:20241018T111722Z
LAST-MODIFIED:20241018T112054Z
UID:10001303-1744416000-1744502399@lafertemace.fr
SUMMARY:Musée du jouet (du 05/04 au 28/06/25)
DESCRIPTION:Saison estivale du 05 avril au 25 octobre\, le Musée du Jouet est ouvert : \n\nLes mercredis et samedis de 14h à 17h (avril\, mai\, juin)\nLes mercredis\, jeudis\, vendredis et samedis de 14h à 17h (juillet et août sauf 15 août)\n\nRetrouvez :  \n\njeux en libre accès\nlivret-jeux enfant dès 7 ans\njeu d’observation : Retrouve les animaux du musée
URL:https://lafertemace.fr/event/musee-du-jouet-du-05-04-au-25-10-25/2025-04-12/
LOCATION:Musée du Jouet\, Rue de la Victoire\, La Ferté-Macé\, 61600
CATEGORIES:Expositions,Loisirs,Patrimoine,Sports et Loisirs
ATTACH;FMTTYPE=image/jpeg:https://lafertemace.fr/wp-content/uploads/2016/09/JPMuseeDuJouet.jpg
ORGANIZER;CN="Service Culture%2C Sports et Loisirs":MAILTO:sports.loisirs@lafertemace.fr
END:VEVENT
BEGIN:VEVENT
DTSTART;TZID=Europe/Helsinki:20250411T200000
DTEND;TZID=Europe/Helsinki:20250411T220000
DTSTAMP:20260422T180205
CREATED:20240909T145049Z
LAST-MODIFIED:20241213T110108Z
UID:10001628-1744401600-1744408800@lafertemace.fr
SUMMARY:Soirée jeux
DESCRIPTION:Soirées « jeux «  tous les vendredis 20h à 22 h jusqu’au 30 mai 2025\n« Après midi Jeux » les mardis et jeudis après midi pendant les petites vacances scolaires (sauf Noël)\n\n500 jeux de toutes sortes pour tous les âges. Gratuit- possibilité d’emprunt sous conditions \nA l’Espace jeux\,  10 rue de Versailles.\nContact : Les amis des jeux\, 06 85 89 18 40
URL:https://lafertemace.fr/event/soiree-jeux-4/2025-04-11/
LOCATION:Espace Jeux\, 10 rue de Versailles\, La Ferté-Macé
CATEGORIES:Loisirs,Santé - Social,Sports et Loisirs
ORGANIZER;CN="Les amis des jeux":MAILTO:albert.le-monnier@wanadoo.fr
END:VEVENT
BEGIN:VEVENT
DTSTART;TZID=Europe/Helsinki:20250411T150000
DTEND;TZID=Europe/Helsinki:20250411T170000
DTSTAMP:20260422T180205
CREATED:20250317T114906Z
LAST-MODIFIED:20250317T114906Z
UID:10001462-1744383600-1744390800@lafertemace.fr
SUMMARY:Les p'tits geeks
DESCRIPTION:Animation pour les enfants autour des outils numériques. Crée ta chanson avec l’IA !\n\nA 15h à la médiathèque.\nDe 9 à 13 ans. Gratuit – sur inscription
URL:https://lafertemace.fr/event/les-ptits-geeks/2025-04-11/
LOCATION:Médiathèque « La Grande Nouvelle »\, Le Grand Turc\, Rue St Denis\, La Ferté-macé\, 61600
CATEGORIES:Atelier,Loisirs,Sports et Loisirs
ATTACH;FMTTYPE=image/jpeg:https://lafertemace.fr/wp-content/uploads/2022/01/Les-ptits-geeks.jpg
ORGANIZER;CN="M%C3%A9diath%C3%A8que 'La Grande Nouvelle' (Flers Agglo)":MAILTO:mediatheque.lafetemace@flers-agglo.fr
END:VEVENT
BEGIN:VEVENT
DTSTART;TZID=Europe/Helsinki:20250409T143000
DTEND;TZID=Europe/Helsinki:20250409T143000
DTSTAMP:20260422T180205
CREATED:20250401T112940Z
LAST-MODIFIED:20250401T112940Z
UID:10001994-1744209000-1744209000@lafertemace.fr
SUMMARY:En famille\, ateliers cuisine...
DESCRIPTION:09/04 à 14h30 : Atelier cuisine brioche « Doowap ». Gratuit sur inscription jusqu’au 07/04\n18/04 à 18h : Couleurs et saveurs (apéro dinatoire). Gratuit sur inscription jusqu’au 16/04\n23/04 à 15h : Atelier cuisine chocolat maison. Gratuit sur inscription jusqu’au 18/04\n\nAu centre socioculturel T. Letinturier\, 02 33 14 14 83
URL:https://lafertemace.fr/event/en-famille-ateliers-cuisine/2025-04-09/
LOCATION:Centre Socioculturel Thérèse Letinturier\, 14 Rue Pasteur\, La Ferté-Macé\, 61600
CATEGORIES:Atelier,Loisirs,Repas,Sports et Loisirs
ATTACH;FMTTYPE=image/jpeg:https://lafertemace.fr/wp-content/uploads/2016/03/couvert_27285151_Subscription_Monthly_M-540.jpg
ORGANIZER;CN="Centre Socioculturel Th%C3%A9r%C3%A8se Letinturier":MAILTO:centresocioculturel@lafertemace.fr
END:VEVENT
BEGIN:VEVENT
DTSTART;TZID=Europe/Helsinki:20250409T140000
DTEND;TZID=Europe/Helsinki:20250409T140000
DTSTAMP:20260422T180205
CREATED:20250403T112032Z
LAST-MODIFIED:20250403T112032Z
UID:10001999-1744207200-1744207200@lafertemace.fr
SUMMARY:Clap ou pas clap?
DESCRIPTION:Un grand classique du cinéma français : « Le Jouet » (1976)\, réalisé par Francis Veber et porté par l’inimitable Pierre Richard. \nSuivi d’une animation « Faire l’idiot.e\, rire de soi ! » : animation exceptionnelle menée par Éric Fouchet ou Stéphane Pelliccia\, deux comédiens passionnés de burlesque et de comédie physique.
URL:https://lafertemace.fr/event/clap-ou-pas-clap-11/2025-04-09/
LOCATION:Cinéma\, Salle G. Philipe 8 rue St Denis\, La Ferté-Macé
CATEGORIES:Cinéma,Loisirs,Sports et Loisirs
ATTACH;FMTTYPE=image/jpeg:https://lafertemace.fr/wp-content/uploads/2020/06/AVATAR_cinemaLAFM-2-e1652193177948.jpg
ORGANIZER;CN="Cin%C3%A9Fert%C3%A9":MAILTO:cinemagerardphilipe@wanadoo.fr
END:VEVENT
BEGIN:VEVENT
DTSTART;VALUE=DATE:20250409
DTEND;VALUE=DATE:20250412
DTSTAMP:20260422T180205
CREATED:20250304T161437Z
LAST-MODIFIED:20250304T161437Z
UID:10001968-1744156800-1744415999@lafertemace.fr
SUMMARY:Mini camp (11-13 ans)
DESCRIPTION: 
URL:https://lafertemace.fr/event/mini-camp-11-13-ans/
LOCATION:Centre Socioculturel Thérèse Letinturier\, 14 Rue Pasteur\, La Ferté-Macé\, 61600
CATEGORIES:Loisirs,Plein air,Repas,Santé - Social,Sports,Sports et Loisirs
ATTACH;FMTTYPE=image/jpeg:https://lafertemace.fr/wp-content/uploads/2016/03/Centre-socioculturel-Fertois-X-540.jpg
ORGANIZER;CN="Centre Socioculturel Th%C3%A9r%C3%A8se Letinturier":MAILTO:centresocioculturel@lafertemace.fr
END:VEVENT
BEGIN:VEVENT
DTSTART;VALUE=DATE:20250409
DTEND;VALUE=DATE:20250411
DTSTAMP:20260422T180205
CREATED:20250319T104702Z
LAST-MODIFIED:20250319T104702Z
UID:10001990-1744156800-1744329599@lafertemace.fr
SUMMARY:Land Art
DESCRIPTION:Atelier les 9 et 10 avril 2025 pour les 7 -10 ans.
URL:https://lafertemace.fr/event/land-art/
LOCATION:Centre Socioculturel Thérèse Letinturier\, 14 Rue Pasteur\, La Ferté-Macé\, 61600
CATEGORIES:Atelier,Loisirs,Plein air,Sports et Loisirs
ATTACH;FMTTYPE=image/jpeg:https://lafertemace.fr/wp-content/uploads/2023/08/2023-Centre-Socio-Therse-Letinturier-2.jpg
ORGANIZER;CN="Centre Socioculturel Th%C3%A9r%C3%A8se Letinturier":MAILTO:centresocioculturel@lafertemace.fr
END:VEVENT
BEGIN:VEVENT
DTSTART;VALUE=DATE:20250409
DTEND;VALUE=DATE:20250410
DTSTAMP:20260422T180205
CREATED:20250123T150303Z
LAST-MODIFIED:20250123T150303Z
UID:10001711-1744156800-1744243199@lafertemace.fr
SUMMARY:Cirque
DESCRIPTION:Cirque Novelty du 5 au 13 avril 2025\, sur le parking de la Base de Loisirs
URL:https://lafertemace.fr/event/cirque-2/2025-04-09/
LOCATION:Base de Loisirs\, Bd de la Forêt d'Andaine\, La Ferté-Macé\, 61600
CATEGORIES:Loisirs,Sports et Loisirs
ATTACH;FMTTYPE=image/jpeg:https://lafertemace.fr/wp-content/uploads/2017/02/Cirque-Fotolia_77361138_Subscription_Monthly_M-X540.jpg
ORGANIZER;CN="Service Culture%2C Sports et Loisirs":MAILTO:sports.loisirs@lafertemace.fr
END:VEVENT
END:VCALENDAR