BEGIN:VCALENDAR
VERSION:2.0
PRODID:-//Ville de La Ferté-Macé - ECPv6.15.20//NONSGML v1.0//EN
CALSCALE:GREGORIAN
METHOD:PUBLISH
X-ORIGINAL-URL:https://lafertemace.fr
X-WR-CALDESC:Évènements pour Ville de La Ferté-Macé
REFRESH-INTERVAL;VALUE=DURATION:PT1H
X-Robots-Tag:noindex
X-PUBLISHED-TTL:PT1H
BEGIN:VTIMEZONE
TZID:Europe/Helsinki
BEGIN:DAYLIGHT
TZOFFSETFROM:+0200
TZOFFSETTO:+0300
TZNAME:EEST
DTSTART:20230326T010000
END:DAYLIGHT
BEGIN:STANDARD
TZOFFSETFROM:+0300
TZOFFSETTO:+0200
TZNAME:EET
DTSTART:20231029T010000
END:STANDARD
BEGIN:DAYLIGHT
TZOFFSETFROM:+0200
TZOFFSETTO:+0300
TZNAME:EEST
DTSTART:20240331T010000
END:DAYLIGHT
BEGIN:STANDARD
TZOFFSETFROM:+0300
TZOFFSETTO:+0200
TZNAME:EET
DTSTART:20241027T010000
END:STANDARD
BEGIN:DAYLIGHT
TZOFFSETFROM:+0200
TZOFFSETTO:+0300
TZNAME:EEST
DTSTART:20250330T010000
END:DAYLIGHT
BEGIN:STANDARD
TZOFFSETFROM:+0300
TZOFFSETTO:+0200
TZNAME:EET
DTSTART:20251026T010000
END:STANDARD
END:VTIMEZONE
BEGIN:VEVENT
DTSTART;VALUE=DATE:20241218
DTEND;VALUE=DATE:20241219
DTSTAMP:20260423T125130
CREATED:20241018T110813Z
LAST-MODIFIED:20241018T110813Z
UID:10001209-1734480000-1734566399@lafertemace.fr
SUMMARY:Musée du Jouet (08-22/02/25)
DESCRIPTION:Du 08 au 22 février\, le musée du jouet est ouvert les mercredis\, jeudis\, vendredis et samedis de 14h à 17h. \n\nJeu d’observation : Retrouve les animaux du musée
URL:https://lafertemace.fr/event/musee-du-jouet-08-22-02-25/2024-12-18/
LOCATION:Musée du Jouet\, Rue de la Victoire\, La Ferté-Macé\, 61600
CATEGORIES:Expositions,Loisirs,Patrimoine,Sports et Loisirs
ATTACH;FMTTYPE=image/jpeg:https://lafertemace.fr/wp-content/uploads/2016/09/JPMuseeDuJouet.jpg
ORGANIZER;CN="Service Culture%2C Sports et Loisirs":MAILTO:sports.loisirs@lafertemace.fr
END:VEVENT
BEGIN:VEVENT
DTSTART;TZID=Europe/Helsinki:20241217T203000
DTEND;TZID=Europe/Helsinki:20241217T203000
DTSTAMP:20260423T125130
CREATED:20241024T153402Z
LAST-MODIFIED:20241024T153402Z
UID:10000997-1734467400-1734467400@lafertemace.fr
SUMMARY:Saison culturelle "Mon Bras"
DESCRIPTION:Un garçon de dix ans\, un jour d’ennui\, lève son bras en l’air et le garde ainsi toute sa vie. Au fil des années il deviendra un objet de moqueries\, un cas d’école pour la médecine et une icône de la scène artistique… \n\nThéâtre/Manipulation d’objets – à partir de 9 ans – Cie Studio Monstre\n17/12/2024 – Salle Gérard Philipe à 20h30.\n\nPlus d’infos\, billeterie : https://lafertemace.fr/spectacles-saison-culturelle/
URL:https://lafertemace.fr/event/saison-culturelle-mon-bras/
LOCATION:Salle Gérard Philipe\, Le Grand Turc\, Rue St Denis\, La Ferté-Macé\, 61600
CATEGORIES:Concert - Spectacle - Débat,Loisirs,Sports et Loisirs
ORGANIZER;CN="M%C3%A9diath%C3%A8que 'La Grande Nouvelle' (Flers Agglo)":MAILTO:mediatheque.lafetemace@flers-agglo.fr
END:VEVENT
BEGIN:VEVENT
DTSTART;TZID=Europe/Helsinki:20241214T150000
DTEND;TZID=Europe/Helsinki:20241214T150000
DTSTAMP:20260423T125130
CREATED:20241128T161533Z
LAST-MODIFIED:20241128T161533Z
UID:10001035-1734188400-1734188400@lafertemace.fr
SUMMARY:La Fabrique
DESCRIPTION:Comment recycler ses livres en objets déco ! Une activité à partager avec son enfant. \nA 15h à la médiathèque.  Dès 3 ans \nGratuit sur inscription
URL:https://lafertemace.fr/event/la-fabrique-4/2024-12-14/
LOCATION:Médiathèque « La Grande Nouvelle »\, Le Grand Turc\, Rue St Denis\, La Ferté-macé\, 61600
CATEGORIES:Loisirs,Sports et Loisirs
ATTACH;FMTTYPE=image/jpeg:https://lafertemace.fr/wp-content/uploads/2016/04/le-grand-turc-e1460968747663.jpg
ORGANIZER;CN="M%C3%A9diath%C3%A8que 'La Grande Nouvelle' (Flers Agglo)":MAILTO:mediatheque.lafetemace@flers-agglo.fr
END:VEVENT
BEGIN:VEVENT
DTSTART;VALUE=DATE:20241214
DTEND;VALUE=DATE:20241215
DTSTAMP:20260423T125130
CREATED:20241203T145357Z
LAST-MODIFIED:20241203T145357Z
UID:10001022-1734134400-1734220799@lafertemace.fr
SUMMARY:Festival de l'étrange
DESCRIPTION:Du 7 au 23 décembre\, le Festival de l’étrange s’installe au cinéma Gérard Philipe !\nCe nouvel événement propose une programmation audacieuse\, mettant à l’honneur des films rares et originaux\, de véritables OVNI cinématographiques qui intriguent\npar leur fond autant que par leur forme. \nÀ l’affiche de cette première édition : \n\nMiséricorde\nOrlando\, ma biographie politique\nEnys Men\nAvant-première : Duel à Monte-Carlo del Norte\nThe wicker man\nL’Étoile filante\nConann\nAdam change lentement\n\n 
URL:https://lafertemace.fr/event/festival-de-letrange/2024-12-14/
LOCATION:Cinéma\, Salle G. Philipe 8 rue St Denis\, La Ferté-Macé
CATEGORIES:Cinéma,Loisirs,Sports et Loisirs
ATTACH;FMTTYPE=image/jpeg:https://lafertemace.fr/wp-content/uploads/2020/06/AVATAR_cinemaLAFM-2-e1652193177948.jpg
ORGANIZER;CN="Cin%C3%A9Fert%C3%A9":MAILTO:cinemagerardphilipe@wanadoo.fr
END:VEVENT
BEGIN:VEVENT
DTSTART;VALUE=DATE:20241214
DTEND;VALUE=DATE:20241215
DTSTAMP:20260423T125131
CREATED:20241104T165939Z
LAST-MODIFIED:20241104T165939Z
UID:10000639-1734134400-1734220799@lafertemace.fr
SUMMARY:Les samedis à l'Atelier 12-17 ans
DESCRIPTION:
URL:https://lafertemace.fr/event/les-samedis-a-latelier-12-17-ans-2/2024-12-14/
LOCATION:l’Atelier (12-17 ans)\, 16 rue St Denis\, La Ferté-Macé\, 61600\, France
CATEGORIES:Atelier,Loisirs,Santé - Social,Sports et Loisirs
ATTACH;FMTTYPE=image/jpeg:https://lafertemace.fr/wp-content/uploads/2020/03/AVATAR_atelier.jpg
ORGANIZER;CN="Centre Socioculturel Th%C3%A9r%C3%A8se Letinturier":MAILTO:centresocioculturel@lafertemace.fr
END:VEVENT
BEGIN:VEVENT
DTSTART;TZID=Europe/Helsinki:20241213T200000
DTEND;TZID=Europe/Helsinki:20241213T220000
DTSTAMP:20260423T125131
CREATED:20240909T145049Z
LAST-MODIFIED:20241213T110108Z
UID:10001613-1734120000-1734127200@lafertemace.fr
SUMMARY:Soirée jeux
DESCRIPTION:Soirées « jeux «  tous les vendredis 20h à 22 h jusqu’au 30 mai 2025\n« Après midi Jeux » les mardis et jeudis après midi pendant les petites vacances scolaires (sauf Noël)\n\n500 jeux de toutes sortes pour tous les âges. Gratuit- possibilité d’emprunt sous conditions \nA l’Espace jeux\,  10 rue de Versailles.\nContact : Les amis des jeux\, 06 85 89 18 40
URL:https://lafertemace.fr/event/soiree-jeux-4/2024-12-13/
LOCATION:Espace Jeux\, 10 rue de Versailles\, La Ferté-Macé
CATEGORIES:Loisirs,Santé - Social,Sports et Loisirs
ORGANIZER;CN="Les amis des jeux":MAILTO:albert.le-monnier@wanadoo.fr
END:VEVENT
BEGIN:VEVENT
DTSTART;TZID=Europe/Helsinki:20241212T203000
DTEND;TZID=Europe/Helsinki:20241212T203000
DTSTAMP:20260423T125131
CREATED:20241203T145640Z
LAST-MODIFIED:20241203T145640Z
UID:10001032-1734035400-1734035400@lafertemace.fr
SUMMARY:Ciné-rencontre :"ENYS-MEN" (VO)
DESCRIPTION: 
URL:https://lafertemace.fr/event/cine-rencontre-enys-men-vo/2024-12-12/
LOCATION:Cinéma\, Salle G. Philipe 8 rue St Denis\, La Ferté-Macé
CATEGORIES:Cinéma,Concert - Spectacle - Débat,Loisirs,Sports et Loisirs
ATTACH;FMTTYPE=image/jpeg:https://lafertemace.fr/wp-content/uploads/2020/06/AVATAR_cinemaLAFM-2-e1652193177948.jpg
ORGANIZER;CN="Cin%C3%A9Fert%C3%A9":MAILTO:cinemagerardphilipe@wanadoo.fr
END:VEVENT
BEGIN:VEVENT
DTSTART;TZID=Europe/Helsinki:20241211T100000
DTEND;TZID=Europe/Helsinki:20241211T170000
DTSTAMP:20260423T125131
CREATED:20241114T144501Z
LAST-MODIFIED:20241114T144501Z
UID:10001679-1733911200-1733936400@lafertemace.fr
SUMMARY:Marché de Noël (CHIC des Andaines)
DESCRIPTION:
URL:https://lafertemace.fr/event/marche-de-noel-chic-des-andaines/2024-12-11/
LOCATION:CHIC des Andaines\, Rue Soeur Marie Boitier\, La Ferté-Macé\, 61600
CATEGORIES:Loisirs,Marché - Braderie,Santé - Social,Sports et Loisirs
ATTACH;FMTTYPE=image/jpeg:https://lafertemace.fr/wp-content/uploads/2022/12/2022-noel-hopital.jpg
END:VEVENT
BEGIN:VEVENT
DTSTART;VALUE=DATE:20241211
DTEND;VALUE=DATE:20241212
DTSTAMP:20260423T125131
CREATED:20241104T165706Z
LAST-MODIFIED:20241104T165706Z
UID:10001669-1733875200-1733961599@lafertemace.fr
SUMMARY:Les mercredis aux centres de loisirs (3 - 11 ans)
DESCRIPTION:Retrouvez les activités des mercredis du 06 novembre au 18 décembre 2024 –  dans les centres de loisirs.  \n\n3-6ans\, sur le thème  » l’Univers enchanté » plaquette mercredis nov-déc 24\n6-11 ans\, sur le thème « Tous en scène  » :  plaquette cl6-11 ans nov.-déc. 2024\n\nRenseignements et inscriptions Centre Socioculturel Thérèse Letinturier\, 02 33 14 14 83 \n 
URL:https://lafertemace.fr/event/les-mercredis-aux-centres-de-loisirs-3-11-ans/2024-12-11/
LOCATION:Centre Socioculturel Thérèse Letinturier\, 14 Rue Pasteur\, La Ferté-Macé\, 61600
CATEGORIES:Atelier,Loisirs,Sports et Loisirs
ATTACH;FMTTYPE=image/jpeg:https://lafertemace.fr/wp-content/uploads/2016/03/Centre-socioculturel-Fertois-X-540.jpg
ORGANIZER;CN="Centre Socioculturel Th%C3%A9r%C3%A8se Letinturier":MAILTO:centresocioculturel@lafertemace.fr
END:VEVENT
BEGIN:VEVENT
DTSTART;VALUE=DATE:20241209
DTEND;VALUE=DATE:20241210
DTSTAMP:20260423T125131
CREATED:20241115T110040Z
LAST-MODIFIED:20241115T110040Z
UID:10001682-1733702400-1733788799@lafertemace.fr
SUMMARY:Concours de dessin (25/11-13/12/24)
DESCRIPTION:
URL:https://lafertemace.fr/event/concours-de-dessin-25-11-13-12-24/2024-12-09/
LOCATION:Centre Socioculturel Thérèse Letinturier\, 14 Rue Pasteur\, La Ferté-Macé\, 61600
CATEGORIES:Loisirs,Santé - Social,Sports et Loisirs
ATTACH;FMTTYPE=image/jpeg:https://lafertemace.fr/wp-content/uploads/2023/08/2023-Centre-Socio-Therse-Letinturier-2.jpg
ORGANIZER;CN="Centre Socioculturel Th%C3%A9r%C3%A8se Letinturier":MAILTO:centresocioculturel@lafertemace.fr
END:VEVENT
BEGIN:VEVENT
DTSTART;TZID=Europe/Helsinki:20241208T150000
DTEND;TZID=Europe/Helsinki:20241208T150000
DTSTAMP:20260423T125131
CREATED:20241030T121920Z
LAST-MODIFIED:20241030T121920Z
UID:10001660-1733670000-1733670000@lafertemace.fr
SUMMARY:Concert de Noël
DESCRIPTION:
URL:https://lafertemace.fr/event/concert-de-noel-2/2024-12-08/
LOCATION:Eglise Notre-Dame\, Place du Gal Leclerc\, La Ferté-Macé\, 61600
CATEGORIES:Concert - Spectacle - Débat,Loisirs,Sports et Loisirs
ATTACH;FMTTYPE=image/jpeg:https://lafertemace.fr/wp-content/uploads/2016/12/AVATAR_noel-e1509697318554.jpg
END:VEVENT
BEGIN:VEVENT
DTSTART;TZID=Europe/Helsinki:20241207T110000
DTEND;TZID=Europe/Helsinki:20241207T110000
DTSTAMP:20260423T125131
CREATED:20241128T160106Z
LAST-MODIFIED:20241128T160106Z
UID:10001689-1733569200-1733569200@lafertemace.fr
SUMMARY:La Mare à bout'chou
DESCRIPTION:Chaud\, chaud\, chaud!!! \nDes histoires pour les tout-petits.  Une animation ludique pour faire découvrir le monde aux tout-petits \nA 11h à la médiathèque. gratuit. Public 0-4 ans
URL:https://lafertemace.fr/event/la-mare-a-boutchou-3/2024-12-07/
LOCATION:Médiathèque « La Grande Nouvelle »\, Le Grand Turc\, Rue St Denis\, La Ferté-macé\, 61600
CATEGORIES:Lecture,Loisirs,Sports et Loisirs
ATTACH;FMTTYPE=image/jpeg:https://lafertemace.fr/wp-content/uploads/2023/09/La-mare-a-boutchou.jpg
ORGANIZER;CN="M%C3%A9diath%C3%A8que 'La Grande Nouvelle' (Flers Agglo)":MAILTO:mediatheque.lafetemace@flers-agglo.fr
END:VEVENT
BEGIN:VEVENT
DTSTART;TZID=Europe/Helsinki:20241207T090000
DTEND;TZID=Europe/Helsinki:20241207T180000
DTSTAMP:20260423T125131
CREATED:20241105T172236Z
LAST-MODIFIED:20241105T172236Z
UID:10000645-1733562000-1733594400@lafertemace.fr
SUMMARY:Foire aux jouets
DESCRIPTION:Une foire aux Jouets \, jeux de société à la recyclerie les Fourmis Fertoises\, vente pour enfants\, ados et adultes. \nLes visiteurs peuvent profiter aussi de l’ouverture de la boutique au même horaire 9h 18h00 NON STOP
URL:https://lafertemace.fr/event/foire-aux-jouets/
LOCATION:Les Fourmis Fertoises – Recyclerie\, 8 rue du Collège
CATEGORIES:Expositions,Loisirs,Marché - Braderie,Santé - Social
ATTACH;FMTTYPE=image/jpeg:https://lafertemace.fr/wp-content/uploads/2024/11/Les-fourmis-fertoises.jpg
END:VEVENT
BEGIN:VEVENT
DTSTART;VALUE=DATE:20241207
DTEND;VALUE=DATE:20241229
DTSTAMP:20260423T125131
CREATED:20241121T113907Z
LAST-MODIFIED:20241121T113907Z
UID:10001683-1733529600-1735430399@lafertemace.fr
SUMMARY:Opération de Noël chez les commerçants
DESCRIPTION:
URL:https://lafertemace.fr/event/operation-de-noel-chez-les-commercants-2/
CATEGORIES:Marché - Braderie,Santé - Social
ATTACH;FMTTYPE=image/jpeg:https://lafertemace.fr/wp-content/uploads/2016/12/AVATAR_noel-e1509697318554.jpg
ORGANIZER;CN="UCIA":MAILTO:ucia.lafertemace@orange.fr
END:VEVENT
BEGIN:VEVENT
DTSTART;VALUE=DATE:20241207
DTEND;VALUE=DATE:20241208
DTSTAMP:20260423T125131
CREATED:20241203T145357Z
LAST-MODIFIED:20241203T145357Z
UID:10001021-1733529600-1733615999@lafertemace.fr
SUMMARY:Festival de l'étrange
DESCRIPTION:Du 7 au 23 décembre\, le Festival de l’étrange s’installe au cinéma Gérard Philipe !\nCe nouvel événement propose une programmation audacieuse\, mettant à l’honneur des films rares et originaux\, de véritables OVNI cinématographiques qui intriguent\npar leur fond autant que par leur forme. \nÀ l’affiche de cette première édition : \n\nMiséricorde\nOrlando\, ma biographie politique\nEnys Men\nAvant-première : Duel à Monte-Carlo del Norte\nThe wicker man\nL’Étoile filante\nConann\nAdam change lentement\n\n 
URL:https://lafertemace.fr/event/festival-de-letrange/2024-12-07/
LOCATION:Cinéma\, Salle G. Philipe 8 rue St Denis\, La Ferté-Macé
CATEGORIES:Cinéma,Loisirs,Sports et Loisirs
ATTACH;FMTTYPE=image/jpeg:https://lafertemace.fr/wp-content/uploads/2020/06/AVATAR_cinemaLAFM-2-e1652193177948.jpg
ORGANIZER;CN="Cin%C3%A9Fert%C3%A9":MAILTO:cinemagerardphilipe@wanadoo.fr
END:VEVENT
BEGIN:VEVENT
DTSTART;VALUE=DATE:20241207
DTEND;VALUE=DATE:20241208
DTSTAMP:20260423T125131
CREATED:20241104T165939Z
LAST-MODIFIED:20241104T165939Z
UID:10000638-1733529600-1733615999@lafertemace.fr
SUMMARY:Les samedis à l'Atelier 12-17 ans
DESCRIPTION:
URL:https://lafertemace.fr/event/les-samedis-a-latelier-12-17-ans-2/2024-12-07/
LOCATION:l’Atelier (12-17 ans)\, 16 rue St Denis\, La Ferté-Macé\, 61600\, France
CATEGORIES:Atelier,Loisirs,Santé - Social,Sports et Loisirs
ATTACH;FMTTYPE=image/jpeg:https://lafertemace.fr/wp-content/uploads/2020/03/AVATAR_atelier.jpg
ORGANIZER;CN="Centre Socioculturel Th%C3%A9r%C3%A8se Letinturier":MAILTO:centresocioculturel@lafertemace.fr
END:VEVENT
BEGIN:VEVENT
DTSTART;TZID=Europe/Helsinki:20241206T200000
DTEND;TZID=Europe/Helsinki:20241206T220000
DTSTAMP:20260423T125131
CREATED:20240909T145049Z
LAST-MODIFIED:20241213T110108Z
UID:10001612-1733515200-1733522400@lafertemace.fr
SUMMARY:Soirée jeux
DESCRIPTION:Soirées « jeux «  tous les vendredis 20h à 22 h jusqu’au 30 mai 2025\n« Après midi Jeux » les mardis et jeudis après midi pendant les petites vacances scolaires (sauf Noël)\n\n500 jeux de toutes sortes pour tous les âges. Gratuit- possibilité d’emprunt sous conditions \nA l’Espace jeux\,  10 rue de Versailles.\nContact : Les amis des jeux\, 06 85 89 18 40
URL:https://lafertemace.fr/event/soiree-jeux-4/2024-12-06/
LOCATION:Espace Jeux\, 10 rue de Versailles\, La Ferté-Macé
CATEGORIES:Loisirs,Santé - Social,Sports et Loisirs
ORGANIZER;CN="Les amis des jeux":MAILTO:albert.le-monnier@wanadoo.fr
END:VEVENT
BEGIN:VEVENT
DTSTART;TZID=Europe/Helsinki:20241205T203000
DTEND;TZID=Europe/Helsinki:20241205T203000
DTSTAMP:20260423T125131
CREATED:20241203T150421Z
LAST-MODIFIED:20241203T150421Z
UID:10001044-1733430600-1733430600@lafertemace.fr
SUMMARY:Ciné débat
DESCRIPTION:Dans le cadre du festival Migrant’Scène \, le cinéma Gérard Philipe vous propose une soirée ciné-débat autour du film L’Histoire de Souleymane.\nCe film poignant retrace le parcours de Souleymane\, un jeune homme confronté aux réalités complexes de la migration. \n 
URL:https://lafertemace.fr/event/cine-debat-5/2024-12-05/
LOCATION:Cinéma\, Salle G. Philipe 8 rue St Denis\, La Ferté-Macé
CATEGORIES:Cinéma,Concert - Spectacle - Débat,Loisirs,Sports et Loisirs
ATTACH;FMTTYPE=image/jpeg:https://lafertemace.fr/wp-content/uploads/2020/06/AVATAR_cinemaLAFM-2-e1652193177948.jpg
ORGANIZER;CN="Cin%C3%A9Fert%C3%A9":MAILTO:cinemagerardphilipe@wanadoo.fr
END:VEVENT
BEGIN:VEVENT
DTSTART;TZID=Europe/Helsinki:20241204T140000
DTEND;TZID=Europe/Helsinki:20241204T140000
DTSTAMP:20260423T125131
CREATED:20241203T150133Z
LAST-MODIFIED:20241203T150133Z
UID:10001030-1733320800-1733320800@lafertemace.fr
SUMMARY:Clap ou pas clap ?
DESCRIPTION:Séance Clap ou pas Clap ? autour du film Sauvages \, le dernier chef-d’oeuvre de Claude Barras\, connu pour Ma Vie de Courgette .\nDestiné aux spectateurs à partir de 8 ans\, ce film d’animation explore avec sensibilité les relations entre les humains et le monde animal\, tout en abordant des thèmes actuels et essentiels \nAnimation : Animal\, on est mal !?\nAprès la projection\, l’équipe du Festival Génération Durable\, organisée par la MJC de Bernay\, proposera une animation. Présentation et discussion seront au programme pour réfléchir ensemble sur le monde sauvage et les défis de la protection de l’environnement.\nUn après-midi enrichissant qui mêle cinéma et sensibilisation écologique\, à partager en famille ou entre amis. \n \n 
URL:https://lafertemace.fr/event/clap-ou-pas-clap-7/2024-12-04/
LOCATION:Cinéma\, Salle G. Philipe 8 rue St Denis\, La Ferté-Macé
CATEGORIES:Cinéma,Loisirs,Sports et Loisirs
ATTACH;FMTTYPE=image/jpeg:https://lafertemace.fr/wp-content/uploads/2020/06/AVATAR_cinemaLAFM-2-e1652193177948.jpg
ORGANIZER;CN="Cin%C3%A9Fert%C3%A9":MAILTO:cinemagerardphilipe@wanadoo.fr
END:VEVENT
BEGIN:VEVENT
DTSTART;VALUE=DATE:20241204
DTEND;VALUE=DATE:20241205
DTSTAMP:20260423T125131
CREATED:20241104T170352Z
LAST-MODIFIED:20241104T170352Z
UID:10000644-1733270400-1733356799@lafertemace.fr
SUMMARY:Ateliers Théatro'riginal
DESCRIPTION:
URL:https://lafertemace.fr/event/ateliers-theatroriginal/2024-12-04/
LOCATION:Centre Socioculturel Thérèse Letinturier\, 14 Rue Pasteur\, La Ferté-Macé\, 61600
CATEGORIES:Loisirs,Sports et Loisirs
ATTACH;FMTTYPE=image/jpeg:https://lafertemace.fr/wp-content/uploads/2016/03/Centre-socioculturel-Fertois-X-540.jpg
ORGANIZER;CN="Centre Socioculturel Th%C3%A9r%C3%A8se Letinturier":MAILTO:centresocioculturel@lafertemace.fr
END:VEVENT
BEGIN:VEVENT
DTSTART;VALUE=DATE:20241204
DTEND;VALUE=DATE:20241205
DTSTAMP:20260423T125131
CREATED:20241104T165706Z
LAST-MODIFIED:20241104T165706Z
UID:10001668-1733270400-1733356799@lafertemace.fr
SUMMARY:Les mercredis aux centres de loisirs (3 - 11 ans)
DESCRIPTION:Retrouvez les activités des mercredis du 06 novembre au 18 décembre 2024 –  dans les centres de loisirs.  \n\n3-6ans\, sur le thème  » l’Univers enchanté » plaquette mercredis nov-déc 24\n6-11 ans\, sur le thème « Tous en scène  » :  plaquette cl6-11 ans nov.-déc. 2024\n\nRenseignements et inscriptions Centre Socioculturel Thérèse Letinturier\, 02 33 14 14 83 \n 
URL:https://lafertemace.fr/event/les-mercredis-aux-centres-de-loisirs-3-11-ans/2024-12-04/
LOCATION:Centre Socioculturel Thérèse Letinturier\, 14 Rue Pasteur\, La Ferté-Macé\, 61600
CATEGORIES:Atelier,Loisirs,Sports et Loisirs
ATTACH;FMTTYPE=image/jpeg:https://lafertemace.fr/wp-content/uploads/2016/03/Centre-socioculturel-Fertois-X-540.jpg
ORGANIZER;CN="Centre Socioculturel Th%C3%A9r%C3%A8se Letinturier":MAILTO:centresocioculturel@lafertemace.fr
END:VEVENT
BEGIN:VEVENT
DTSTART;VALUE=DATE:20241202
DTEND;VALUE=DATE:20241203
DTSTAMP:20260423T125131
CREATED:20241115T110040Z
LAST-MODIFIED:20241115T110040Z
UID:10001681-1733097600-1733183999@lafertemace.fr
SUMMARY:Concours de dessin (25/11-13/12/24)
DESCRIPTION:
URL:https://lafertemace.fr/event/concours-de-dessin-25-11-13-12-24/2024-12-02/
LOCATION:Centre Socioculturel Thérèse Letinturier\, 14 Rue Pasteur\, La Ferté-Macé\, 61600
CATEGORIES:Loisirs,Santé - Social,Sports et Loisirs
ATTACH;FMTTYPE=image/jpeg:https://lafertemace.fr/wp-content/uploads/2023/08/2023-Centre-Socio-Therse-Letinturier-2.jpg
ORGANIZER;CN="Centre Socioculturel Th%C3%A9r%C3%A8se Letinturier":MAILTO:centresocioculturel@lafertemace.fr
END:VEVENT
BEGIN:VEVENT
DTSTART;TZID=Europe/Helsinki:20241130T110000
DTEND;TZID=Europe/Helsinki:20241130T160000
DTSTAMP:20260423T125131
CREATED:20241112T150018Z
LAST-MODIFIED:20241112T150018Z
UID:10001678-1732964400-1732982400@lafertemace.fr
SUMMARY:A la médiathèque\, Semaine des familles
DESCRIPTION:
URL:https://lafertemace.fr/event/a-la-mediatheque-semaine-des-familles/2024-11-30/
LOCATION:Médiathèque « La Grande Nouvelle »\, Le Grand Turc\, Rue St Denis\, La Ferté-macé\, 61600
CATEGORIES:Loisirs,Santé - Social,Sports et Loisirs
END:VEVENT
BEGIN:VEVENT
DTSTART;VALUE=DATE:20241130
DTEND;VALUE=DATE:20241201
DTSTAMP:20260423T125131
CREATED:20241104T165939Z
LAST-MODIFIED:20241104T165939Z
UID:10000637-1732924800-1733011199@lafertemace.fr
SUMMARY:Les samedis à l'Atelier 12-17 ans
DESCRIPTION:
URL:https://lafertemace.fr/event/les-samedis-a-latelier-12-17-ans-2/2024-11-30/
LOCATION:l’Atelier (12-17 ans)\, 16 rue St Denis\, La Ferté-Macé\, 61600\, France
CATEGORIES:Atelier,Loisirs,Santé - Social,Sports et Loisirs
ATTACH;FMTTYPE=image/jpeg:https://lafertemace.fr/wp-content/uploads/2020/03/AVATAR_atelier.jpg
ORGANIZER;CN="Centre Socioculturel Th%C3%A9r%C3%A8se Letinturier":MAILTO:centresocioculturel@lafertemace.fr
END:VEVENT
BEGIN:VEVENT
DTSTART;TZID=Europe/Helsinki:20241129T200000
DTEND;TZID=Europe/Helsinki:20241129T220000
DTSTAMP:20260423T125131
CREATED:20240909T145049Z
LAST-MODIFIED:20241213T110108Z
UID:10001611-1732910400-1732917600@lafertemace.fr
SUMMARY:Soirée jeux
DESCRIPTION:Soirées « jeux «  tous les vendredis 20h à 22 h jusqu’au 30 mai 2025\n« Après midi Jeux » les mardis et jeudis après midi pendant les petites vacances scolaires (sauf Noël)\n\n500 jeux de toutes sortes pour tous les âges. Gratuit- possibilité d’emprunt sous conditions \nA l’Espace jeux\,  10 rue de Versailles.\nContact : Les amis des jeux\, 06 85 89 18 40
URL:https://lafertemace.fr/event/soiree-jeux-4/2024-11-29/
LOCATION:Espace Jeux\, 10 rue de Versailles\, La Ferté-Macé
CATEGORIES:Loisirs,Santé - Social,Sports et Loisirs
ORGANIZER;CN="Les amis des jeux":MAILTO:albert.le-monnier@wanadoo.fr
END:VEVENT
BEGIN:VEVENT
DTSTART;TZID=Europe/Helsinki:20241129T090000
DTEND;TZID=Europe/Helsinki:20241129T150000
DTSTAMP:20260423T125131
CREATED:20241112T145757Z
LAST-MODIFIED:20241112T150256Z
UID:10001677-1732870800-1732892400@lafertemace.fr
SUMMARY:Ateliers - semaine des familles
DESCRIPTION:
URL:https://lafertemace.fr/event/ateliers-semaine-des-familles/2024-11-29/
CATEGORIES:Loisirs,Santé - Social,Sports et Loisirs
END:VEVENT
BEGIN:VEVENT
DTSTART;TZID=Europe/Helsinki:20241128T163000
DTEND;TZID=Europe/Helsinki:20241128T223000
DTSTAMP:20260423T125131
CREATED:20241112T125843Z
LAST-MODIFIED:20241112T150351Z
UID:10001676-1732811400-1732833000@lafertemace.fr
SUMMARY:Jeux et soirée discussion (Semaine des familles)
DESCRIPTION:
URL:https://lafertemace.fr/event/jeux-et-soiree-discussion-semaine-des-familles/2024-11-28/
CATEGORIES:Loisirs,Santé - Social,Sports et Loisirs
END:VEVENT
BEGIN:VEVENT
DTSTART;TZID=Europe/Helsinki:20241127T160000
DTEND;TZID=Europe/Helsinki:20241127T160000
DTSTAMP:20260423T125131
CREATED:20241029T165623Z
LAST-MODIFIED:20241029T165623Z
UID:10001659-1732723200-1732723200@lafertemace.fr
SUMMARY:Ciné filou goûter
DESCRIPTION:Cinéfilou goûter est une opération à destination des tout-petits consistant en la projection d’un film en après-midi suivie d’un goûter offert à tous les enfants. Elle a pour objectif de donner non seulement l’habitude aux jeunes enfants de fréquenter la salle de cinéma dès leur plus jeune âge\, de développer le caractère convivial de la sortie cinéma\, mais aussi de susciter un temps de verbalisation après la séance et de rendre plus attractifs certains films aux qualités esthétiques indéniables mais peu\nmédiatisés.
URL:https://lafertemace.fr/event/cine-filou-gouter-6/2024-11-27/
LOCATION:Cinéma\, Salle G. Philipe 8 rue St Denis\, La Ferté-Macé
CATEGORIES:Cinéma,Loisirs,Repas,Sports et Loisirs
ATTACH;FMTTYPE=image/jpeg:https://lafertemace.fr/wp-content/uploads/2020/06/AVATAR_cinemaLAFM-2-e1652193177948.jpg
ORGANIZER;CN="Cin%C3%A9Fert%C3%A9":MAILTO:cinemagerardphilipe@wanadoo.fr
END:VEVENT
BEGIN:VEVENT
DTSTART;TZID=Europe/Helsinki:20241127T140000
DTEND;TZID=Europe/Helsinki:20241127T140000
DTSTAMP:20260423T125131
CREATED:20241104T153210Z
LAST-MODIFIED:20241104T153210Z
UID:10001663-1732716000-1732716000@lafertemace.fr
SUMMARY:Escape Game culinaire (Semaine de la parentalité)
DESCRIPTION:
URL:https://lafertemace.fr/event/escape-game-culinaire-semaine-de-la-parentalite/2024-11-27/
LOCATION:Centre Socioculturel Thérèse Letinturier\, 14 Rue Pasteur\, La Ferté-Macé\, 61600
CATEGORIES:Loisirs,Repas,Sports et Loisirs
ATTACH;FMTTYPE=image/jpeg:https://lafertemace.fr/wp-content/uploads/2017/01/Parents-enfants-Fotolia_57698507.jpg
ORGANIZER;CN="Centre Socioculturel Th%C3%A9r%C3%A8se Letinturier":MAILTO:centresocioculturel@lafertemace.fr
END:VEVENT
BEGIN:VEVENT
DTSTART;TZID=Europe/Helsinki:20241127T090000
DTEND;TZID=Europe/Helsinki:20241127T180000
DTSTAMP:20260423T125131
CREATED:20241112T125529Z
LAST-MODIFIED:20241112T150505Z
UID:10001675-1732698000-1732730400@lafertemace.fr
SUMMARY:Jeux \, Semaine des familles
DESCRIPTION:
URL:https://lafertemace.fr/event/semaine-des-familles/2024-11-27/
CATEGORIES:Loisirs,Santé - Social,Sports et Loisirs
END:VEVENT
END:VCALENDAR