BEGIN:VCALENDAR
VERSION:2.0
PRODID:-//Ville de La Ferté-Macé - ECPv6.15.20//NONSGML v1.0//EN
CALSCALE:GREGORIAN
METHOD:PUBLISH
X-ORIGINAL-URL:https://lafertemace.fr
X-WR-CALDESC:Évènements pour Ville de La Ferté-Macé
REFRESH-INTERVAL;VALUE=DURATION:PT1H
X-Robots-Tag:noindex
X-PUBLISHED-TTL:PT1H
BEGIN:VTIMEZONE
TZID:Europe/Helsinki
BEGIN:DAYLIGHT
TZOFFSETFROM:+0200
TZOFFSETTO:+0300
TZNAME:EEST
DTSTART:20230326T010000
END:DAYLIGHT
BEGIN:STANDARD
TZOFFSETFROM:+0300
TZOFFSETTO:+0200
TZNAME:EET
DTSTART:20231029T010000
END:STANDARD
BEGIN:DAYLIGHT
TZOFFSETFROM:+0200
TZOFFSETTO:+0300
TZNAME:EEST
DTSTART:20240331T010000
END:DAYLIGHT
BEGIN:STANDARD
TZOFFSETFROM:+0300
TZOFFSETTO:+0200
TZNAME:EET
DTSTART:20241027T010000
END:STANDARD
BEGIN:DAYLIGHT
TZOFFSETFROM:+0200
TZOFFSETTO:+0300
TZNAME:EEST
DTSTART:20250330T010000
END:DAYLIGHT
BEGIN:STANDARD
TZOFFSETFROM:+0300
TZOFFSETTO:+0200
TZNAME:EET
DTSTART:20251026T010000
END:STANDARD
END:VTIMEZONE
BEGIN:VEVENT
DTSTART;TZID=Europe/Helsinki:20241116T140000
DTEND;TZID=Europe/Helsinki:20241116T170000
DTSTAMP:20260423T190239
CREATED:20241024T140504Z
LAST-MODIFIED:20241024T140504Z
UID:10000918-1731765600-1731776400@lafertemace.fr
SUMMARY:Bourse aux jouets
DESCRIPTION:
URL:https://lafertemace.fr/event/bourse-aux-jouets-2/
CATEGORIES:Expositions,Loisirs,Marché - Braderie,Santé - Social
ATTACH;FMTTYPE=image/jpeg:https://lafertemace.fr/wp-content/uploads/2022/09/2022-Bourse-aux-jouets78481928.jpg
END:VEVENT
BEGIN:VEVENT
DTSTART;TZID=Europe/Helsinki:20241116T090000
DTEND;TZID=Europe/Helsinki:20241116T180000
DTSTAMP:20260423T190239
CREATED:20240704T145156Z
LAST-MODIFIED:20241105T170809Z
UID:10001087-1731747600-1731780000@lafertemace.fr
SUMMARY:CréaRécup
DESCRIPTION:Marché d’artisans / créateurs aux Fourmis Fertoises de 9h à 18h. \nRéalisations à partir d’objets de récupération.
URL:https://lafertemace.fr/event/crearecup-2/2024-11-16/
LOCATION:Les Fourmis Fertoises – Recyclerie\, 8 rue du Collège
CATEGORIES:Loisirs,Marché - Braderie,Santé - Social,Sports et Loisirs
ATTACH;FMTTYPE=image/jpeg:https://lafertemace.fr/wp-content/uploads/2023/08/2023-Fete-des-Associations-les-fourmis-fertoises.jpg
END:VEVENT
BEGIN:VEVENT
DTSTART;VALUE=DATE:20241116
DTEND;VALUE=DATE:20241117
DTSTAMP:20260423T190239
CREATED:20241104T165939Z
LAST-MODIFIED:20241104T165939Z
UID:10000635-1731715200-1731801599@lafertemace.fr
SUMMARY:Les samedis à l'Atelier 12-17 ans
DESCRIPTION:
URL:https://lafertemace.fr/event/les-samedis-a-latelier-12-17-ans-2/2024-11-16/
LOCATION:l’Atelier (12-17 ans)\, 16 rue St Denis\, La Ferté-Macé\, 61600\, France
CATEGORIES:Atelier,Loisirs,Santé - Social,Sports et Loisirs
ATTACH;FMTTYPE=image/jpeg:https://lafertemace.fr/wp-content/uploads/2020/03/AVATAR_atelier.jpg
ORGANIZER;CN="Centre Socioculturel Th%C3%A9r%C3%A8se Letinturier":MAILTO:centresocioculturel@lafertemace.fr
END:VEVENT
BEGIN:VEVENT
DTSTART;TZID=Europe/Helsinki:20241115T203000
DTEND;TZID=Europe/Helsinki:20241115T203000
DTSTAMP:20260423T190239
CREATED:20241029T123028Z
LAST-MODIFIED:20241029T140020Z
UID:10001653-1731702600-1731702600@lafertemace.fr
SUMMARY:Ciné rencontre
DESCRIPTION:À l’occasion du mois du doc \, le cinéma vous invite à découvrir le documentaire « Se souvenir d’une ville » le vendredi 15 novembre à 20h30 .\nCe film\, réalisé par Jean-Gabriel Périot\, aborde le siège de Sarajevo à travers les yeux de ses habitants et de jeunes cinéastes qui ont bravé les dangers pour capturer des instants de leur quotidien pendant cette période difficile. Pendant quatre ans\, ces témoignages poignants mettent en lumière la résilience des personnes face à l’adversité.\nLa projection sera suivie d’une discussion avec la documentaliste Emmanuelle Koenig \, qui partagera son expertise et ses réflexions sur ce sujet poignant.\nVenez vivre une soirée riche en émotions et en réflexions\, en compagnie d’une communauté passionnée par le cinéma documentaire
URL:https://lafertemace.fr/event/cine-rencontre-5/2024-11-15/
LOCATION:Cinéma\, Salle G. Philipe 8 rue St Denis\, La Ferté-Macé
CATEGORIES:Cinéma,Loisirs,Sports et Loisirs
ATTACH;FMTTYPE=image/jpeg:https://lafertemace.fr/wp-content/uploads/2020/06/AVATAR_cinemaLAFM-2-e1652193177948.jpg
ORGANIZER;CN="Cin%C3%A9Fert%C3%A9":MAILTO:cinemagerardphilipe@wanadoo.fr
END:VEVENT
BEGIN:VEVENT
DTSTART;TZID=Europe/Helsinki:20241115T200000
DTEND;TZID=Europe/Helsinki:20241115T220000
DTSTAMP:20260423T190239
CREATED:20240909T145049Z
LAST-MODIFIED:20241213T110108Z
UID:10001609-1731700800-1731708000@lafertemace.fr
SUMMARY:Soirée jeux
DESCRIPTION:Soirées « jeux «  tous les vendredis 20h à 22 h jusqu’au 30 mai 2025\n« Après midi Jeux » les mardis et jeudis après midi pendant les petites vacances scolaires (sauf Noël)\n\n500 jeux de toutes sortes pour tous les âges. Gratuit- possibilité d’emprunt sous conditions \nA l’Espace jeux\,  10 rue de Versailles.\nContact : Les amis des jeux\, 06 85 89 18 40
URL:https://lafertemace.fr/event/soiree-jeux-4/2024-11-15/
LOCATION:Espace Jeux\, 10 rue de Versailles\, La Ferté-Macé
CATEGORIES:Loisirs,Santé - Social,Sports et Loisirs
ORGANIZER;CN="Les amis des jeux":MAILTO:albert.le-monnier@wanadoo.fr
END:VEVENT
BEGIN:VEVENT
DTSTART;TZID=Europe/Helsinki:20241114T203000
DTEND;TZID=Europe/Helsinki:20241114T203000
DTSTAMP:20260423T190239
CREATED:20241029T103711Z
LAST-MODIFIED:20241029T103711Z
UID:10001652-1731616200-1731616200@lafertemace.fr
SUMMARY:Deutscher film "La partition"
DESCRIPTION:La décision de diffuser le film en version originale avec des sous-titres en français offre une opportunité unique aux cinéphiles et aux passionnés de langues d’approfondir leur compréhension de la langue allemande tout en découvrant une oeuvre cinématographique exceptionnelle.
URL:https://lafertemace.fr/event/deutscher-film-la-partition/2024-11-14/
LOCATION:Cinéma\, Salle G. Philipe 8 rue St Denis\, La Ferté-Macé
CATEGORIES:Cinéma,Loisirs,Sports et Loisirs
ATTACH;FMTTYPE=image/jpeg:https://lafertemace.fr/wp-content/uploads/2020/06/AVATAR_cinemaLAFM-2-e1652193177948.jpg
ORGANIZER;CN="Cin%C3%A9Fert%C3%A9":MAILTO:cinemagerardphilipe@wanadoo.fr
END:VEVENT
BEGIN:VEVENT
DTSTART;VALUE=DATE:20241113
DTEND;VALUE=DATE:20241114
DTSTAMP:20260423T190239
CREATED:20241104T170352Z
LAST-MODIFIED:20241104T170352Z
UID:10000642-1731456000-1731542399@lafertemace.fr
SUMMARY:Ateliers Théatro'riginal
DESCRIPTION:
URL:https://lafertemace.fr/event/ateliers-theatroriginal/2024-11-13/
LOCATION:Centre Socioculturel Thérèse Letinturier\, 14 Rue Pasteur\, La Ferté-Macé\, 61600
CATEGORIES:Loisirs,Sports et Loisirs
ATTACH;FMTTYPE=image/jpeg:https://lafertemace.fr/wp-content/uploads/2016/03/Centre-socioculturel-Fertois-X-540.jpg
ORGANIZER;CN="Centre Socioculturel Th%C3%A9r%C3%A8se Letinturier":MAILTO:centresocioculturel@lafertemace.fr
END:VEVENT
BEGIN:VEVENT
DTSTART;VALUE=DATE:20241113
DTEND;VALUE=DATE:20241114
DTSTAMP:20260423T190239
CREATED:20241104T165706Z
LAST-MODIFIED:20241104T165706Z
UID:10001665-1731456000-1731542399@lafertemace.fr
SUMMARY:Les mercredis aux centres de loisirs (3 - 11 ans)
DESCRIPTION:Retrouvez les activités des mercredis du 06 novembre au 18 décembre 2024 –  dans les centres de loisirs.  \n\n3-6ans\, sur le thème  » l’Univers enchanté » plaquette mercredis nov-déc 24\n6-11 ans\, sur le thème « Tous en scène  » :  plaquette cl6-11 ans nov.-déc. 2024\n\nRenseignements et inscriptions Centre Socioculturel Thérèse Letinturier\, 02 33 14 14 83 \n 
URL:https://lafertemace.fr/event/les-mercredis-aux-centres-de-loisirs-3-11-ans/2024-11-13/
LOCATION:Centre Socioculturel Thérèse Letinturier\, 14 Rue Pasteur\, La Ferté-Macé\, 61600
CATEGORIES:Atelier,Loisirs,Sports et Loisirs
ATTACH;FMTTYPE=image/jpeg:https://lafertemace.fr/wp-content/uploads/2016/03/Centre-socioculturel-Fertois-X-540.jpg
ORGANIZER;CN="Centre Socioculturel Th%C3%A9r%C3%A8se Letinturier":MAILTO:centresocioculturel@lafertemace.fr
END:VEVENT
BEGIN:VEVENT
DTSTART;TZID=Europe/Helsinki:20241111T090000
DTEND;TZID=Europe/Helsinki:20241111T090000
DTSTAMP:20260423T190239
CREATED:20241030T161338Z
LAST-MODIFIED:20241030T161338Z
UID:10001662-1731315600-1731315600@lafertemace.fr
SUMMARY:Cérémonie du 11 novembre
DESCRIPTION:■ MONUMENT AUX MORTS D’ANTOIGNY : \n09h00 :\n– Rassemblement au Monument aux Morts.\n– Dépôt de gerbes.\n– Minute de silence.\n– « La Marseillaise ». \n■ CIMETIERE DE LA FERTÉ-MACÉ : \n09h30 : \n– Rassemblement du Conseil Municipal\, des personnalités officielles\, de la Compagnie des Sapeurs-Pompiers\,  des Délégués des Sociétés Locales\, des enfants des établissements scolaires. \n09h45 :\n– Ranimation de la flamme.\n– Appel des Morts.\n– Dépôt de gerbes.\n– Sonnerie aux Morts.\n– Minute de Silence.\n– « La Marseillaise » par la Musique Départementale.\n– Visite des tombes par les personnalités.\n– Retour vers la Place Leclerc. \n■ PLACE DU GÉNÉRAL LECLERC : \n10h15 : \n– Rassemblement Place Leclerc\, devant le Monument de la Victoire.\n– Allocution par le Président de l’UNC.\n– Levée des couleurs.\n– Ranimation de la Flamme.\n– Dépôt de gerbes.\n– Sonnerie aux Morts.\n– Minute de Silence.\n– « La Marseillaise » par la Musique Départementale.\n– Allocutions diverses. \n■ MESSE DU SOUVENIR : \n10h30 :\n– Une messe sera célébrée en l’église Notre-Dame de La Ferté-Macé.
URL:https://lafertemace.fr/event/ceremonie-du-11-novembre-2/2024-11-11/
CATEGORIES:Défilé,Santé - Social
ATTACH;FMTTYPE=image/jpeg:https://lafertemace.fr/wp-content/uploads/2018/06/AVATAR-ceremonie-18-juin-e1687958400761.jpg
END:VEVENT
BEGIN:VEVENT
DTSTART;VALUE=DATE:20241109
DTEND;VALUE=DATE:20241110
DTSTAMP:20260423T190239
CREATED:20241104T165939Z
LAST-MODIFIED:20241104T165939Z
UID:10000634-1731110400-1731196799@lafertemace.fr
SUMMARY:Les samedis à l'Atelier 12-17 ans
DESCRIPTION:
URL:https://lafertemace.fr/event/les-samedis-a-latelier-12-17-ans-2/2024-11-09/
LOCATION:l’Atelier (12-17 ans)\, 16 rue St Denis\, La Ferté-Macé\, 61600\, France
CATEGORIES:Atelier,Loisirs,Santé - Social,Sports et Loisirs
ATTACH;FMTTYPE=image/jpeg:https://lafertemace.fr/wp-content/uploads/2020/03/AVATAR_atelier.jpg
ORGANIZER;CN="Centre Socioculturel Th%C3%A9r%C3%A8se Letinturier":MAILTO:centresocioculturel@lafertemace.fr
END:VEVENT
BEGIN:VEVENT
DTSTART;TZID=Europe/Helsinki:20241108T203000
DTEND;TZID=Europe/Helsinki:20241108T203000
DTSTAMP:20260423T190239
CREATED:20241030T122319Z
LAST-MODIFIED:20241030T122319Z
UID:10001661-1731097800-1731097800@lafertemace.fr
SUMMARY:Tournoi Volley loisirs Halloween
DESCRIPTION:
URL:https://lafertemace.fr/event/tournoi-volley-loisirs-halloween/2024-11-08/
LOCATION:Lycée des Andaines\, 3 Place du Gal de Gaulle\, La Ferté-Macé
CATEGORIES:Loisirs,Sports,Sports et Loisirs
ATTACH;FMTTYPE=image/jpeg:https://lafertemace.fr/wp-content/uploads/2023/08/2023-Fete-des-Associations-volley.jpg
ORGANIZER;CN="Club Sportif FerteMace Volley Ball":MAILTO:csfertemacevolley@gmail.com
END:VEVENT
BEGIN:VEVENT
DTSTART;TZID=Europe/Helsinki:20241108T200000
DTEND;TZID=Europe/Helsinki:20241108T220000
DTSTAMP:20260423T190239
CREATED:20240909T145049Z
LAST-MODIFIED:20241213T110108Z
UID:10001608-1731096000-1731103200@lafertemace.fr
SUMMARY:Soirée jeux
DESCRIPTION:Soirées « jeux «  tous les vendredis 20h à 22 h jusqu’au 30 mai 2025\n« Après midi Jeux » les mardis et jeudis après midi pendant les petites vacances scolaires (sauf Noël)\n\n500 jeux de toutes sortes pour tous les âges. Gratuit- possibilité d’emprunt sous conditions \nA l’Espace jeux\,  10 rue de Versailles.\nContact : Les amis des jeux\, 06 85 89 18 40
URL:https://lafertemace.fr/event/soiree-jeux-4/2024-11-08/
LOCATION:Espace Jeux\, 10 rue de Versailles\, La Ferté-Macé
CATEGORIES:Loisirs,Santé - Social,Sports et Loisirs
ORGANIZER;CN="Les amis des jeux":MAILTO:albert.le-monnier@wanadoo.fr
END:VEVENT
BEGIN:VEVENT
DTSTART;TZID=Europe/Helsinki:20241107T203000
DTEND;TZID=Europe/Helsinki:20241107T203000
DTSTAMP:20260423T190239
CREATED:20241016T155215Z
LAST-MODIFIED:20241016T155215Z
UID:10001649-1731011400-1731011400@lafertemace.fr
SUMMARY:Ciné spectacle
DESCRIPTION:« La sirène à barbe » e présence du réalisateur Nicolas Bellenchombre
URL:https://lafertemace.fr/event/cine-spectacle/2024-11-07/
LOCATION:Cinéma\, Salle G. Philipe 8 rue St Denis\, La Ferté-Macé
CATEGORIES:Cinéma,Loisirs,Sports et Loisirs
ATTACH;FMTTYPE=image/jpeg:https://lafertemace.fr/wp-content/uploads/2020/06/AVATAR_cinemaLAFM-2-e1652193177948.jpg
ORGANIZER;CN="Cin%C3%A9Fert%C3%A9":MAILTO:cinemagerardphilipe@wanadoo.fr
END:VEVENT
BEGIN:VEVENT
DTSTART;VALUE=DATE:20241106
DTEND;VALUE=DATE:20241107
DTSTAMP:20260423T190239
CREATED:20241104T170352Z
LAST-MODIFIED:20241104T170352Z
UID:10000641-1730851200-1730937599@lafertemace.fr
SUMMARY:Ateliers Théatro'riginal
DESCRIPTION:
URL:https://lafertemace.fr/event/ateliers-theatroriginal/2024-11-06/
LOCATION:Centre Socioculturel Thérèse Letinturier\, 14 Rue Pasteur\, La Ferté-Macé\, 61600
CATEGORIES:Loisirs,Sports et Loisirs
ATTACH;FMTTYPE=image/jpeg:https://lafertemace.fr/wp-content/uploads/2016/03/Centre-socioculturel-Fertois-X-540.jpg
ORGANIZER;CN="Centre Socioculturel Th%C3%A9r%C3%A8se Letinturier":MAILTO:centresocioculturel@lafertemace.fr
END:VEVENT
BEGIN:VEVENT
DTSTART;VALUE=DATE:20241106
DTEND;VALUE=DATE:20241107
DTSTAMP:20260423T190239
CREATED:20241104T165706Z
LAST-MODIFIED:20241104T165706Z
UID:10001664-1730851200-1730937599@lafertemace.fr
SUMMARY:Les mercredis aux centres de loisirs (3 - 11 ans)
DESCRIPTION:Retrouvez les activités des mercredis du 06 novembre au 18 décembre 2024 –  dans les centres de loisirs.  \n\n3-6ans\, sur le thème  » l’Univers enchanté » plaquette mercredis nov-déc 24\n6-11 ans\, sur le thème « Tous en scène  » :  plaquette cl6-11 ans nov.-déc. 2024\n\nRenseignements et inscriptions Centre Socioculturel Thérèse Letinturier\, 02 33 14 14 83 \n 
URL:https://lafertemace.fr/event/les-mercredis-aux-centres-de-loisirs-3-11-ans/2024-11-06/
LOCATION:Centre Socioculturel Thérèse Letinturier\, 14 Rue Pasteur\, La Ferté-Macé\, 61600
CATEGORIES:Atelier,Loisirs,Sports et Loisirs
ATTACH;FMTTYPE=image/jpeg:https://lafertemace.fr/wp-content/uploads/2016/03/Centre-socioculturel-Fertois-X-540.jpg
ORGANIZER;CN="Centre Socioculturel Th%C3%A9r%C3%A8se Letinturier":MAILTO:centresocioculturel@lafertemace.fr
END:VEVENT
BEGIN:VEVENT
DTSTART;TZID=Europe/Helsinki:20241102T110000
DTEND;TZID=Europe/Helsinki:20241102T110000
DTSTAMP:20260423T190239
CREATED:20240702T162606Z
LAST-MODIFIED:20240702T162606Z
UID:10001412-1730545200-1730545200@lafertemace.fr
SUMMARY:La mare à bout'chou
DESCRIPTION:Des histoires pour les tout-petits de 0 à 4 ans (accompagné d’un adulte) \nA 11h à la médiathèque. Gratuit accès libre \n07/09 : En roue la troupe!\n05/10 : Histoires de cocos\n02/11 : Doudous\, tétines et compagnie
URL:https://lafertemace.fr/event/la-mare-a-boutchou-2/2024-11-02/
LOCATION:Médiathèque « La Grande Nouvelle »\, Le Grand Turc\, Rue St Denis\, La Ferté-macé\, 61600
CATEGORIES:Lecture,Loisirs,Sports et Loisirs
ATTACH;FMTTYPE=image/jpeg:https://lafertemace.fr/wp-content/uploads/2023/09/La-mare-a-boutchou.jpg
ORGANIZER;CN="M%C3%A9diath%C3%A8que 'La Grande Nouvelle' (Flers Agglo)":MAILTO:mediatheque.lafetemace@flers-agglo.fr
END:VEVENT
BEGIN:VEVENT
DTSTART;TZID=Europe/Helsinki:20241101T200000
DTEND;TZID=Europe/Helsinki:20241101T220000
DTSTAMP:20260423T190239
CREATED:20240909T145049Z
LAST-MODIFIED:20241213T110108Z
UID:10001607-1730491200-1730498400@lafertemace.fr
SUMMARY:Soirée jeux
DESCRIPTION:Soirées « jeux «  tous les vendredis 20h à 22 h jusqu’au 30 mai 2025\n« Après midi Jeux » les mardis et jeudis après midi pendant les petites vacances scolaires (sauf Noël)\n\n500 jeux de toutes sortes pour tous les âges. Gratuit- possibilité d’emprunt sous conditions \nA l’Espace jeux\,  10 rue de Versailles.\nContact : Les amis des jeux\, 06 85 89 18 40
URL:https://lafertemace.fr/event/soiree-jeux-4/2024-11-01/
LOCATION:Espace Jeux\, 10 rue de Versailles\, La Ferté-Macé
CATEGORIES:Loisirs,Santé - Social,Sports et Loisirs
ORGANIZER;CN="Les amis des jeux":MAILTO:albert.le-monnier@wanadoo.fr
END:VEVENT
BEGIN:VEVENT
DTSTART;TZID=Europe/Helsinki:20241031T150000
DTEND;TZID=Europe/Helsinki:20241031T180000
DTSTAMP:20260423T190239
CREATED:20240702T154951Z
LAST-MODIFIED:20240702T154951Z
UID:10001420-1730386800-1730397600@lafertemace.fr
SUMMARY:Clic'Express
DESCRIPTION:Besoin d’une aide ponctuelle sur votre équipement numérique ou une démarche en ligne? \nPour adulte\, gratuit en accès libre. \nA 15h à la médiathèque \n 
URL:https://lafertemace.fr/event/clicexpress-2/2024-10-31/
LOCATION:Médiathèque « La Grande Nouvelle »\, Le Grand Turc\, Rue St Denis\, La Ferté-macé\, 61600
CATEGORIES:Atelier,Loisirs,Santé - Social
ATTACH;FMTTYPE=image/jpeg:https://lafertemace.fr/wp-content/uploads/2017/10/AVATAR_mediatheque-e1509627180358.jpg
ORGANIZER;CN="M%C3%A9diath%C3%A8que 'La Grande Nouvelle' (Flers Agglo)":MAILTO:mediatheque.lafetemace@flers-agglo.fr
END:VEVENT
BEGIN:VEVENT
DTSTART;TZID=Europe/Helsinki:20241031T143000
DTEND;TZID=Europe/Helsinki:20241031T143000
DTSTAMP:20260423T190239
CREATED:20240701T150619Z
LAST-MODIFIED:20240924T161132Z
UID:10001427-1730385000-1730385000@lafertemace.fr
SUMMARY:Halloween à la médiathèque
DESCRIPTION:En partenariat avec Ciné Ferté. Des histoires et autres surprises effrayantes… \nDès 14h30\, à la médiathèque
URL:https://lafertemace.fr/event/halloween-a-la-mediatheque/2024-10-31/
LOCATION:Médiathèque « La Grande Nouvelle »\, Le Grand Turc\, Rue St Denis\, La Ferté-macé\, 61600
CATEGORIES:Lecture,Loisirs,Sports et Loisirs
ATTACH;FMTTYPE=image/jpeg:https://lafertemace.fr/wp-content/uploads/2017/10/AVATAR_mediatheque-e1509627180358.jpg
ORGANIZER;CN="M%C3%A9diath%C3%A8que 'La Grande Nouvelle' (Flers Agglo)":MAILTO:mediatheque.lafetemace@flers-agglo.fr
END:VEVENT
BEGIN:VEVENT
DTSTART;TZID=Europe/Helsinki:20241031T140000
DTEND;TZID=Europe/Helsinki:20241031T170000
DTSTAMP:20260423T190239
CREATED:20241016T154707Z
LAST-MODIFIED:20241016T154707Z
UID:10001648-1730383200-1730394000@lafertemace.fr
SUMMARY:Après-midis Jeux
DESCRIPTION:Jeux gratuits pour tous\, de 14h à 17h\, à l’espace jeux rue de Versailles : \n\nmardi 22 octobre\njeudi 24 octobre\nmardi 29 octobre\njeudi 31 octobre\n\nliste des  jeux : lafertemace.fr/liste-jeux.pdf
URL:https://lafertemace.fr/event/apres-midis-jeux/2024-10-31/
LOCATION:Espace Jeux\, 10 rue de Versailles\, La Ferté-Macé
CATEGORIES:Loisirs,Sports et Loisirs
ATTACH;FMTTYPE=image/jpeg:https://lafertemace.fr/wp-content/uploads/2020/02/AVATAR_jeux-e1630583942358.jpeg
ORGANIZER;CN="Les amis des jeux":MAILTO:albert.le-monnier@wanadoo.fr
END:VEVENT
BEGIN:VEVENT
DTSTART;VALUE=DATE:20241031
DTEND;VALUE=DATE:20241101
DTSTAMP:20260423T190239
CREATED:20240930T103645Z
LAST-MODIFIED:20240930T103645Z
UID:10000631-1730332800-1730419199@lafertemace.fr
SUMMARY:Halloween au cinéma
DESCRIPTION:Spécial Halloween au Grand Turc – Une Nuit de Terreur Inoubliable ! \n\nJeudi 31 octobre – Dès 15h00 et jusqu’au lever du soleil !\nCette année\, la Médiathèque et le Cinéma Gérard Philipe vous invitent à une expérience Halloween cauchemardesque au Grand Turc\, qui vous tiendra éveillé jusqu’au matin avec frissons\, horreur\, et festins d’épouvante.\nVenez si vous osez\, mais attention : les âmes sensibles sont priées de\nrester chez elles !\nProgramme de la journée :\n15h00 : Maquillage & Lectures horrifiques (Gratuit)\nPréparez-vous à entrer dans l’ambiance avec des sessions de maquillage terrifiant\, suivi de lectures de récits à glacer le sang\, parfait pour plonger dans l’atmosphère de l’horreur.\n16h00 : Terreur en Casque Réalité Virtuelle (Gratuit). Plongez dans un cauchemar virtuel avec des expériences VR qui vous feront frissonner d’effroi. Êtes-vous prêt à affronter vos pires peurs ?\n16h00 : Film : “Mon petit Halloween” (Tarif unique : 4€) – Un film accessible aux plus jeunes pour une introduction en douceur à Halloween\, idéal pour les familles.\n16h40 : Festin de l’épouvante au potiron (Gratuit) – Un banquet aussi effrayant que délicieux pour reprendre des forces avant la grande nuit. \nProgramme du soir : \nInfos importantes :\nTous les films du soir sont interdits aux moins de 12 ans. Une pièce d’identité peut-être demandée\, l’accès sera refusé aux enfants de moins de 12 ans même accompagné d’un adulte (y compris les parents).\n19h00 : Film : “Shaun of the dead”\nUn classique de la comédie horrifique pour se mettre en jambes avant les vraies frayeurs de la nuit.\n21h15 : Film : “Smile 2” + Blind test horreur\nPréparez-vous à sourire de terreur ! Le blind test horreur suivra la projection pour tester vos connaissances cinématographiques.\n00h20 : Film : “Mother Land”\nPlongez dans une ambiance sombre et oppressante avec ce thriller d’épouvante.\n02h30 : Film : “Speak no evil” + Quiz horreur\nUn quizz horrifique à couper le souffle après ce film glaçant\, saurez-vous deviner toutes les réponses ?\n04h20 : Film : “Immaculée”\nL’angoisse continue avec ce long-métrage envoûtant\, parfait pour les courageux qui résistent encore.\n06h20 : Film : “The rocky horror picture show”\nTerminez la nuit en beauté avec ce film culte\, une touche décalée après une nuit de terreur !
URL:https://lafertemace.fr/event/halloween-au-cinema/2024-10-31/
LOCATION:Cinéma\, Salle G. Philipe 8 rue St Denis\, La Ferté-Macé
CATEGORIES:Cinéma,Loisirs,Sports et Loisirs
ATTACH;FMTTYPE=image/jpeg:https://lafertemace.fr/wp-content/uploads/2020/06/AVATAR_cinemaLAFM-2-e1652193177948.jpg
END:VEVENT
BEGIN:VEVENT
DTSTART;TZID=Europe/Helsinki:20241030T150000
DTEND;TZID=Europe/Helsinki:20241030T170000
DTSTAMP:20260423T190239
CREATED:20240701T151102Z
LAST-MODIFIED:20240701T151102Z
UID:10001428-1730300400-1730307600@lafertemace.fr
SUMMARY:La Fabrique "Halloween"
DESCRIPTION:Crée ta déco terrifiante! \nDès 15h à la médiathèque \nA partir de 8 ans  sur inscription
URL:https://lafertemace.fr/event/la-fabrique-halloween/2024-10-30/
LOCATION:Médiathèque « La Grande Nouvelle »\, Le Grand Turc\, Rue St Denis\, La Ferté-macé\, 61600
CATEGORIES:Atelier,Loisirs,Sports et Loisirs
ATTACH;FMTTYPE=image/jpeg:https://lafertemace.fr/wp-content/uploads/2017/10/AVATAR_mediatheque-e1509627180358.jpg
ORGANIZER;CN="M%C3%A9diath%C3%A8que 'La Grande Nouvelle' (Flers Agglo)":MAILTO:mediatheque.lafetemace@flers-agglo.fr
END:VEVENT
BEGIN:VEVENT
DTSTART;TZID=Europe/Helsinki:20241029T150000
DTEND;TZID=Europe/Helsinki:20241029T190000
DTSTAMP:20260423T190239
CREATED:20240415T110344Z
LAST-MODIFIED:20240502T105433Z
UID:10000598-1730214000-1730228400@lafertemace.fr
SUMMARY:Don de sang
DESCRIPTION:Les prochaines collectes de sang se dérouleront à la salle Guy Rossolini – Bd Hamonic – de 15h à 19h  : \n\nmardi 30 avril \nmardi  02 juillet \nmardi 27 août\nmardi 29 octobre\njeudi 26 décembre
URL:https://lafertemace.fr/event/don-de-sang-3/2024-10-29/
LOCATION:Salle Guy Rossolini\, Bd Hamonic\, La Ferté-Macé\, 61600
CATEGORIES:Santé - Social
ATTACH;FMTTYPE=image/jpeg:https://lafertemace.fr/wp-content/uploads/2016/02/don-du-sang-540X578.jpg
ORGANIZER;CN="Ass. des donneurs de sang b%C3%A9n%C3%A9voles":MAILTO:thevenard.jeannine@neuf.fr
END:VEVENT
BEGIN:VEVENT
DTSTART;TZID=Europe/Helsinki:20241029T140000
DTEND;TZID=Europe/Helsinki:20241029T170000
DTSTAMP:20260423T190239
CREATED:20241016T154707Z
LAST-MODIFIED:20241016T154707Z
UID:10001647-1730210400-1730221200@lafertemace.fr
SUMMARY:Après-midis Jeux
DESCRIPTION:Jeux gratuits pour tous\, de 14h à 17h\, à l’espace jeux rue de Versailles : \n\nmardi 22 octobre\njeudi 24 octobre\nmardi 29 octobre\njeudi 31 octobre\n\nliste des  jeux : lafertemace.fr/liste-jeux.pdf
URL:https://lafertemace.fr/event/apres-midis-jeux/2024-10-29/
LOCATION:Espace Jeux\, 10 rue de Versailles\, La Ferté-Macé
CATEGORIES:Loisirs,Sports et Loisirs
ATTACH;FMTTYPE=image/jpeg:https://lafertemace.fr/wp-content/uploads/2020/02/AVATAR_jeux-e1630583942358.jpeg
ORGANIZER;CN="Les amis des jeux":MAILTO:albert.le-monnier@wanadoo.fr
END:VEVENT
BEGIN:VEVENT
DTSTART;VALUE=DATE:20241028
DTEND;VALUE=DATE:20241029
DTSTAMP:20260423T190239
CREATED:20241004T085749Z
LAST-MODIFIED:20241004T085749Z
UID:10001425-1730073600-1730159999@lafertemace.fr
SUMMARY:21 au 31/10/24 : Vacances d'Automne ( 3 - 17 ans)
DESCRIPTION:Vacances d’Automne du 21 au 31 octobre 2024\, dans les centres de loisirs. \nCentre de loisirs  3-6 ans « Les couleurs magiques de l’automne ». Plus d’infos: plaquette automne 2024 \nCentre de loisirs 6-11 ans « Sorcellerie et magie ». Plus d’infos plaquette cl6-11 ans vacances automne 2024 \nL’atelier 12-17 ans :
URL:https://lafertemace.fr/event/21-au-31-10-24-vacances-dautomne-3-17-ans/2024-10-28/
CATEGORIES:Loisirs,Santé - Social,Sports et Loisirs
ATTACH;FMTTYPE=image/jpeg:https://lafertemace.fr/wp-content/uploads/2023/10/2023-vacances-automne-x2000.jpg
ORGANIZER;CN="Centre Socioculturel Th%C3%A9r%C3%A8se Letinturier":MAILTO:centresocioculturel@lafertemace.fr
END:VEVENT
BEGIN:VEVENT
DTSTART;VALUE=DATE:20241027
DTEND;VALUE=DATE:20241029
DTSTAMP:20260423T190239
CREATED:20241022T134959Z
LAST-MODIFIED:20241022T134959Z
UID:10000943-1729987200-1730077199@lafertemace.fr
SUMMARY:Cyclo cross
DESCRIPTION:Dimanche 27 octobre 2024 à la Base de Loisir
URL:https://lafertemace.fr/event/cyclo-cross/2024-10-27/
LOCATION:Base de Loisirs\, Bd de la Forêt d'Andaine\, La Ferté-Macé\, 61600
CATEGORIES:Loisirs,Sports,Sports et Loisirs
ATTACH;FMTTYPE=image/jpeg:https://lafertemace.fr/wp-content/uploads/2020/10/Cyclo-Cross-3.jpg
ORGANIZER;CN="V%C3%A9lo-Club La Fert%C3%A9-Mac%C3%A9":MAILTO:vcfertemace61@outlook.fr
END:VEVENT
BEGIN:VEVENT
DTSTART;TZID=Europe/Helsinki:20241026T110000
DTEND;TZID=Europe/Helsinki:20241026T110000
DTSTAMP:20260423T190239
CREATED:20240704T141202Z
LAST-MODIFIED:20240704T141219Z
UID:10001090-1729940400-1729940400@lafertemace.fr
SUMMARY:Les p'tites oreilles
DESCRIPTION:Des histoires pour les plus grands. A  partir de 5 ans. Gratuit accès libre \n28/09 : Les p’tites oreilles au pays des ogres\n26/10 : Les p’tites oreilles chez Ninon. \nA 11h\, à la médiathèque
URL:https://lafertemace.fr/event/les-ptites-oreilles-5/2024-10-26/
LOCATION:Médiathèque « La Grande Nouvelle »\, Le Grand Turc\, Rue St Denis\, La Ferté-macé\, 61600
CATEGORIES:Lecture,Loisirs,Sports et Loisirs
ATTACH;FMTTYPE=image/jpeg:https://lafertemace.fr/wp-content/uploads/2023/09/Les-ptites-oreilles.jpg
ORGANIZER;CN="M%C3%A9diath%C3%A8que 'La Grande Nouvelle' (Flers Agglo)":MAILTO:mediatheque.lafetemace@flers-agglo.fr
END:VEVENT
BEGIN:VEVENT
DTSTART;TZID=Europe/Helsinki:20241025T200000
DTEND;TZID=Europe/Helsinki:20241025T220000
DTSTAMP:20260423T190239
CREATED:20240909T145049Z
LAST-MODIFIED:20241213T110108Z
UID:10001606-1729886400-1729893600@lafertemace.fr
SUMMARY:Soirée jeux
DESCRIPTION:Soirées « jeux «  tous les vendredis 20h à 22 h jusqu’au 30 mai 2025\n« Après midi Jeux » les mardis et jeudis après midi pendant les petites vacances scolaires (sauf Noël)\n\n500 jeux de toutes sortes pour tous les âges. Gratuit- possibilité d’emprunt sous conditions \nA l’Espace jeux\,  10 rue de Versailles.\nContact : Les amis des jeux\, 06 85 89 18 40
URL:https://lafertemace.fr/event/soiree-jeux-4/2024-10-25/
LOCATION:Espace Jeux\, 10 rue de Versailles\, La Ferté-Macé
CATEGORIES:Loisirs,Santé - Social,Sports et Loisirs
ORGANIZER;CN="Les amis des jeux":MAILTO:albert.le-monnier@wanadoo.fr
END:VEVENT
BEGIN:VEVENT
DTSTART;TZID=Europe/Helsinki:20241024T153000
DTEND;TZID=Europe/Helsinki:20241024T173000
DTSTAMP:20260423T190239
CREATED:20240702T151123Z
LAST-MODIFIED:20240702T151123Z
UID:10001577-1729783800-1729791000@lafertemace.fr
SUMMARY:Atelier cinéma d'animation
DESCRIPTION:Créer un film d’animation.\nYannick Lecoeur vous donnera les bases et les astces pour pratiquer l’animation chez vous. \nA partir de 7 ans\, gratuit sur inscription. \nA 15h30 à la Médiathèque
URL:https://lafertemace.fr/event/atelier-cinema-danimation/2024-10-24/
LOCATION:Médiathèque « La Grande Nouvelle »\, Le Grand Turc\, Rue St Denis\, La Ferté-macé\, 61600
CATEGORIES:Atelier,Cinéma,Loisirs,Sports et Loisirs
ATTACH;FMTTYPE=image/jpeg:https://lafertemace.fr/wp-content/uploads/2017/10/AVATAR_mediatheque-e1509627180358.jpg
ORGANIZER;CN="M%C3%A9diath%C3%A8que 'La Grande Nouvelle' (Flers Agglo)":MAILTO:mediatheque.lafetemace@flers-agglo.fr
END:VEVENT
BEGIN:VEVENT
DTSTART;TZID=Europe/Helsinki:20241024T150000
DTEND;TZID=Europe/Helsinki:20241024T180000
DTSTAMP:20260423T190239
CREATED:20240702T154951Z
LAST-MODIFIED:20240702T154951Z
UID:10001419-1729782000-1729792800@lafertemace.fr
SUMMARY:Clic'Express
DESCRIPTION:Besoin d’une aide ponctuelle sur votre équipement numérique ou une démarche en ligne? \nPour adulte\, gratuit en accès libre. \nA 15h à la médiathèque \n 
URL:https://lafertemace.fr/event/clicexpress-2/2024-10-24/
LOCATION:Médiathèque « La Grande Nouvelle »\, Le Grand Turc\, Rue St Denis\, La Ferté-macé\, 61600
CATEGORIES:Atelier,Loisirs,Santé - Social
ATTACH;FMTTYPE=image/jpeg:https://lafertemace.fr/wp-content/uploads/2017/10/AVATAR_mediatheque-e1509627180358.jpg
ORGANIZER;CN="M%C3%A9diath%C3%A8que 'La Grande Nouvelle' (Flers Agglo)":MAILTO:mediatheque.lafetemace@flers-agglo.fr
END:VEVENT
END:VCALENDAR