BEGIN:VCALENDAR
VERSION:2.0
PRODID:-//Ville de La Ferté-Macé - ECPv6.15.20//NONSGML v1.0//EN
CALSCALE:GREGORIAN
METHOD:PUBLISH
X-WR-CALNAME:Ville de La Ferté-Macé
X-ORIGINAL-URL:https://lafertemace.fr
X-WR-CALDESC:Évènements pour Ville de La Ferté-Macé
REFRESH-INTERVAL;VALUE=DURATION:PT1H
X-Robots-Tag:noindex
X-PUBLISHED-TTL:PT1H
BEGIN:VTIMEZONE
TZID:Europe/Helsinki
BEGIN:DAYLIGHT
TZOFFSETFROM:+0200
TZOFFSETTO:+0300
TZNAME:EEST
DTSTART:20230326T010000
END:DAYLIGHT
BEGIN:STANDARD
TZOFFSETFROM:+0300
TZOFFSETTO:+0200
TZNAME:EET
DTSTART:20231029T010000
END:STANDARD
BEGIN:DAYLIGHT
TZOFFSETFROM:+0200
TZOFFSETTO:+0300
TZNAME:EEST
DTSTART:20240331T010000
END:DAYLIGHT
BEGIN:STANDARD
TZOFFSETFROM:+0300
TZOFFSETTO:+0200
TZNAME:EET
DTSTART:20241027T010000
END:STANDARD
BEGIN:DAYLIGHT
TZOFFSETFROM:+0200
TZOFFSETTO:+0300
TZNAME:EEST
DTSTART:20250330T010000
END:DAYLIGHT
BEGIN:STANDARD
TZOFFSETFROM:+0300
TZOFFSETTO:+0200
TZNAME:EET
DTSTART:20251026T010000
END:STANDARD
END:VTIMEZONE
BEGIN:VEVENT
DTSTART;TZID=Europe/Helsinki:20241009T140000
DTEND;TZID=Europe/Helsinki:20241009T173000
DTSTAMP:20260424T003543
CREATED:20240702T162211Z
LAST-MODIFIED:20240702T162211Z
UID:10001409-1728482400-1728495000@lafertemace.fr
SUMMARY:A vos manettes
DESCRIPTION:Jeux vidéos à la médiathèque dès 14h. \nGratuit accès libre
URL:https://lafertemace.fr/event/a-vos-manettes-2/2024-10-09/
LOCATION:Médiathèque « La Grande Nouvelle »\, Le Grand Turc\, Rue St Denis\, La Ferté-macé\, 61600
CATEGORIES:Loisirs,Sports et Loisirs
ATTACH;FMTTYPE=image/jpeg:https://lafertemace.fr/wp-content/uploads/2016/03/A-vos-manettes-X-540.jpg
ORGANIZER;CN="M%C3%A9diath%C3%A8que 'La Grande Nouvelle' (Flers Agglo)":MAILTO:mediatheque.lafetemace@flers-agglo.fr
END:VEVENT
BEGIN:VEVENT
DTSTART;TZID=Europe/Helsinki:20241009T100000
DTEND;TZID=Europe/Helsinki:20241009T100000
DTSTAMP:20260424T003543
CREATED:20241004T102937Z
LAST-MODIFIED:20241004T102937Z
UID:10001643-1728468000-1728468000@lafertemace.fr
SUMMARY:Rencontre avec la compagnie Le Théâtro
DESCRIPTION:
URL:https://lafertemace.fr/event/rencontre-avec-la-compagnie-le-theatro/2024-10-09/
LOCATION:Centre Socioculturel Thérèse Letinturier\, 14 Rue Pasteur\, La Ferté-Macé\, 61600
CATEGORIES:Atelier,Concert - Spectacle - Débat,Loisirs,Sports et Loisirs
ATTACH;FMTTYPE=image/jpeg:https://lafertemace.fr/wp-content/uploads/2023/06/AdobeStock_251337348-Theatre-Scene-scaled-e1687956898501.jpeg
ORGANIZER;CN="Centre Socioculturel Th%C3%A9r%C3%A8se Letinturier":MAILTO:centresocioculturel@lafertemace.fr
END:VEVENT
BEGIN:VEVENT
DTSTART;TZID=Europe/Helsinki:20241008T203000
DTEND;TZID=Europe/Helsinki:20241008T203000
DTSTAMP:20260424T003543
CREATED:20240930T102538Z
LAST-MODIFIED:20240930T102928Z
UID:10001636-1728419400-1728419400@lafertemace.fr
SUMMARY:Ciné :  Coup de coeur
DESCRIPTION:
URL:https://lafertemace.fr/event/cine-coup-de-coeur/2024-10-08/
LOCATION:Cinéma\, Salle G. Philipe 8 rue St Denis\, La Ferté-Macé
CATEGORIES:Cinéma,Loisirs,Sports et Loisirs
ATTACH;FMTTYPE=image/jpeg:https://lafertemace.fr/wp-content/uploads/2020/06/AVATAR_cinemaLAFM-2-e1652193177948.jpg
ORGANIZER;CN="Cin%C3%A9Fert%C3%A9":MAILTO:cinemagerardphilipe@wanadoo.fr
END:VEVENT
BEGIN:VEVENT
DTSTART;TZID=Europe/Helsinki:20241008T150000
DTEND;TZID=Europe/Helsinki:20241008T163000
DTSTAMP:20260424T003543
CREATED:20240702T151026Z
LAST-MODIFIED:20240702T151026Z
UID:10001381-1728399600-1728405000@lafertemace.fr
SUMMARY:Ateliers numériques
DESCRIPTION:Accompagnement personnalisé à l’usage des outils numériques et aux démarches en ligne. \nPour adulte\, gratuit sur inscription. \nMardi 10/09 – 24/09 – 08/10 à 15h \n 
URL:https://lafertemace.fr/event/ateliers-numeriques-2/2024-10-08/
LOCATION:Médiathèque « La Grande Nouvelle »\, Le Grand Turc\, Rue St Denis\, La Ferté-macé\, 61600
CATEGORIES:Atelier,Loisirs,Sports et Loisirs
ATTACH;FMTTYPE=image/jpeg:https://lafertemace.fr/wp-content/uploads/2023/09/Atelier-numerique.jpg
ORGANIZER;CN="M%C3%A9diath%C3%A8que 'La Grande Nouvelle' (Flers Agglo)":MAILTO:mediatheque.lafetemace@flers-agglo.fr
END:VEVENT
BEGIN:VEVENT
DTSTART;TZID=Europe/Helsinki:20241006T170000
DTEND;TZID=Europe/Helsinki:20241006T170000
DTSTAMP:20260424T003543
CREATED:20240911T102919Z
LAST-MODIFIED:20240911T102919Z
UID:10001106-1728234000-1728234000@lafertemace.fr
SUMMARY:Classiques sur grand écran
DESCRIPTION:
URL:https://lafertemace.fr/event/classiques-sur-grand-ecran-12/2024-10-06/
LOCATION:Cinéma\, Salle G. Philipe 8 rue St Denis\, La Ferté-Macé
CATEGORIES:Cinéma,Concert - Spectacle - Débat,Loisirs,Sports et Loisirs
ATTACH;FMTTYPE=image/jpeg:https://lafertemace.fr/wp-content/uploads/2020/06/AVATAR_cinemaLAFM-2-e1652193177948.jpg
ORGANIZER;CN="Cin%C3%A9Fert%C3%A9":MAILTO:cinemagerardphilipe@wanadoo.fr
END:VEVENT
BEGIN:VEVENT
DTSTART;VALUE=DATE:20241006
DTEND;VALUE=DATE:20241007
DTSTAMP:20260424T003543
CREATED:20241002T114919Z
LAST-MODIFIED:20241002T114919Z
UID:10001641-1728172800-1728259199@lafertemace.fr
SUMMARY:Equitation : Concours saut d'obstacles
DESCRIPTION:Concours officiel de saut d’obstacles organisé par le centre Equestre « La Peleras » . \nDimanche 06 octobre de 10h à 15h.
URL:https://lafertemace.fr/event/equitation-concours-saut-dobstacles/2024-10-06/
LOCATION:Centre Equestre La Peleras\, Route de Domfront\, Base de Loisirs\, La Ferté-Macé\, 61600
CATEGORIES:Loisirs,Plein air,Sports,Sports et Loisirs
ATTACH;FMTTYPE=image/jpeg:https://lafertemace.fr/wp-content/uploads/2016/03/Equitation-stage-centre-equestre-540.jpg
END:VEVENT
BEGIN:VEVENT
DTSTART;TZID=Europe/Helsinki:20241005T133000
DTEND;TZID=Europe/Helsinki:20241005T180000
DTSTAMP:20260424T003543
CREATED:20240919T145634Z
LAST-MODIFIED:20240919T145634Z
UID:10000628-1728135000-1728151200@lafertemace.fr
SUMMARY:Cuisine à l'Atelier 12-17 ans
DESCRIPTION:Atelier cuisine pour les 12 – 17 ans. Les samedis jusqu’au 19 octobre 
URL:https://lafertemace.fr/event/cuisine-a-latelier-12-17-ans/2024-10-05/
LOCATION:l’Atelier (12-17 ans)\, 16 rue St Denis\, La Ferté-Macé\, 61600\, France
CATEGORIES:Atelier,Loisirs,Marché - Braderie,Repas,Sports et Loisirs
ORGANIZER;CN="Centre Socioculturel Th%C3%A9r%C3%A8se Letinturier":MAILTO:centresocioculturel@lafertemace.fr
END:VEVENT
BEGIN:VEVENT
DTSTART;TZID=Europe/Helsinki:20241005T110000
DTEND;TZID=Europe/Helsinki:20241005T110000
DTSTAMP:20260424T003543
CREATED:20240702T162606Z
LAST-MODIFIED:20240702T162606Z
UID:10001411-1728126000-1728126000@lafertemace.fr
SUMMARY:La mare à bout'chou
DESCRIPTION:Des histoires pour les tout-petits de 0 à 4 ans (accompagné d’un adulte) \nA 11h à la médiathèque. Gratuit accès libre \n07/09 : En roue la troupe!\n05/10 : Histoires de cocos\n02/11 : Doudous\, tétines et compagnie
URL:https://lafertemace.fr/event/la-mare-a-boutchou-2/2024-10-05/
LOCATION:Médiathèque « La Grande Nouvelle »\, Le Grand Turc\, Rue St Denis\, La Ferté-macé\, 61600
CATEGORIES:Lecture,Loisirs,Sports et Loisirs
ATTACH;FMTTYPE=image/jpeg:https://lafertemace.fr/wp-content/uploads/2023/09/La-mare-a-boutchou.jpg
ORGANIZER;CN="M%C3%A9diath%C3%A8que 'La Grande Nouvelle' (Flers Agglo)":MAILTO:mediatheque.lafetemace@flers-agglo.fr
END:VEVENT
BEGIN:VEVENT
DTSTART;TZID=Europe/Helsinki:20241004T200000
DTEND;TZID=Europe/Helsinki:20241004T220000
DTSTAMP:20260424T003543
CREATED:20240909T145049Z
LAST-MODIFIED:20241213T110108Z
UID:10001603-1728072000-1728079200@lafertemace.fr
SUMMARY:Soirée jeux
DESCRIPTION:Soirées « jeux «  tous les vendredis 20h à 22 h jusqu’au 30 mai 2025\n« Après midi Jeux » les mardis et jeudis après midi pendant les petites vacances scolaires (sauf Noël)\n\n500 jeux de toutes sortes pour tous les âges. Gratuit- possibilité d’emprunt sous conditions \nA l’Espace jeux\,  10 rue de Versailles.\nContact : Les amis des jeux\, 06 85 89 18 40
URL:https://lafertemace.fr/event/soiree-jeux-4/2024-10-04/
LOCATION:Espace Jeux\, 10 rue de Versailles\, La Ferté-Macé
CATEGORIES:Loisirs,Santé - Social,Sports et Loisirs
ORGANIZER;CN="Les amis des jeux":MAILTO:albert.le-monnier@wanadoo.fr
END:VEVENT
BEGIN:VEVENT
DTSTART;TZID=Europe/Helsinki:20241004T190000
DTEND;TZID=Europe/Helsinki:20241004T190000
DTSTAMP:20260424T003543
CREATED:20240930T101802Z
LAST-MODIFIED:20240930T102154Z
UID:10001635-1728068400-1728068400@lafertemace.fr
SUMMARY:Ciné : Présentation saison 2024-2025
DESCRIPTION:A 19h – Gratuit pour tous
URL:https://lafertemace.fr/event/cine-presentation-saison-2024-2025/2024-10-04/
LOCATION:Cinéma\, Salle G. Philipe 8 rue St Denis\, La Ferté-Macé
CATEGORIES:Cinéma,Loisirs,Sports et Loisirs
ATTACH;FMTTYPE=image/jpeg:https://lafertemace.fr/wp-content/uploads/2020/06/AVATAR_cinemaLAFM-2-e1652193177948.jpg
ORGANIZER;CN="Cin%C3%A9Fert%C3%A9":MAILTO:cinemagerardphilipe@wanadoo.fr
END:VEVENT
BEGIN:VEVENT
DTSTART;TZID=Europe/Helsinki:20241004T180000
DTEND;TZID=Europe/Helsinki:20241004T180000
DTSTAMP:20260424T003543
CREATED:20240626T164104Z
LAST-MODIFIED:20240924T155205Z
UID:10001562-1728064800-1728064800@lafertemace.fr
SUMMARY:Fête de la science (04-14/10)
DESCRIPTION:Les étapes de conception d’un médicament \nAvant de gagner les rayons des pharmacies\, un médicament doit suivre un long parcours de validation. Par quelles étapes doit-il passer pour être validé ? \nVenez découvrir comment les médicaments sont conçus de la molécule à la boîte avec Marie Cornu\, Doctorante\, qui abordera le sujet en démontant les fausses informations. \nA 18h à la médiathèque.  \nGratuit sur inscription\, public adulte
URL:https://lafertemace.fr/event/fete-de-la-science-04-14-10/2024-10-04/
LOCATION:Médiathèque « La Grande Nouvelle »\, Le Grand Turc\, Rue St Denis\, La Ferté-macé\, 61600
CATEGORIES:Atelier,Expositions,Lecture,Loisirs,Sports et Loisirs
ATTACH;FMTTYPE=image/jpeg:https://lafertemace.fr/wp-content/uploads/2016/04/le-grand-turc-e1460968747663.jpg
ORGANIZER;CN="M%C3%A9diath%C3%A8que 'La Grande Nouvelle' (Flers Agglo)":MAILTO:mediatheque.lafetemace@flers-agglo.fr
END:VEVENT
BEGIN:VEVENT
DTSTART;TZID=Europe/Helsinki:20241003T150000
DTEND;TZID=Europe/Helsinki:20241003T180000
DTSTAMP:20260424T003543
CREATED:20240702T154951Z
LAST-MODIFIED:20240702T154951Z
UID:10001417-1727967600-1727978400@lafertemace.fr
SUMMARY:Clic'Express
DESCRIPTION:Besoin d’une aide ponctuelle sur votre équipement numérique ou une démarche en ligne? \nPour adulte\, gratuit en accès libre. \nA 15h à la médiathèque \n 
URL:https://lafertemace.fr/event/clicexpress-2/2024-10-03/
LOCATION:Médiathèque « La Grande Nouvelle »\, Le Grand Turc\, Rue St Denis\, La Ferté-macé\, 61600
CATEGORIES:Atelier,Loisirs,Santé - Social
ATTACH;FMTTYPE=image/jpeg:https://lafertemace.fr/wp-content/uploads/2017/10/AVATAR_mediatheque-e1509627180358.jpg
ORGANIZER;CN="M%C3%A9diath%C3%A8que 'La Grande Nouvelle' (Flers Agglo)":MAILTO:mediatheque.lafetemace@flers-agglo.fr
END:VEVENT
BEGIN:VEVENT
DTSTART;VALUE=DATE:20241002
DTEND;VALUE=DATE:20241013
DTSTAMP:20260424T003543
CREATED:20240904T141619Z
LAST-MODIFIED:20240904T141619Z
UID:10001110-1727827200-1728777599@lafertemace.fr
SUMMARY:Festival Street Art (02-12/10/24)
DESCRIPTION:
URL:https://lafertemace.fr/event/festival-street-art-02-12-10-24/
CATEGORIES:Expositions,Loisirs,Marché - Braderie,Patrimoine,Plein air,Santé - Social,Sports et Loisirs
END:VEVENT
BEGIN:VEVENT
DTSTART;TZID=Europe/Helsinki:20240930T150000
DTEND;TZID=Europe/Helsinki:20240930T150000
DTSTAMP:20260424T003543
CREATED:20240924T160824Z
LAST-MODIFIED:20240924T160824Z
UID:10001094-1727708400-1727708400@lafertemace.fr
SUMMARY:La Fabrique
DESCRIPTION:Atelier de décoration sur le thème d’Halloween. \nA 15h à la médiathèque. Dès 7 ans
URL:https://lafertemace.fr/event/la-fabrique-3/2024-09-30/
LOCATION:Médiathèque « La Grande Nouvelle »\, Le Grand Turc\, Rue St Denis\, La Ferté-macé\, 61600
CATEGORIES:Loisirs,Sports et Loisirs
ATTACH;FMTTYPE=image/jpeg:https://lafertemace.fr/wp-content/uploads/2016/04/le-grand-turc-e1460968747663.jpg
ORGANIZER;CN="M%C3%A9diath%C3%A8que 'La Grande Nouvelle' (Flers Agglo)":MAILTO:mediatheque.lafetemace@flers-agglo.fr
END:VEVENT
BEGIN:VEVENT
DTSTART;VALUE=DATE:20240930
DTEND;VALUE=DATE:20241001
DTSTAMP:20260424T003543
CREATED:20240731T114425Z
LAST-MODIFIED:20240731T114425Z
UID:10001596-1727654400-1727740799@lafertemace.fr
SUMMARY:UIA - reprise
DESCRIPTION:Université Inter Ages :  \n\nRéunion d’information : 23/09\, 14h30 – salle G. Philipe\, Le Grand Turc\nInscriptions : 25/09 de 10h à 12h et de 14h à 16h – 26/09 et 30/09 de 10h à 12h\, le Grand Turc\n\nContact : 06 62 56 53 05
URL:https://lafertemace.fr/event/uia-reprise/2024-09-30/
CATEGORIES:Sports et Loisirs
ATTACH;FMTTYPE=image/png:https://lafertemace.fr/wp-content/uploads/2017/04/Logo-UIA-La-Ferté-Macé.png
END:VEVENT
BEGIN:VEVENT
DTSTART;TZID=Europe/Helsinki:20240928T160000
DTEND;TZID=Europe/Helsinki:20240928T160000
DTSTAMP:20260424T003543
CREATED:20240904T144614Z
LAST-MODIFIED:20240904T144614Z
UID:10001183-1727539200-1727539200@lafertemace.fr
SUMMARY:Ciné Concert
DESCRIPTION:Le carnaval de la petite taupe. A 16h \n \n 
URL:https://lafertemace.fr/event/cine-concert/2024-09-28/
LOCATION:Cinéma\, Salle G. Philipe 8 rue St Denis\, La Ferté-Macé
CATEGORIES:Cinéma,Concert - Spectacle - Débat,Loisirs,Sports et Loisirs
ATTACH;FMTTYPE=image/jpeg:https://lafertemace.fr/wp-content/uploads/2020/06/AVATAR_cinema.jpg
ORGANIZER;CN="Cin%C3%A9Fert%C3%A9":MAILTO:cinemagerardphilipe@wanadoo.fr
END:VEVENT
BEGIN:VEVENT
DTSTART;TZID=Europe/Helsinki:20240928T133000
DTEND;TZID=Europe/Helsinki:20240928T180000
DTSTAMP:20260424T003543
CREATED:20240919T145634Z
LAST-MODIFIED:20240919T145634Z
UID:10000627-1727530200-1727546400@lafertemace.fr
SUMMARY:Cuisine à l'Atelier 12-17 ans
DESCRIPTION:Atelier cuisine pour les 12 – 17 ans. Les samedis jusqu’au 19 octobre 
URL:https://lafertemace.fr/event/cuisine-a-latelier-12-17-ans/2024-09-28/
LOCATION:l’Atelier (12-17 ans)\, 16 rue St Denis\, La Ferté-Macé\, 61600\, France
CATEGORIES:Atelier,Loisirs,Marché - Braderie,Repas,Sports et Loisirs
ORGANIZER;CN="Centre Socioculturel Th%C3%A9r%C3%A8se Letinturier":MAILTO:centresocioculturel@lafertemace.fr
END:VEVENT
BEGIN:VEVENT
DTSTART;TZID=Europe/Helsinki:20240928T110000
DTEND;TZID=Europe/Helsinki:20240928T110000
DTSTAMP:20260424T003543
CREATED:20240704T141202Z
LAST-MODIFIED:20240704T141219Z
UID:10001089-1727521200-1727521200@lafertemace.fr
SUMMARY:Les p'tites oreilles
DESCRIPTION:Des histoires pour les plus grands. A  partir de 5 ans. Gratuit accès libre \n28/09 : Les p’tites oreilles au pays des ogres\n26/10 : Les p’tites oreilles chez Ninon. \nA 11h\, à la médiathèque
URL:https://lafertemace.fr/event/les-ptites-oreilles-5/2024-09-28/
LOCATION:Médiathèque « La Grande Nouvelle »\, Le Grand Turc\, Rue St Denis\, La Ferté-macé\, 61600
CATEGORIES:Lecture,Loisirs,Sports et Loisirs
ATTACH;FMTTYPE=image/jpeg:https://lafertemace.fr/wp-content/uploads/2023/09/Les-ptites-oreilles.jpg
ORGANIZER;CN="M%C3%A9diath%C3%A8que 'La Grande Nouvelle' (Flers Agglo)":MAILTO:mediatheque.lafetemace@flers-agglo.fr
END:VEVENT
BEGIN:VEVENT
DTSTART;TZID=Europe/Helsinki:20240927T200000
DTEND;TZID=Europe/Helsinki:20240927T220000
DTSTAMP:20260424T003543
CREATED:20240909T145049Z
LAST-MODIFIED:20241213T110108Z
UID:10001602-1727467200-1727474400@lafertemace.fr
SUMMARY:Soirée jeux
DESCRIPTION:Soirées « jeux «  tous les vendredis 20h à 22 h jusqu’au 30 mai 2025\n« Après midi Jeux » les mardis et jeudis après midi pendant les petites vacances scolaires (sauf Noël)\n\n500 jeux de toutes sortes pour tous les âges. Gratuit- possibilité d’emprunt sous conditions \nA l’Espace jeux\,  10 rue de Versailles.\nContact : Les amis des jeux\, 06 85 89 18 40
URL:https://lafertemace.fr/event/soiree-jeux-4/2024-09-27/
LOCATION:Espace Jeux\, 10 rue de Versailles\, La Ferté-Macé
CATEGORIES:Loisirs,Santé - Social,Sports et Loisirs
ORGANIZER;CN="Les amis des jeux":MAILTO:albert.le-monnier@wanadoo.fr
END:VEVENT
BEGIN:VEVENT
DTSTART;TZID=Europe/Helsinki:20240926T150000
DTEND;TZID=Europe/Helsinki:20240926T180000
DTSTAMP:20260424T003543
CREATED:20240702T154951Z
LAST-MODIFIED:20240702T154951Z
UID:10001416-1727362800-1727373600@lafertemace.fr
SUMMARY:Clic'Express
DESCRIPTION:Besoin d’une aide ponctuelle sur votre équipement numérique ou une démarche en ligne? \nPour adulte\, gratuit en accès libre. \nA 15h à la médiathèque \n 
URL:https://lafertemace.fr/event/clicexpress-2/2024-09-26/
LOCATION:Médiathèque « La Grande Nouvelle »\, Le Grand Turc\, Rue St Denis\, La Ferté-macé\, 61600
CATEGORIES:Atelier,Loisirs,Santé - Social
ATTACH;FMTTYPE=image/jpeg:https://lafertemace.fr/wp-content/uploads/2017/10/AVATAR_mediatheque-e1509627180358.jpg
ORGANIZER;CN="M%C3%A9diath%C3%A8que 'La Grande Nouvelle' (Flers Agglo)":MAILTO:mediatheque.lafetemace@flers-agglo.fr
END:VEVENT
BEGIN:VEVENT
DTSTART;VALUE=DATE:20240926
DTEND;VALUE=DATE:20240927
DTSTAMP:20260424T003543
CREATED:20240731T114425Z
LAST-MODIFIED:20240731T114425Z
UID:10001595-1727308800-1727395199@lafertemace.fr
SUMMARY:UIA - reprise
DESCRIPTION:Université Inter Ages :  \n\nRéunion d’information : 23/09\, 14h30 – salle G. Philipe\, Le Grand Turc\nInscriptions : 25/09 de 10h à 12h et de 14h à 16h – 26/09 et 30/09 de 10h à 12h\, le Grand Turc\n\nContact : 06 62 56 53 05
URL:https://lafertemace.fr/event/uia-reprise/2024-09-26/
CATEGORIES:Sports et Loisirs
ATTACH;FMTTYPE=image/png:https://lafertemace.fr/wp-content/uploads/2017/04/Logo-UIA-La-Ferté-Macé.png
END:VEVENT
BEGIN:VEVENT
DTSTART;TZID=Europe/Helsinki:20240925T160000
DTEND;TZID=Europe/Helsinki:20240925T160000
DTSTAMP:20260424T003543
CREATED:20240904T145016Z
LAST-MODIFIED:20240904T145016Z
UID:10001186-1727280000-1727280000@lafertemace.fr
SUMMARY:Ciné filou goûter
DESCRIPTION:Petits contes sous l’océan. Dès 4  ans.
URL:https://lafertemace.fr/event/cine-filou-gouter-4/2024-09-25/
LOCATION:Cinéma\, Salle G. Philipe 8 rue St Denis\, La Ferté-Macé
CATEGORIES:Cinéma,Loisirs,Sports et Loisirs
ATTACH;FMTTYPE=image/jpeg:https://lafertemace.fr/wp-content/uploads/2020/06/AVATAR_cinemaLAFM-2-e1652193177948.jpg
ORGANIZER;CN="Cin%C3%A9Fert%C3%A9":MAILTO:cinemagerardphilipe@wanadoo.fr
END:VEVENT
BEGIN:VEVENT
DTSTART;TZID=Europe/Helsinki:20240925T140000
DTEND;TZID=Europe/Helsinki:20240925T173000
DTSTAMP:20260424T003543
CREATED:20240702T162211Z
LAST-MODIFIED:20240702T162211Z
UID:10001408-1727272800-1727285400@lafertemace.fr
SUMMARY:A vos manettes
DESCRIPTION:Jeux vidéos à la médiathèque dès 14h. \nGratuit accès libre
URL:https://lafertemace.fr/event/a-vos-manettes-2/2024-09-25/
LOCATION:Médiathèque « La Grande Nouvelle »\, Le Grand Turc\, Rue St Denis\, La Ferté-macé\, 61600
CATEGORIES:Loisirs,Sports et Loisirs
ATTACH;FMTTYPE=image/jpeg:https://lafertemace.fr/wp-content/uploads/2016/03/A-vos-manettes-X-540.jpg
ORGANIZER;CN="M%C3%A9diath%C3%A8que 'La Grande Nouvelle' (Flers Agglo)":MAILTO:mediatheque.lafetemace@flers-agglo.fr
END:VEVENT
BEGIN:VEVENT
DTSTART;VALUE=DATE:20240925
DTEND;VALUE=DATE:20240926
DTSTAMP:20260424T003543
CREATED:20240731T114425Z
LAST-MODIFIED:20240731T114425Z
UID:10001594-1727222400-1727308799@lafertemace.fr
SUMMARY:UIA - reprise
DESCRIPTION:Université Inter Ages :  \n\nRéunion d’information : 23/09\, 14h30 – salle G. Philipe\, Le Grand Turc\nInscriptions : 25/09 de 10h à 12h et de 14h à 16h – 26/09 et 30/09 de 10h à 12h\, le Grand Turc\n\nContact : 06 62 56 53 05
URL:https://lafertemace.fr/event/uia-reprise/2024-09-25/
CATEGORIES:Sports et Loisirs
ATTACH;FMTTYPE=image/png:https://lafertemace.fr/wp-content/uploads/2017/04/Logo-UIA-La-Ferté-Macé.png
END:VEVENT
BEGIN:VEVENT
DTSTART;TZID=Europe/Helsinki:20240924T150000
DTEND;TZID=Europe/Helsinki:20240924T163000
DTSTAMP:20260424T003543
CREATED:20240702T151026Z
LAST-MODIFIED:20240702T151026Z
UID:10001380-1727190000-1727195400@lafertemace.fr
SUMMARY:Ateliers numériques
DESCRIPTION:Accompagnement personnalisé à l’usage des outils numériques et aux démarches en ligne. \nPour adulte\, gratuit sur inscription. \nMardi 10/09 – 24/09 – 08/10 à 15h \n 
URL:https://lafertemace.fr/event/ateliers-numeriques-2/2024-09-24/
LOCATION:Médiathèque « La Grande Nouvelle »\, Le Grand Turc\, Rue St Denis\, La Ferté-macé\, 61600
CATEGORIES:Atelier,Loisirs,Sports et Loisirs
ATTACH;FMTTYPE=image/jpeg:https://lafertemace.fr/wp-content/uploads/2023/09/Atelier-numerique.jpg
ORGANIZER;CN="M%C3%A9diath%C3%A8que 'La Grande Nouvelle' (Flers Agglo)":MAILTO:mediatheque.lafetemace@flers-agglo.fr
END:VEVENT
BEGIN:VEVENT
DTSTART;TZID=Europe/Helsinki:20240923T080000
DTEND;TZID=Europe/Helsinki:20240923T170000
DTSTAMP:20260424T003543
CREATED:20240923T110718Z
LAST-MODIFIED:20240923T110718Z
UID:10000593-1727078400-1727110800@lafertemace.fr
SUMMARY:Ciné\, présentation de la saison 2024-25
DESCRIPTION:Soirée de présentation de la saison 2024-2025\, vendredi 04 octobre à 19h. Gratuit pour tous
URL:https://lafertemace.fr/event/cine-presentation-de-la-saison-2024-25/
CATEGORIES:Cinéma,Loisirs,Sports et Loisirs
ATTACH;FMTTYPE=image/jpeg:https://lafertemace.fr/wp-content/uploads/2020/06/AVATAR_cinemaLAFM-2-e1652193177948.jpg
END:VEVENT
BEGIN:VEVENT
DTSTART;VALUE=DATE:20240923
DTEND;VALUE=DATE:20240924
DTSTAMP:20260424T003543
CREATED:20240731T114425Z
LAST-MODIFIED:20240731T114425Z
UID:10001593-1727049600-1727135999@lafertemace.fr
SUMMARY:UIA - reprise
DESCRIPTION:Université Inter Ages :  \n\nRéunion d’information : 23/09\, 14h30 – salle G. Philipe\, Le Grand Turc\nInscriptions : 25/09 de 10h à 12h et de 14h à 16h – 26/09 et 30/09 de 10h à 12h\, le Grand Turc\n\nContact : 06 62 56 53 05
URL:https://lafertemace.fr/event/uia-reprise/2024-09-23/
CATEGORIES:Sports et Loisirs
ATTACH;FMTTYPE=image/png:https://lafertemace.fr/wp-content/uploads/2017/04/Logo-UIA-La-Ferté-Macé.png
END:VEVENT
BEGIN:VEVENT
DTSTART;VALUE=DATE:20240922
DTEND;VALUE=DATE:20240923
DTSTAMP:20260424T003543
CREATED:20240917T100052Z
LAST-MODIFIED:20240917T100052Z
UID:10001407-1726963200-1727049599@lafertemace.fr
SUMMARY:Eau'Rne libre
DESCRIPTION:Avec Axel Reymond\, Champion du monde de la discipline. Ouvert à tous et gratuit
URL:https://lafertemace.fr/event/eaurne-libre/2024-09-22/
LOCATION:Base de Loisirs\, Bd de la Forêt d'Andaine\, La Ferté-Macé\, 61600
CATEGORIES:Loisirs,Plein air,Santé - Social,Sports,Sports et Loisirs
ATTACH;FMTTYPE=image/jpeg:https://lafertemace.fr/wp-content/uploads/2016/07/Base-de-loisirs-X-2000.jpg
END:VEVENT
BEGIN:VEVENT
DTSTART;TZID=Europe/Helsinki:20240921T203000
DTEND;TZID=Europe/Helsinki:20240921T203000
DTSTAMP:20260424T003543
CREATED:20240910T101727Z
LAST-MODIFIED:20240910T101727Z
UID:10001400-1726950600-1726950600@lafertemace.fr
SUMMARY:Journées du patrimoine : Concert
DESCRIPTION:Dans le cadre des Journées du Patrimoine\, l’association pour la restauration de l’Eglise Notre-Dame propose :
URL:https://lafertemace.fr/event/journees-du-patrimoine-concert/2024-09-21/
LOCATION:Eglise Notre-Dame\, Place du Gal Leclerc\, La Ferté-Macé\, 61600
CATEGORIES:Concert - Spectacle - Débat,Loisirs,Patrimoine,Sports et Loisirs
END:VEVENT
BEGIN:VEVENT
DTSTART;TZID=Europe/Helsinki:20240921T150000
DTEND;TZID=Europe/Helsinki:20240921T170000
DTSTAMP:20260424T003543
CREATED:20240626T151959Z
LAST-MODIFIED:20240626T151959Z
UID:10001560-1726930800-1726938000@lafertemace.fr
SUMMARY:La Fabrique
DESCRIPTION:Atelier : Customise ta rentrée! Crée ton badge et ton porte-clé \nA partir de 8 ans\, sur inscription à la médiathèque
URL:https://lafertemace.fr/event/la-fabrique-2/2024-09-21/
LOCATION:Médiathèque « La Grande Nouvelle »\, Le Grand Turc\, Rue St Denis\, La Ferté-macé\, 61600
CATEGORIES:Loisirs,Sports et Loisirs
ATTACH;FMTTYPE=image/jpeg:https://lafertemace.fr/wp-content/uploads/2016/04/le-grand-turc-e1460968747663.jpg
ORGANIZER;CN="M%C3%A9diath%C3%A8que 'La Grande Nouvelle' (Flers Agglo)":MAILTO:mediatheque.lafetemace@flers-agglo.fr
END:VEVENT
END:VCALENDAR