BEGIN:VCALENDAR
VERSION:2.0
PRODID:-//Ville de La Ferté-Macé - ECPv6.15.20//NONSGML v1.0//EN
CALSCALE:GREGORIAN
METHOD:PUBLISH
X-WR-CALNAME:Ville de La Ferté-Macé
X-ORIGINAL-URL:https://lafertemace.fr
X-WR-CALDESC:Évènements pour Ville de La Ferté-Macé
REFRESH-INTERVAL;VALUE=DURATION:PT1H
X-Robots-Tag:noindex
X-PUBLISHED-TTL:PT1H
BEGIN:VTIMEZONE
TZID:Europe/Helsinki
BEGIN:DAYLIGHT
TZOFFSETFROM:+0200
TZOFFSETTO:+0300
TZNAME:EEST
DTSTART:20230326T010000
END:DAYLIGHT
BEGIN:STANDARD
TZOFFSETFROM:+0300
TZOFFSETTO:+0200
TZNAME:EET
DTSTART:20231029T010000
END:STANDARD
BEGIN:DAYLIGHT
TZOFFSETFROM:+0200
TZOFFSETTO:+0300
TZNAME:EEST
DTSTART:20240331T010000
END:DAYLIGHT
BEGIN:STANDARD
TZOFFSETFROM:+0300
TZOFFSETTO:+0200
TZNAME:EET
DTSTART:20241027T010000
END:STANDARD
BEGIN:DAYLIGHT
TZOFFSETFROM:+0200
TZOFFSETTO:+0300
TZNAME:EEST
DTSTART:20250330T010000
END:DAYLIGHT
BEGIN:STANDARD
TZOFFSETFROM:+0300
TZOFFSETTO:+0200
TZNAME:EET
DTSTART:20251026T010000
END:STANDARD
END:VTIMEZONE
BEGIN:VEVENT
DTSTART;TZID=Europe/Helsinki:20240907T143000
DTEND;TZID=Europe/Helsinki:20240907T143000
DTSTAMP:20260424T055623
CREATED:20240312T110936Z
LAST-MODIFIED:20240312T110936Z
UID:10001048-1725719400-1725719400@lafertemace.fr
SUMMARY:Visite de Michel
DESCRIPTION:
URL:https://lafertemace.fr/event/visite-de-michel/
LOCATION:Bureau Information Tourisme\, 11 Rue de la Victoire\, La Ferté Macé\, 61600
CATEGORIES:Loisirs,Patrimoine,Plein air,Sports et Loisirs
ATTACH;FMTTYPE=image/jpeg:https://lafertemace.fr/wp-content/uploads/2016/06/cimetière-X540.jpg
ORGANIZER;CN="Bureau Information Tourisme (Flers Agglo)":MAILTO:otsi.la-ferte-mace@wanadoo.fr
END:VEVENT
BEGIN:VEVENT
DTSTART;TZID=Europe/Helsinki:20240907T130000
DTEND;TZID=Europe/Helsinki:20240907T235900
DTSTAMP:20260424T055623
CREATED:20240116T153954Z
LAST-MODIFIED:20240718T135309Z
UID:10000663-1725714000-1725753540@lafertemace.fr
SUMMARY:Moto cross Nocturne
DESCRIPTION:Samedi 7 septembre 2024\, Motocross Nocturne sur le site de la Base de Loisirs de 13h à minuit. \nEntrée gratuite\, restauration et buvette sur place. \n  \n \n 
URL:https://lafertemace.fr/event/moto-cross/
LOCATION:Base de Loisirs\, Bd de la Forêt d'Andaine\, La Ferté-Macé\, 61600
CATEGORIES:Loisirs,Plein air,Sports et Loisirs
ATTACH;FMTTYPE=image/jpeg:https://lafertemace.fr/wp-content/uploads/2018/07/AVATAR_motocross.jpg
ORGANIZER;CN="Service Culture%2C Sports et Loisirs":MAILTO:sports.loisirs@lafertemace.fr
END:VEVENT
BEGIN:VEVENT
DTSTART;TZID=Europe/Helsinki:20240907T110000
DTEND;TZID=Europe/Helsinki:20240907T110000
DTSTAMP:20260424T055623
CREATED:20240702T162606Z
LAST-MODIFIED:20240702T162606Z
UID:10001410-1725706800-1725706800@lafertemace.fr
SUMMARY:La mare à bout'chou
DESCRIPTION:Des histoires pour les tout-petits de 0 à 4 ans (accompagné d’un adulte) \nA 11h à la médiathèque. Gratuit accès libre \n07/09 : En roue la troupe!\n05/10 : Histoires de cocos\n02/11 : Doudous\, tétines et compagnie
URL:https://lafertemace.fr/event/la-mare-a-boutchou-2/2024-09-07/
LOCATION:Médiathèque « La Grande Nouvelle »\, Le Grand Turc\, Rue St Denis\, La Ferté-macé\, 61600
CATEGORIES:Lecture,Loisirs,Sports et Loisirs
ATTACH;FMTTYPE=image/jpeg:https://lafertemace.fr/wp-content/uploads/2023/09/La-mare-a-boutchou.jpg
ORGANIZER;CN="M%C3%A9diath%C3%A8que 'La Grande Nouvelle' (Flers Agglo)":MAILTO:mediatheque.lafetemace@flers-agglo.fr
END:VEVENT
BEGIN:VEVENT
DTSTART;VALUE=DATE:20240907
DTEND;VALUE=DATE:20240908
DTSTAMP:20260424T055623
CREATED:20240822T085820Z
LAST-MODIFIED:20240822T085820Z
UID:10001598-1725667200-1725753599@lafertemace.fr
SUMMARY:Expo : La Ferté-Macé d'hier à aujourd'hui (31/08-10/09/24)
DESCRIPTION:L’association Les Cartophiles Fertois vous présente : 
URL:https://lafertemace.fr/event/expo-la-ferte-mace-dhier-a-aujourdhui-31-08-10-09-24/2024-09-07/
CATEGORIES:Expositions,Loisirs,Sports et Loisirs
ATTACH;FMTTYPE=image/jpeg:https://lafertemace.fr/wp-content/uploads/2015/06/mairie.jpg
END:VEVENT
BEGIN:VEVENT
DTSTART;TZID=Europe/Helsinki:20240905T150000
DTEND;TZID=Europe/Helsinki:20240905T180000
DTSTAMP:20260424T055623
CREATED:20240702T154951Z
LAST-MODIFIED:20240702T154951Z
UID:10001413-1725548400-1725559200@lafertemace.fr
SUMMARY:Clic'Express
DESCRIPTION:Besoin d’une aide ponctuelle sur votre équipement numérique ou une démarche en ligne? \nPour adulte\, gratuit en accès libre. \nA 15h à la médiathèque \n 
URL:https://lafertemace.fr/event/clicexpress-2/2024-09-05/
LOCATION:Médiathèque « La Grande Nouvelle »\, Le Grand Turc\, Rue St Denis\, La Ferté-macé\, 61600
CATEGORIES:Atelier,Loisirs,Santé - Social
ATTACH;FMTTYPE=image/jpeg:https://lafertemace.fr/wp-content/uploads/2017/10/AVATAR_mediatheque-e1509627180358.jpg
ORGANIZER;CN="M%C3%A9diath%C3%A8que 'La Grande Nouvelle' (Flers Agglo)":MAILTO:mediatheque.lafetemace@flers-agglo.fr
END:VEVENT
BEGIN:VEVENT
DTSTART;TZID=Europe/Helsinki:20240901T070000
DTEND;TZID=Europe/Helsinki:20240901T180000
DTSTAMP:20260424T055623
CREATED:20240312T110512Z
LAST-MODIFIED:20240819T130541Z
UID:10001076-1725174000-1725213600@lafertemace.fr
SUMMARY:Braderie
DESCRIPTION:55ème braderie dans les rues de la ville de 7h à 18h. \n400 exposants
URL:https://lafertemace.fr/event/braderie-2/2024-09-01/
CATEGORIES:Expositions,Loisirs,Marché - Braderie,Plein air,Sports et Loisirs
ATTACH;FMTTYPE=image/jpeg:https://lafertemace.fr/wp-content/uploads/2023/08/braderie-2023-bandeau-site.jpg
ORGANIZER;CN="UCIA":MAILTO:ucia.lafertemace@orange.fr
END:VEVENT
BEGIN:VEVENT
DTSTART;TZID=Europe/Helsinki:20240831T090000
DTEND;TZID=Europe/Helsinki:20240831T170000
DTSTAMP:20260424T055623
CREATED:20240312T110222Z
LAST-MODIFIED:20240312T110222Z
UID:10001038-1725094800-1725123600@lafertemace.fr
SUMMARY:Marché Art et Terroir
DESCRIPTION:Marché art et Terroir – Foire aux Vins\nexposition de véhicules anciens le samedi 31 août de 9h à 17h\npôle enfant sur le parvis de l’église
URL:https://lafertemace.fr/event/marche-art-et-terroir/2024-08-31/
LOCATION:Place du Gal Leclerc\, La Ferté-Macé
CATEGORIES:Loisirs,Marché - Braderie,Plein air,Sports et Loisirs
ATTACH;FMTTYPE=image/jpeg:https://lafertemace.fr/wp-content/uploads/2018/04/foireauxvins800.jpg
ORGANIZER;CN="UCIA":MAILTO:ucia.lafertemace@orange.fr
END:VEVENT
BEGIN:VEVENT
DTSTART;VALUE=DATE:20240831
DTEND;VALUE=DATE:20240901
DTSTAMP:20260424T055623
CREATED:20240822T085820Z
LAST-MODIFIED:20240822T085820Z
UID:10001597-1725062400-1725148799@lafertemace.fr
SUMMARY:Expo : La Ferté-Macé d'hier à aujourd'hui (31/08-10/09/24)
DESCRIPTION:L’association Les Cartophiles Fertois vous présente : 
URL:https://lafertemace.fr/event/expo-la-ferte-mace-dhier-a-aujourdhui-31-08-10-09-24/2024-08-31/
CATEGORIES:Expositions,Loisirs,Sports et Loisirs
ATTACH;FMTTYPE=image/jpeg:https://lafertemace.fr/wp-content/uploads/2015/06/mairie.jpg
END:VEVENT
BEGIN:VEVENT
DTSTART;VALUE=DATE:20240830
DTEND;VALUE=DATE:20240831
DTSTAMP:20260424T055623
CREATED:20240530T144742Z
LAST-MODIFIED:20240530T144742Z
UID:10000552-1724976000-1725062399@lafertemace.fr
SUMMARY:Soirées jeux
DESCRIPTION:Soirées jeux  (jeux de plein air et grands jeux en bois) \nTous les vendredis du 07 juin au 31 août 2024\, de 20h à 22h à la Base de Loisirs
URL:https://lafertemace.fr/event/soirees-jeux/2024-08-30/
LOCATION:Base de Loisirs\, Bd de la Forêt d'Andaine\, La Ferté-Macé\, 61600
CATEGORIES:Loisirs,Plein air,Sports et Loisirs
ATTACH;FMTTYPE=image/jpeg:https://lafertemace.fr/wp-content/uploads/2016/05/2012-manifestations-jeux-anciens-festival-des-jeux-Base-de-loisirs-jeu-de-quilles-1-e1463744110911.jpg
ORGANIZER;CN="Les amis des jeux":MAILTO:albert.le-monnier@wanadoo.fr
END:VEVENT
BEGIN:VEVENT
DTSTART;TZID=Europe/Helsinki:20240829T150000
DTEND;TZID=Europe/Helsinki:20240829T180000
DTSTAMP:20260424T055623
CREATED:20240619T162158Z
LAST-MODIFIED:20240619T162158Z
UID:10000856-1724943600-1724954400@lafertemace.fr
SUMMARY:Les jeux du jeudi
DESCRIPTION:Mise à disposition de jeux de société pour s’amuser en famille ou entre amis\, en partenariat avec l’association Les Amis des Jeux. \nTous les jeudis du 11 juillet au 29 août de 15h à 18h.
URL:https://lafertemace.fr/event/les-jeux-du-jeudi-2/2024-08-29/
LOCATION:Médiathèque « La Grande Nouvelle »\, Le Grand Turc\, Rue St Denis\, La Ferté-macé\, 61600
CATEGORIES:Loisirs,Sports et Loisirs
ATTACH;FMTTYPE=image/jpeg:https://lafertemace.fr/wp-content/uploads/2017/12/AVATAR_soiree-jeux.jpg
ORGANIZER;CN="M%C3%A9diath%C3%A8que 'La Grande Nouvelle' (Flers Agglo)":MAILTO:mediatheque.lafetemace@flers-agglo.fr
END:VEVENT
BEGIN:VEVENT
DTSTART;VALUE=DATE:20240829
DTEND;VALUE=DATE:20240830
DTSTAMP:20260424T055623
CREATED:20240312T104101Z
LAST-MODIFIED:20240312T104101Z
UID:10001067-1724889600-1724975999@lafertemace.fr
SUMMARY:Visite commentée de la ville
DESCRIPTION:
URL:https://lafertemace.fr/event/visite-commentee-de-la-ville/2024-08-29/
LOCATION:Bureau Information Tourisme\, 11 Rue de la Victoire\, La Ferté Macé\, 61600
CATEGORIES:Loisirs,Patrimoine,Sports et Loisirs
ATTACH;FMTTYPE=image/jpeg:https://lafertemace.fr/wp-content/uploads/2016/04/Eglise-visite-de-la-ville-X-540.jpg
ORGANIZER;CN="Bureau Information Tourisme (Flers Agglo)":MAILTO:otsi.la-ferte-mace@wanadoo.fr
END:VEVENT
BEGIN:VEVENT
DTSTART;TZID=Europe/Helsinki:20240828T110000
DTEND;TZID=Europe/Helsinki:20240828T110000
DTSTAMP:20260424T055623
CREATED:20240619T161513Z
LAST-MODIFIED:20240619T161513Z
UID:10000846-1724842800-1724842800@lafertemace.fr
SUMMARY:Lire en short
DESCRIPTION:Retrouvez les bibliothécaires à la Base de Loisirs pour partager des histoires les pieds dans l’eau. \nTous les mercredis du 10 juillet au 28 août 2024 dès 11h (selon les conditions météo)
URL:https://lafertemace.fr/event/lire-en-short-2/2024-08-28/
LOCATION:Base de Loisirs\, Bd de la Forêt d'Andaine\, La Ferté-Macé\, 61600
CATEGORIES:Lecture,Loisirs,Plein air,Sports et Loisirs
ATTACH;FMTTYPE=image/jpeg:https://lafertemace.fr/wp-content/uploads/2017/07/AVATAR_lireenshort-e1688374259608.jpg
ORGANIZER;CN="M%C3%A9diath%C3%A8que 'La Grande Nouvelle' (Flers Agglo)":MAILTO:mediatheque.lafetemace@flers-agglo.fr
END:VEVENT
BEGIN:VEVENT
DTSTART;TZID=Europe/Helsinki:20240827T150000
DTEND;TZID=Europe/Helsinki:20240827T190000
DTSTAMP:20260424T055623
CREATED:20240415T110344Z
LAST-MODIFIED:20240502T105433Z
UID:10000597-1724770800-1724785200@lafertemace.fr
SUMMARY:Don de sang
DESCRIPTION:Les prochaines collectes de sang se dérouleront à la salle Guy Rossolini – Bd Hamonic – de 15h à 19h  : \n\nmardi 30 avril \nmardi  02 juillet \nmardi 27 août\nmardi 29 octobre\njeudi 26 décembre
URL:https://lafertemace.fr/event/don-de-sang-3/2024-08-27/
LOCATION:Salle Guy Rossolini\, Bd Hamonic\, La Ferté-Macé\, 61600
CATEGORIES:Santé - Social
ATTACH;FMTTYPE=image/jpeg:https://lafertemace.fr/wp-content/uploads/2016/02/don-du-sang-540X578.jpg
ORGANIZER;CN="Ass. des donneurs de sang b%C3%A9n%C3%A9voles":MAILTO:thevenard.jeannine@neuf.fr
END:VEVENT
BEGIN:VEVENT
DTSTART;VALUE=DATE:20240823
DTEND;VALUE=DATE:20240824
DTSTAMP:20260424T055623
CREATED:20240605T160321Z
LAST-MODIFIED:20240805T093605Z
UID:10001559-1724371200-1724457599@lafertemace.fr
SUMMARY:Ciné plein air
DESCRIPTION:Séance de cinéma en plein air. Diffusion du film « TEMPETE ». \n20h45 – Place du Gal Leclerc – Gratuit \nAvant la projection\, découvrez l’histoire de nos héros locaux de la seconde guerre mondiale\, par Cédric Moulin (ancien militaire) puis la diffusion vidéo de la libération de La Ferté-Macé. \n 
URL:https://lafertemace.fr/event/cine-plein-air-2/2024-08-23/
LOCATION:Place du Gal Leclerc\, La Ferté-Macé
CATEGORIES:Cinéma,Loisirs,Plein air,Sports et Loisirs
ORGANIZER;CN="Cin%C3%A9Fert%C3%A9":MAILTO:cinemagerardphilipe@wanadoo.fr
END:VEVENT
BEGIN:VEVENT
DTSTART;VALUE=DATE:20240823
DTEND;VALUE=DATE:20240824
DTSTAMP:20260424T055623
CREATED:20240530T144742Z
LAST-MODIFIED:20240530T144742Z
UID:10000551-1724371200-1724457599@lafertemace.fr
SUMMARY:Soirées jeux
DESCRIPTION:Soirées jeux  (jeux de plein air et grands jeux en bois) \nTous les vendredis du 07 juin au 31 août 2024\, de 20h à 22h à la Base de Loisirs
URL:https://lafertemace.fr/event/soirees-jeux/2024-08-23/
LOCATION:Base de Loisirs\, Bd de la Forêt d'Andaine\, La Ferté-Macé\, 61600
CATEGORIES:Loisirs,Plein air,Sports et Loisirs
ATTACH;FMTTYPE=image/jpeg:https://lafertemace.fr/wp-content/uploads/2016/05/2012-manifestations-jeux-anciens-festival-des-jeux-Base-de-loisirs-jeu-de-quilles-1-e1463744110911.jpg
ORGANIZER;CN="Les amis des jeux":MAILTO:albert.le-monnier@wanadoo.fr
END:VEVENT
BEGIN:VEVENT
DTSTART;TZID=Europe/Helsinki:20240822T150000
DTEND;TZID=Europe/Helsinki:20240822T180000
DTSTAMP:20260424T055623
CREATED:20240619T162158Z
LAST-MODIFIED:20240619T162158Z
UID:10000855-1724338800-1724349600@lafertemace.fr
SUMMARY:Les jeux du jeudi
DESCRIPTION:Mise à disposition de jeux de société pour s’amuser en famille ou entre amis\, en partenariat avec l’association Les Amis des Jeux. \nTous les jeudis du 11 juillet au 29 août de 15h à 18h.
URL:https://lafertemace.fr/event/les-jeux-du-jeudi-2/2024-08-22/
LOCATION:Médiathèque « La Grande Nouvelle »\, Le Grand Turc\, Rue St Denis\, La Ferté-macé\, 61600
CATEGORIES:Loisirs,Sports et Loisirs
ATTACH;FMTTYPE=image/jpeg:https://lafertemace.fr/wp-content/uploads/2017/12/AVATAR_soiree-jeux.jpg
ORGANIZER;CN="M%C3%A9diath%C3%A8que 'La Grande Nouvelle' (Flers Agglo)":MAILTO:mediatheque.lafetemace@flers-agglo.fr
END:VEVENT
BEGIN:VEVENT
DTSTART;VALUE=DATE:20240822
DTEND;VALUE=DATE:20240823
DTSTAMP:20260424T055623
CREATED:20240312T104101Z
LAST-MODIFIED:20240312T104101Z
UID:10001066-1724284800-1724371199@lafertemace.fr
SUMMARY:Visite commentée de la ville
DESCRIPTION:
URL:https://lafertemace.fr/event/visite-commentee-de-la-ville/2024-08-22/
LOCATION:Bureau Information Tourisme\, 11 Rue de la Victoire\, La Ferté Macé\, 61600
CATEGORIES:Loisirs,Patrimoine,Sports et Loisirs
ATTACH;FMTTYPE=image/jpeg:https://lafertemace.fr/wp-content/uploads/2016/04/Eglise-visite-de-la-ville-X-540.jpg
ORGANIZER;CN="Bureau Information Tourisme (Flers Agglo)":MAILTO:otsi.la-ferte-mace@wanadoo.fr
END:VEVENT
BEGIN:VEVENT
DTSTART;TZID=Europe/Helsinki:20240821T150000
DTEND;TZID=Europe/Helsinki:20240821T170000
DTSTAMP:20260424T055623
CREATED:20240619T165318Z
LAST-MODIFIED:20240619T165318Z
UID:10000861-1724252400-1724259600@lafertemace.fr
SUMMARY:Activ'été
DESCRIPTION:Créations et activités autour des Jeux Olympiques. \nLes mercredis 10\, 17 juillet – 07 et 21 août  – de 15h à 17h \nA la médiathèque \n 
URL:https://lafertemace.fr/event/activete-2/2024-08-21/
LOCATION:Médiathèque « La Grande Nouvelle »\, Le Grand Turc\, Rue St Denis\, La Ferté-macé\, 61600
CATEGORIES:Loisirs,Sports et Loisirs
ATTACH;FMTTYPE=image/jpeg:https://lafertemace.fr/wp-content/uploads/2017/10/AVATAR_mediatheque-e1509627180358.jpg
ORGANIZER;CN="M%C3%A9diath%C3%A8que 'La Grande Nouvelle' (Flers Agglo)":MAILTO:mediatheque.lafetemace@flers-agglo.fr
END:VEVENT
BEGIN:VEVENT
DTSTART;TZID=Europe/Helsinki:20240821T110000
DTEND;TZID=Europe/Helsinki:20240821T110000
DTSTAMP:20260424T055623
CREATED:20240619T161513Z
LAST-MODIFIED:20240619T161513Z
UID:10000845-1724238000-1724238000@lafertemace.fr
SUMMARY:Lire en short
DESCRIPTION:Retrouvez les bibliothécaires à la Base de Loisirs pour partager des histoires les pieds dans l’eau. \nTous les mercredis du 10 juillet au 28 août 2024 dès 11h (selon les conditions météo)
URL:https://lafertemace.fr/event/lire-en-short-2/2024-08-21/
LOCATION:Base de Loisirs\, Bd de la Forêt d'Andaine\, La Ferté-Macé\, 61600
CATEGORIES:Lecture,Loisirs,Plein air,Sports et Loisirs
ATTACH;FMTTYPE=image/jpeg:https://lafertemace.fr/wp-content/uploads/2017/07/AVATAR_lireenshort-e1688374259608.jpg
ORGANIZER;CN="M%C3%A9diath%C3%A8que 'La Grande Nouvelle' (Flers Agglo)":MAILTO:mediatheque.lafetemace@flers-agglo.fr
END:VEVENT
BEGIN:VEVENT
DTSTART;VALUE=DATE:20240816
DTEND;VALUE=DATE:20240817
DTSTAMP:20260424T055623
CREATED:20240530T144742Z
LAST-MODIFIED:20240530T144742Z
UID:10000550-1723766400-1723852799@lafertemace.fr
SUMMARY:Soirées jeux
DESCRIPTION:Soirées jeux  (jeux de plein air et grands jeux en bois) \nTous les vendredis du 07 juin au 31 août 2024\, de 20h à 22h à la Base de Loisirs
URL:https://lafertemace.fr/event/soirees-jeux/2024-08-16/
LOCATION:Base de Loisirs\, Bd de la Forêt d'Andaine\, La Ferté-Macé\, 61600
CATEGORIES:Loisirs,Plein air,Sports et Loisirs
ATTACH;FMTTYPE=image/jpeg:https://lafertemace.fr/wp-content/uploads/2016/05/2012-manifestations-jeux-anciens-festival-des-jeux-Base-de-loisirs-jeu-de-quilles-1-e1463744110911.jpg
ORGANIZER;CN="Les amis des jeux":MAILTO:albert.le-monnier@wanadoo.fr
END:VEVENT
BEGIN:VEVENT
DTSTART;TZID=Europe/Helsinki:20240815T150000
DTEND;TZID=Europe/Helsinki:20240815T180000
DTSTAMP:20260424T055623
CREATED:20240619T162158Z
LAST-MODIFIED:20240619T162158Z
UID:10000854-1723734000-1723744800@lafertemace.fr
SUMMARY:Les jeux du jeudi
DESCRIPTION:Mise à disposition de jeux de société pour s’amuser en famille ou entre amis\, en partenariat avec l’association Les Amis des Jeux. \nTous les jeudis du 11 juillet au 29 août de 15h à 18h.
URL:https://lafertemace.fr/event/les-jeux-du-jeudi-2/2024-08-15/
LOCATION:Médiathèque « La Grande Nouvelle »\, Le Grand Turc\, Rue St Denis\, La Ferté-macé\, 61600
CATEGORIES:Loisirs,Sports et Loisirs
ATTACH;FMTTYPE=image/jpeg:https://lafertemace.fr/wp-content/uploads/2017/12/AVATAR_soiree-jeux.jpg
ORGANIZER;CN="M%C3%A9diath%C3%A8que 'La Grande Nouvelle' (Flers Agglo)":MAILTO:mediatheque.lafetemace@flers-agglo.fr
END:VEVENT
BEGIN:VEVENT
DTSTART;VALUE=DATE:20240815
DTEND;VALUE=DATE:20240818
DTSTAMP:20260424T055623
CREATED:20240305T171058Z
LAST-MODIFIED:20240619T153431Z
UID:10000767-1723680000-1723939199@lafertemace.fr
SUMMARY:Swingolf\, Europacup
DESCRIPTION:SWINGOLF\, Championnat européen (Europacup)\, du 15 au 17 août 2024\, sur le terrain Annie Goutte\, avec la présence de 200 compétiteurs venant de cinq pays : Allemagne\, Autriche\, Belgique\, France et Suisse.
URL:https://lafertemace.fr/event/swingolf-europacup/
LOCATION:Terrain Annie Goutte\, Route de Domfront\, La Ferté-Macé\, 61600
CATEGORIES:Loisirs,Plein air,Sports,Sports et Loisirs
ATTACH;FMTTYPE=image/jpeg:https://lafertemace.fr/wp-content/uploads/2018/03/swin-golf-canne-balle.jpg
ORGANIZER;CN="Association Swin Fertois":MAILTO:aswinfertois@gmail.com
END:VEVENT
BEGIN:VEVENT
DTSTART;TZID=Europe/Helsinki:20240814T110000
DTEND;TZID=Europe/Helsinki:20240814T110000
DTSTAMP:20260424T055623
CREATED:20240619T161513Z
LAST-MODIFIED:20240619T161513Z
UID:10000844-1723633200-1723633200@lafertemace.fr
SUMMARY:Lire en short
DESCRIPTION:Retrouvez les bibliothécaires à la Base de Loisirs pour partager des histoires les pieds dans l’eau. \nTous les mercredis du 10 juillet au 28 août 2024 dès 11h (selon les conditions météo)
URL:https://lafertemace.fr/event/lire-en-short-2/2024-08-14/
LOCATION:Base de Loisirs\, Bd de la Forêt d'Andaine\, La Ferté-Macé\, 61600
CATEGORIES:Lecture,Loisirs,Plein air,Sports et Loisirs
ATTACH;FMTTYPE=image/jpeg:https://lafertemace.fr/wp-content/uploads/2017/07/AVATAR_lireenshort-e1688374259608.jpg
ORGANIZER;CN="M%C3%A9diath%C3%A8que 'La Grande Nouvelle' (Flers Agglo)":MAILTO:mediatheque.lafetemace@flers-agglo.fr
END:VEVENT
BEGIN:VEVENT
DTSTART;VALUE=DATE:20240814
DTEND;VALUE=DATE:20240815
DTSTAMP:20260424T055623
CREATED:20240605T155805Z
LAST-MODIFIED:20240605T155805Z
UID:10001558-1723593600-1723679999@lafertemace.fr
SUMMARY:80 ans Commémoration de la libération
DESCRIPTION:80 ans Commémoration de la libération de La Ferté-Macé
URL:https://lafertemace.fr/event/80-ans-commemoration-de-la-liberation/2024-08-14/
ATTACH;FMTTYPE=image/jpeg:https://lafertemace.fr/wp-content/uploads/2018/09/monument-aux-morts-e1573133680259.jpg
END:VEVENT
BEGIN:VEVENT
DTSTART;VALUE=DATE:20240809
DTEND;VALUE=DATE:20240810
DTSTAMP:20260424T055623
CREATED:20240530T144742Z
LAST-MODIFIED:20240530T144742Z
UID:10000549-1723161600-1723247999@lafertemace.fr
SUMMARY:Soirées jeux
DESCRIPTION:Soirées jeux  (jeux de plein air et grands jeux en bois) \nTous les vendredis du 07 juin au 31 août 2024\, de 20h à 22h à la Base de Loisirs
URL:https://lafertemace.fr/event/soirees-jeux/2024-08-09/
LOCATION:Base de Loisirs\, Bd de la Forêt d'Andaine\, La Ferté-Macé\, 61600
CATEGORIES:Loisirs,Plein air,Sports et Loisirs
ATTACH;FMTTYPE=image/jpeg:https://lafertemace.fr/wp-content/uploads/2016/05/2012-manifestations-jeux-anciens-festival-des-jeux-Base-de-loisirs-jeu-de-quilles-1-e1463744110911.jpg
ORGANIZER;CN="Les amis des jeux":MAILTO:albert.le-monnier@wanadoo.fr
END:VEVENT
BEGIN:VEVENT
DTSTART;TZID=Europe/Helsinki:20240808T150000
DTEND;TZID=Europe/Helsinki:20240808T180000
DTSTAMP:20260424T055623
CREATED:20240619T162158Z
LAST-MODIFIED:20240619T162158Z
UID:10000853-1723129200-1723140000@lafertemace.fr
SUMMARY:Les jeux du jeudi
DESCRIPTION:Mise à disposition de jeux de société pour s’amuser en famille ou entre amis\, en partenariat avec l’association Les Amis des Jeux. \nTous les jeudis du 11 juillet au 29 août de 15h à 18h.
URL:https://lafertemace.fr/event/les-jeux-du-jeudi-2/2024-08-08/
LOCATION:Médiathèque « La Grande Nouvelle »\, Le Grand Turc\, Rue St Denis\, La Ferté-macé\, 61600
CATEGORIES:Loisirs,Sports et Loisirs
ATTACH;FMTTYPE=image/jpeg:https://lafertemace.fr/wp-content/uploads/2017/12/AVATAR_soiree-jeux.jpg
ORGANIZER;CN="M%C3%A9diath%C3%A8que 'La Grande Nouvelle' (Flers Agglo)":MAILTO:mediatheque.lafetemace@flers-agglo.fr
END:VEVENT
BEGIN:VEVENT
DTSTART;TZID=Europe/Helsinki:20240808T133000
DTEND;TZID=Europe/Helsinki:20240808T170000
DTSTAMP:20260424T055623
CREATED:20240620T114459Z
LAST-MODIFIED:20240620T114459Z
UID:10000902-1723123800-1723136400@lafertemace.fr
SUMMARY:Après-midis multisports (22/07-08/08)
DESCRIPTION:D lundi au jeudi de 13h30 à 17h\, à la base de loisirs. Contact : Service Culture\, Sports et Loisirs 02 33 37 38 10
URL:https://lafertemace.fr/event/apres-midis-multisports-22-07-08-08/2024-08-08/
LOCATION:Base de Loisirs\, Bd de la Forêt d'Andaine\, La Ferté-Macé\, 61600
CATEGORIES:Loisirs,Plein air,Sports,Sports et Loisirs
ATTACH;FMTTYPE=image/jpeg:https://lafertemace.fr/wp-content/uploads/2016/09/Multiactivités-Fotolia_55910509_Subscription_Monthly_M-X540.jpg
ORGANIZER;CN="Service Culture%2C Sports et Loisirs":MAILTO:sports.loisirs@lafertemace.fr
END:VEVENT
BEGIN:VEVENT
DTSTART;VALUE=DATE:20240808
DTEND;VALUE=DATE:20240809
DTSTAMP:20260424T055623
CREATED:20240312T104101Z
LAST-MODIFIED:20240312T104101Z
UID:10001065-1723075200-1723161599@lafertemace.fr
SUMMARY:Visite commentée de la ville
DESCRIPTION:
URL:https://lafertemace.fr/event/visite-commentee-de-la-ville/2024-08-08/
LOCATION:Bureau Information Tourisme\, 11 Rue de la Victoire\, La Ferté Macé\, 61600
CATEGORIES:Loisirs,Patrimoine,Sports et Loisirs
ATTACH;FMTTYPE=image/jpeg:https://lafertemace.fr/wp-content/uploads/2016/04/Eglise-visite-de-la-ville-X-540.jpg
ORGANIZER;CN="Bureau Information Tourisme (Flers Agglo)":MAILTO:otsi.la-ferte-mace@wanadoo.fr
END:VEVENT
BEGIN:VEVENT
DTSTART;TZID=Europe/Helsinki:20240807T150000
DTEND;TZID=Europe/Helsinki:20240807T170000
DTSTAMP:20260424T055623
CREATED:20240619T165318Z
LAST-MODIFIED:20240619T165318Z
UID:10000860-1723042800-1723050000@lafertemace.fr
SUMMARY:Activ'été
DESCRIPTION:Créations et activités autour des Jeux Olympiques. \nLes mercredis 10\, 17 juillet – 07 et 21 août  – de 15h à 17h \nA la médiathèque \n 
URL:https://lafertemace.fr/event/activete-2/2024-08-07/
LOCATION:Médiathèque « La Grande Nouvelle »\, Le Grand Turc\, Rue St Denis\, La Ferté-macé\, 61600
CATEGORIES:Loisirs,Sports et Loisirs
ATTACH;FMTTYPE=image/jpeg:https://lafertemace.fr/wp-content/uploads/2017/10/AVATAR_mediatheque-e1509627180358.jpg
ORGANIZER;CN="M%C3%A9diath%C3%A8que 'La Grande Nouvelle' (Flers Agglo)":MAILTO:mediatheque.lafetemace@flers-agglo.fr
END:VEVENT
BEGIN:VEVENT
DTSTART;TZID=Europe/Helsinki:20240807T110000
DTEND;TZID=Europe/Helsinki:20240807T110000
DTSTAMP:20260424T055623
CREATED:20240619T161513Z
LAST-MODIFIED:20240619T161513Z
UID:10000843-1723028400-1723028400@lafertemace.fr
SUMMARY:Lire en short
DESCRIPTION:Retrouvez les bibliothécaires à la Base de Loisirs pour partager des histoires les pieds dans l’eau. \nTous les mercredis du 10 juillet au 28 août 2024 dès 11h (selon les conditions météo)
URL:https://lafertemace.fr/event/lire-en-short-2/2024-08-07/
LOCATION:Base de Loisirs\, Bd de la Forêt d'Andaine\, La Ferté-Macé\, 61600
CATEGORIES:Lecture,Loisirs,Plein air,Sports et Loisirs
ATTACH;FMTTYPE=image/jpeg:https://lafertemace.fr/wp-content/uploads/2017/07/AVATAR_lireenshort-e1688374259608.jpg
ORGANIZER;CN="M%C3%A9diath%C3%A8que 'La Grande Nouvelle' (Flers Agglo)":MAILTO:mediatheque.lafetemace@flers-agglo.fr
END:VEVENT
END:VCALENDAR