BEGIN:VCALENDAR
VERSION:2.0
PRODID:-//Ville de La Ferté-Macé - ECPv6.15.20//NONSGML v1.0//EN
CALSCALE:GREGORIAN
METHOD:PUBLISH
X-ORIGINAL-URL:https://lafertemace.fr
X-WR-CALDESC:Évènements pour Ville de La Ferté-Macé
REFRESH-INTERVAL;VALUE=DURATION:PT1H
X-Robots-Tag:noindex
X-PUBLISHED-TTL:PT1H
BEGIN:VTIMEZONE
TZID:Europe/Helsinki
BEGIN:DAYLIGHT
TZOFFSETFROM:+0200
TZOFFSETTO:+0300
TZNAME:EEST
DTSTART:20230326T010000
END:DAYLIGHT
BEGIN:STANDARD
TZOFFSETFROM:+0300
TZOFFSETTO:+0200
TZNAME:EET
DTSTART:20231029T010000
END:STANDARD
BEGIN:DAYLIGHT
TZOFFSETFROM:+0200
TZOFFSETTO:+0300
TZNAME:EEST
DTSTART:20240331T010000
END:DAYLIGHT
BEGIN:STANDARD
TZOFFSETFROM:+0300
TZOFFSETTO:+0200
TZNAME:EET
DTSTART:20241027T010000
END:STANDARD
BEGIN:DAYLIGHT
TZOFFSETFROM:+0200
TZOFFSETTO:+0300
TZNAME:EEST
DTSTART:20250330T010000
END:DAYLIGHT
BEGIN:STANDARD
TZOFFSETFROM:+0300
TZOFFSETTO:+0200
TZNAME:EET
DTSTART:20251026T010000
END:STANDARD
END:VTIMEZONE
BEGIN:VEVENT
DTSTART;VALUE=DATE:20240621
DTEND;VALUE=DATE:20240622
DTSTAMP:20260424T193428
CREATED:20240603T151438Z
LAST-MODIFIED:20240603T151438Z
UID:10001401-1718928000-1719014399@lafertemace.fr
SUMMARY:Le ciné fête la musique
DESCRIPTION:Ciné-Musique : Célébrez la Fête de la Musique au Cinéma \nLe vendredi 21 juin\, la Fête de la Musique prendra une dimension cinématographique au cinéma Gérard Philipe. Plongez-vous dans l’univers envoûtant du son et de l’image avec la diffusion de deux films : « Back to Black » à 18h et « Blue Giant » (VOstFR) à 20h30.
URL:https://lafertemace.fr/event/le-cine-fete-la-musique-2/2024-06-21/
LOCATION:Cinéma\, Salle G. Philipe 8 rue St Denis\, La Ferté-Macé
CATEGORIES:Cinéma,Loisirs,Sports et Loisirs
ATTACH;FMTTYPE=image/jpeg:https://lafertemace.fr/wp-content/uploads/2020/06/AVATAR_cinemaLAFM-2-e1652193177948.jpg
ORGANIZER;CN="Cin%C3%A9Fert%C3%A9":MAILTO:cinemagerardphilipe@wanadoo.fr
END:VEVENT
BEGIN:VEVENT
DTSTART;VALUE=DATE:20240621
DTEND;VALUE=DATE:20240622
DTSTAMP:20260424T193428
CREATED:20240530T144742Z
LAST-MODIFIED:20240530T144742Z
UID:10000542-1718928000-1719014399@lafertemace.fr
SUMMARY:Soirées jeux
DESCRIPTION:Soirées jeux  (jeux de plein air et grands jeux en bois) \nTous les vendredis du 07 juin au 31 août 2024\, de 20h à 22h à la Base de Loisirs
URL:https://lafertemace.fr/event/soirees-jeux/2024-06-21/
LOCATION:Base de Loisirs\, Bd de la Forêt d'Andaine\, La Ferté-Macé\, 61600
CATEGORIES:Loisirs,Plein air,Sports et Loisirs
ATTACH;FMTTYPE=image/jpeg:https://lafertemace.fr/wp-content/uploads/2016/05/2012-manifestations-jeux-anciens-festival-des-jeux-Base-de-loisirs-jeu-de-quilles-1-e1463744110911.jpg
ORGANIZER;CN="Les amis des jeux":MAILTO:albert.le-monnier@wanadoo.fr
END:VEVENT
BEGIN:VEVENT
DTSTART;VALUE=DATE:20240621
DTEND;VALUE=DATE:20240622
DTSTAMP:20260424T193428
CREATED:20240123T162712Z
LAST-MODIFIED:20240617T150624Z
UID:10000706-1718928000-1719014399@lafertemace.fr
SUMMARY:Fête de la musique
DESCRIPTION:Au programme :\n \n18h-20h – Country AMLOS – Place de la République\n18h30-19h15 – Atelier Chant – Cour du Grand Turc\n19h à 21h – Groupe Rock – Taverne de la Paix\n20h30-22h – Bleu Gras – Cour du Grand Turc\n20h45-22h – Horo Sha – Place de la République\n21h15 – MomentuM – Place Leclerc
URL:https://lafertemace.fr/event/fete-de-la-musique/2024-06-21/
CATEGORIES:Concert - Spectacle - Débat,Loisirs,Sports et Loisirs
ATTACH;FMTTYPE=image/jpeg:https://lafertemace.fr/wp-content/uploads/2021/06/Fete-de-la-Musique-2021-11.jpg
ORGANIZER;CN="Service Culture%2C Sports et Loisirs":MAILTO:sports.loisirs@lafertemace.fr
END:VEVENT
BEGIN:VEVENT
DTSTART;TZID=Europe/Helsinki:20240620T203000
DTEND;TZID=Europe/Helsinki:20240620T203000
DTSTAMP:20260424T193428
CREATED:20240605T154214Z
LAST-MODIFIED:20240605T154214Z
UID:10001555-1718915400-1718915400@lafertemace.fr
SUMMARY:Conseil Municipal
DESCRIPTION:Le conseil municipal se réunira à 20h30\, salle des mariages.
URL:https://lafertemace.fr/event/conseil-municipal-2/2024-06-20/
LOCATION:Mairie\, Place de la République
ATTACH;FMTTYPE=image/jpeg:https://lafertemace.fr/wp-content/uploads/2017/04/2014-Bâtiments-Patrimoine-Mairie-8-e1493025620338.jpg
END:VEVENT
BEGIN:VEVENT
DTSTART;TZID=Europe/Helsinki:20240620T203000
DTEND;TZID=Europe/Helsinki:20240620T203000
DTSTAMP:20260424T193428
CREATED:20240603T150733Z
LAST-MODIFIED:20240603T150733Z
UID:10001547-1718915400-1718915400@lafertemace.fr
SUMMARY:Deutscher film
DESCRIPTION:Deutscher Film avec « Elaha »\nLa décision de diffuser le film en version originale avec des sous-titres en français offre une opportunité unique aux cinéphiles et aux passionnés de langues d’approfondir leur compréhension de la langue allemande tout en découvrant une oeuvre cinématographique exceptionnelle. \nTarifs: 4€\, moins de 14 ans 3\,80€
URL:https://lafertemace.fr/event/deutscher-film-10/2024-06-20/
LOCATION:Cinéma\, Salle G. Philipe 8 rue St Denis\, La Ferté-Macé
CATEGORIES:Cinéma,Loisirs,Sports et Loisirs
ATTACH;FMTTYPE=image/jpeg:https://lafertemace.fr/wp-content/uploads/2020/06/AVATAR_cinemaLAFM-2-e1652193177948.jpg
ORGANIZER;CN="Cin%C3%A9Fert%C3%A9":MAILTO:cinemagerardphilipe@wanadoo.fr
END:VEVENT
BEGIN:VEVENT
DTSTART;VALUE=DATE:20240620
DTEND;VALUE=DATE:20240621
DTSTAMP:20260424T193428
CREATED:20240312T104101Z
LAST-MODIFIED:20240312T104101Z
UID:10001060-1718841600-1718927999@lafertemace.fr
SUMMARY:Visite commentée de la ville
DESCRIPTION:
URL:https://lafertemace.fr/event/visite-commentee-de-la-ville/2024-06-20/
LOCATION:Bureau Information Tourisme\, 11 Rue de la Victoire\, La Ferté Macé\, 61600
CATEGORIES:Loisirs,Patrimoine,Sports et Loisirs
ATTACH;FMTTYPE=image/jpeg:https://lafertemace.fr/wp-content/uploads/2016/04/Eglise-visite-de-la-ville-X-540.jpg
ORGANIZER;CN="Bureau Information Tourisme (Flers Agglo)":MAILTO:otsi.la-ferte-mace@wanadoo.fr
END:VEVENT
BEGIN:VEVENT
DTSTART;TZID=Europe/Helsinki:20240619T180000
DTEND;TZID=Europe/Helsinki:20240619T180000
DTSTAMP:20260424T193428
CREATED:20240603T150248Z
LAST-MODIFIED:20240603T150257Z
UID:10001436-1718820000-1718820000@lafertemace.fr
SUMMARY:British cinema
DESCRIPTION:British Cinéma avec « Sans jamais nous connaître » en VO sous-titrée Français\nTarif 4€\, moins de 14 ans 3\,80€.
URL:https://lafertemace.fr/event/british-cinema-11/2024-06-19/
LOCATION:Cinéma\, Salle G. Philipe 8 rue St Denis\, La Ferté-Macé
CATEGORIES:Cinéma,Loisirs,Sports et Loisirs
ATTACH;FMTTYPE=image/jpeg:https://lafertemace.fr/wp-content/uploads/2020/06/AVATAR_cinemaLAFM-2-e1652193177948.jpg
ORGANIZER;CN="Cin%C3%A9Fert%C3%A9":MAILTO:cinemagerardphilipe@wanadoo.fr
END:VEVENT
BEGIN:VEVENT
DTSTART;TZID=Europe/Helsinki:20240619T150000
DTEND;TZID=Europe/Helsinki:20240619T150000
DTSTAMP:20260424T193428
CREATED:20240604T103539Z
LAST-MODIFIED:20240604T103539Z
UID:10001550-1718809200-1718809200@lafertemace.fr
SUMMARY:Goûters brico
DESCRIPTION:Participez aux préparatifs des 10 ans du Centre Socioculturel Thérèse Letinturier.
URL:https://lafertemace.fr/event/gouters-brico/2024-06-19/
LOCATION:Centre Socioculturel Thérèse Letinturier\, 14 Rue Pasteur\, La Ferté-Macé\, 61600
CATEGORIES:Atelier,Loisirs,Sports et Loisirs
ATTACH;FMTTYPE=image/jpeg:https://lafertemace.fr/wp-content/uploads/2023/08/2023-Centre-Socio-Therse-Letinturier-2.jpg
ORGANIZER;CN="Centre Socioculturel Th%C3%A9r%C3%A8se Letinturier":MAILTO:centresocioculturel@lafertemace.fr
END:VEVENT
BEGIN:VEVENT
DTSTART;VALUE=DATE:20240618
DTEND;VALUE=DATE:20240619
DTSTAMP:20260424T193428
CREATED:20240425T144155Z
LAST-MODIFIED:20240425T144155Z
UID:10000530-1718668800-1718755199@lafertemace.fr
SUMMARY:Expo Poterie "Observons les oiseaux" (14/05-22/06/24)
DESCRIPTION:Du 14 mai au 22 juin\, l’atelier de poterie du Centre Socioculturel Thérèse Letinturier\, animé par Perrine Lemée\, expose à la Médiathèque de La Ferté-Macé. \nL’exposition « Observons les oiseaux » exposera les réalisations des ateliers enfants et adultes\, avec pour thème les oiseaux de jardins réalisés à taille réel en terre cuite vernissée et décorée. \nLes cours de poterie du Centre Socioculturel ont lieu les mercredis\, hors période scolaire\, de 16h à 17h30 pour les 6/11 ans et de 14 à 16h ou de 18h30 à 20h pour les adultes. Les inscriptions au cours sont déjà ouvertes pour la prochaine saison 2024 / 2025 via le Centre Socioculturel.\n02 33 14 14 83\, 14 rue Louis Pasteur\, Mail : centresocioculturel@lafertemace.fr
URL:https://lafertemace.fr/event/expo-poterie-observons-les-oiseaux-14-05-22-06-24/2024-06-18/
LOCATION:Médiathèque « La Grande Nouvelle »\, Le Grand Turc\, Rue St Denis\, La Ferté-macé\, 61600
CATEGORIES:Expositions,Loisirs,Sports et Loisirs
ORGANIZER;CN="Centre Socioculturel Th%C3%A9r%C3%A8se Letinturier":MAILTO:centresocioculturel@lafertemace.fr
END:VEVENT
BEGIN:VEVENT
DTSTART;VALUE=DATE:20240618
DTEND;VALUE=DATE:20240619
DTSTAMP:20260424T193428
CREATED:20230920T141603Z
LAST-MODIFIED:20230920T141603Z
UID:10000828-1718668800-1718755199@lafertemace.fr
SUMMARY:Atelier numérique
DESCRIPTION:Accompagnement personnalisé à l’usage des outils numériques (ordinateurs\, téléphones\, tablette…)\, et aux démarches en ligne.\nLe mardi à 15h et 16h30 (durée 1h) sauf vacances scolaires. \nPour adultes\, gratuit sur inscription à la médiathèque.
URL:https://lafertemace.fr/event/atelier-numerique/2024-06-18/
LOCATION:Médiathèque « La Grande Nouvelle »\, Le Grand Turc\, Rue St Denis\, La Ferté-macé\, 61600
CATEGORIES:Atelier,Loisirs,Sports et Loisirs
ATTACH;FMTTYPE=image/jpeg:https://lafertemace.fr/wp-content/uploads/2023/09/Atelier-numerique.jpg
ORGANIZER;CN="M%C3%A9diath%C3%A8que 'La Grande Nouvelle' (Flers Agglo)":MAILTO:mediatheque.lafetemace@flers-agglo.fr
END:VEVENT
BEGIN:VEVENT
DTSTART;TZID=Europe/Helsinki:20240617T140000
DTEND;TZID=Europe/Helsinki:20240617T140000
DTSTAMP:20260424T193428
CREATED:20240426T112503Z
LAST-MODIFIED:20240426T112503Z
UID:10001458-1718632800-1718632800@lafertemace.fr
SUMMARY:Cuisinons le soleil
DESCRIPTION:
URL:https://lafertemace.fr/event/cuisinons-le-soleil/2024-06-17/
LOCATION:Centre Socioculturel Thérèse Letinturier\, 14 Rue Pasteur\, La Ferté-Macé\, 61600
CATEGORIES:Atelier,Loisirs,Repas,Santé - Social,Sports et Loisirs
ATTACH;FMTTYPE=image/jpeg:https://lafertemace.fr/wp-content/uploads/2023/08/2023-Centre-Socio-Therse-Letinturier-2.jpg
ORGANIZER;CN="Centre Socioculturel Th%C3%A9r%C3%A8se Letinturier":MAILTO:centresocioculturel@lafertemace.fr
END:VEVENT
BEGIN:VEVENT
DTSTART;VALUE=DATE:20240617
DTEND;VALUE=DATE:20240618
DTSTAMP:20260424T193428
CREATED:20240528T104453Z
LAST-MODIFIED:20240528T104453Z
UID:10001544-1718582400-1718668799@lafertemace.fr
SUMMARY:Inscriptions scolaires
DESCRIPTION:
URL:https://lafertemace.fr/event/inscriptions-scolaires/
CATEGORIES:Santé - Social
ATTACH;FMTTYPE=image/jpeg:https://lafertemace.fr/wp-content/uploads/2018/04/AVATAR_ecole.jpg
END:VEVENT
BEGIN:VEVENT
DTSTART;VALUE=DATE:20240617
DTEND;VALUE=DATE:20240618
DTSTAMP:20260424T193428
CREATED:20240521T160348Z
LAST-MODIFIED:20240529T114739Z
UID:10001537-1718582400-1718668799@lafertemace.fr
SUMMARY:Inscriptions transports scolaires
DESCRIPTION:
URL:https://lafertemace.fr/event/inscriptions-transports-scolaires/2024-06-17/
CATEGORIES:Santé - Social
ATTACH;FMTTYPE=image/jpeg:https://lafertemace.fr/wp-content/uploads/2024/05/2024-transports-scolaires-X2000.jpg
END:VEVENT
BEGIN:VEVENT
DTSTART;TZID=Europe/Helsinki:20240616T150000
DTEND;TZID=Europe/Helsinki:20240616T150000
DTSTAMP:20260424T193428
CREATED:20240603T145751Z
LAST-MODIFIED:20240603T145751Z
UID:10001546-1718550000-1718550000@lafertemace.fr
SUMMARY:Opéra
DESCRIPTION:Diffusion en différé de l’Opéra Bouffe « Lakmé ». \nLes passionnés d’opéra auront l’occasion de profiter d’une projection spéciale au cinéma. En effet\, l’événement présentera en différé l’opéra bouffe « Lakmé » de l’Opéra Comique.\nTarif 15€\, Réduit 12€.
URL:https://lafertemace.fr/event/opera-2/2024-06-16/
LOCATION:Cinéma\, Salle G. Philipe 8 rue St Denis\, La Ferté-Macé
CATEGORIES:Cinéma,Concert - Spectacle - Débat,Loisirs,Sports et Loisirs
ATTACH;FMTTYPE=image/jpeg:https://lafertemace.fr/wp-content/uploads/2020/06/AVATAR_cinemaLAFM-2-e1652193177948.jpg
ORGANIZER;CN="Cin%C3%A9Fert%C3%A9":MAILTO:cinemagerardphilipe@wanadoo.fr
END:VEVENT
BEGIN:VEVENT
DTSTART;TZID=Europe/Helsinki:20240615T150000
DTEND;TZID=Europe/Helsinki:20240615T150000
DTSTAMP:20260424T193428
CREATED:20240603T145751Z
LAST-MODIFIED:20240603T145751Z
UID:10001545-1718463600-1718463600@lafertemace.fr
SUMMARY:Opéra
DESCRIPTION:Diffusion en différé de l’Opéra Bouffe « Lakmé ». \nLes passionnés d’opéra auront l’occasion de profiter d’une projection spéciale au cinéma. En effet\, l’événement présentera en différé l’opéra bouffe « Lakmé » de l’Opéra Comique.\nTarif 15€\, Réduit 12€.
URL:https://lafertemace.fr/event/opera-2/2024-06-15/
LOCATION:Cinéma\, Salle G. Philipe 8 rue St Denis\, La Ferté-Macé
CATEGORIES:Cinéma,Concert - Spectacle - Débat,Loisirs,Sports et Loisirs
ATTACH;FMTTYPE=image/jpeg:https://lafertemace.fr/wp-content/uploads/2020/06/AVATAR_cinemaLAFM-2-e1652193177948.jpg
ORGANIZER;CN="Cin%C3%A9Fert%C3%A9":MAILTO:cinemagerardphilipe@wanadoo.fr
END:VEVENT
BEGIN:VEVENT
DTSTART;TZID=Europe/Helsinki:20240615T133000
DTEND;TZID=Europe/Helsinki:20240615T133000
DTSTAMP:20260424T193428
CREATED:20240603T103215Z
LAST-MODIFIED:20240603T103229Z
UID:10001426-1718458200-1718458200@lafertemace.fr
SUMMARY:Tournoi Loisir Beach-Volley
DESCRIPTION: 
URL:https://lafertemace.fr/event/tournoi-loisir-beach-volley/2024-06-15/
LOCATION:Base de Loisirs\, Bd de la Forêt d'Andaine\, La Ferté-Macé\, 61600
CATEGORIES:Loisirs,Plein air,Sports,Sports et Loisirs
ATTACH;FMTTYPE=image/jpeg:https://lafertemace.fr/wp-content/uploads/2023/07/2022-beach-volley-X-2000-e1689594865517.jpg
ORGANIZER;CN="Club Sportif FerteMace Volley Ball":MAILTO:csfertemacevolley@gmail.com
END:VEVENT
BEGIN:VEVENT
DTSTART;TZID=Europe/Helsinki:20240615T093000
DTEND;TZID=Europe/Helsinki:20240615T123000
DTSTAMP:20260424T193428
CREATED:20240611T152429Z
LAST-MODIFIED:20240611T152429Z
UID:10000575-1718443800-1718454600@lafertemace.fr
SUMMARY:Canifest
DESCRIPTION:
URL:https://lafertemace.fr/event/canifest/2024-06-15/
LOCATION:Place du Gal Leclerc\, La Ferté-Macé
CATEGORIES:Loisirs,Sports et Loisirs
ATTACH;FMTTYPE=image/jpeg:https://lafertemace.fr/wp-content/uploads/2016/05/college_notre-dame.jpg
END:VEVENT
BEGIN:VEVENT
DTSTART;VALUE=DATE:20240615
DTEND;VALUE=DATE:20240617
DTSTAMP:20260424T193428
CREATED:20240416T161126Z
LAST-MODIFIED:20240416T161126Z
UID:10001362-1718409600-1718582399@lafertemace.fr
SUMMARY:Basket 3x3
DESCRIPTION:Journées nationales Basket 3×3 les 15 et 16 juin 2024 au stade G. Meillon. \n 
URL:https://lafertemace.fr/event/basket-3x3/
LOCATION:Stade Gaston Meillon\, Bd Hamonic\, La Ferté-Macé\, 61600
CATEGORIES:Loisirs,Sports,Sports et Loisirs
ATTACH;FMTTYPE=image/jpeg:https://lafertemace.fr/wp-content/uploads/2018/02/AVATAR_basket-e1544103900696.jpg
ORGANIZER;CN="Basket Ball Fertois":MAILTO:basketballfertois61@gmail.com
END:VEVENT
BEGIN:VEVENT
DTSTART;VALUE=DATE:20240615
DTEND;VALUE=DATE:20240616
DTSTAMP:20260424T193428
CREATED:20240123T160147Z
LAST-MODIFIED:20240123T160147Z
UID:10000703-1718409600-1718495999@lafertemace.fr
SUMMARY:Beach Volley
DESCRIPTION:Tournoi en plein air à la Base de Loisirs
URL:https://lafertemace.fr/event/beach-volley-4/2024-06-15/
LOCATION:Base de Loisirs\, Bd de la Forêt d'Andaine\, La Ferté-Macé\, 61600
CATEGORIES:Loisirs,Plein air,Sports,Sports et Loisirs
ATTACH;FMTTYPE=image/jpeg:https://lafertemace.fr/wp-content/uploads/2023/07/2022-beach-volley-X-2000-e1689594865517.jpg
ORGANIZER;CN="Service Culture%2C Sports et Loisirs":MAILTO:sports.loisirs@lafertemace.fr
END:VEVENT
BEGIN:VEVENT
DTSTART;TZID=Europe/Helsinki:20240614T200000
DTEND;TZID=Europe/Helsinki:20240614T220000
DTSTAMP:20260424T193428
CREATED:20240530T143928Z
LAST-MODIFIED:20240530T143928Z
UID:10000522-1718395200-1718402400@lafertemace.fr
SUMMARY:Soirées Echecs
DESCRIPTION:Soirées spéciales Echecs les vendredis 7 et 14 juin 2024\, à l’Espace jeux  10 rue de Versailles\,  de 20 h à 22 h. \n 
URL:https://lafertemace.fr/event/soirees-echecs/2024-06-14/
LOCATION:Espace Jeux\, 10 rue de Versailles\, La Ferté-Macé
CATEGORIES:Loisirs,Sports et Loisirs
ATTACH;FMTTYPE=image/jpeg:https://lafertemace.fr/wp-content/uploads/2023/11/2023-echiquier-e1699349200739.jpg
ORGANIZER;CN="Les amis des jeux":MAILTO:albert.le-monnier@wanadoo.fr
END:VEVENT
BEGIN:VEVENT
DTSTART;TZID=Europe/Helsinki:20240614T200000
DTEND;TZID=Europe/Helsinki:20240614T200000
DTSTAMP:20260424T193428
CREATED:20240607T153128Z
LAST-MODIFIED:20240607T153128Z
UID:10000847-1718395200-1718395200@lafertemace.fr
SUMMARY:mini olympiade
DESCRIPTION:
URL:https://lafertemace.fr/event/mini-olympiade/2024-06-14/
LOCATION:Centre Socioculturel Thérèse Letinturier\, 14 Rue Pasteur\, La Ferté-Macé\, 61600
CATEGORIES:Loisirs,Sports et Loisirs
ATTACH;FMTTYPE=image/jpeg:https://lafertemace.fr/wp-content/uploads/2023/08/2023-Centre-Socio-Therse-Letinturier-2.jpg
ORGANIZER;CN="Centre Socioculturel Th%C3%A9r%C3%A8se Letinturier":MAILTO:centresocioculturel@lafertemace.fr
END:VEVENT
BEGIN:VEVENT
DTSTART;TZID=Europe/Helsinki:20240614T163000
DTEND;TZID=Europe/Helsinki:20240614T183000
DTSTAMP:20260424T193428
CREATED:20240607T152602Z
LAST-MODIFIED:20240607T152602Z
UID:10000790-1718382600-1718389800@lafertemace.fr
SUMMARY:Centres de Loisirs\, programme de l'été
DESCRIPTION:
URL:https://lafertemace.fr/event/centres-de-loisirs-programme-de-lete/2024-06-14/
LOCATION:Centre Socioculturel Thérèse Letinturier\, 14 Rue Pasteur\, La Ferté-Macé\, 61600
CATEGORIES:Loisirs,Santé - Social,Sports et Loisirs
ATTACH;FMTTYPE=image/jpeg:https://lafertemace.fr/wp-content/uploads/2023/08/2023-Centre-Socio-Therse-Letinturier-2.jpg
ORGANIZER;CN="Centre Socioculturel Th%C3%A9r%C3%A8se Letinturier":MAILTO:centresocioculturel@lafertemace.fr
END:VEVENT
BEGIN:VEVENT
DTSTART;VALUE=DATE:20240614
DTEND;VALUE=DATE:20240615
DTSTAMP:20260424T193428
CREATED:20240530T144742Z
LAST-MODIFIED:20240530T144742Z
UID:10000541-1718323200-1718409599@lafertemace.fr
SUMMARY:Soirées jeux
DESCRIPTION:Soirées jeux  (jeux de plein air et grands jeux en bois) \nTous les vendredis du 07 juin au 31 août 2024\, de 20h à 22h à la Base de Loisirs
URL:https://lafertemace.fr/event/soirees-jeux/2024-06-14/
LOCATION:Base de Loisirs\, Bd de la Forêt d'Andaine\, La Ferté-Macé\, 61600
CATEGORIES:Loisirs,Plein air,Sports et Loisirs
ATTACH;FMTTYPE=image/jpeg:https://lafertemace.fr/wp-content/uploads/2016/05/2012-manifestations-jeux-anciens-festival-des-jeux-Base-de-loisirs-jeu-de-quilles-1-e1463744110911.jpg
ORGANIZER;CN="Les amis des jeux":MAILTO:albert.le-monnier@wanadoo.fr
END:VEVENT
BEGIN:VEVENT
DTSTART;TZID=Europe/Helsinki:20240613T203000
DTEND;TZID=Europe/Helsinki:20240613T203000
DTSTAMP:20260424T193428
CREATED:20240603T145139Z
LAST-MODIFIED:20240603T145139Z
UID:10001451-1718310600-1718310600@lafertemace.fr
SUMMARY:Ciné débat
DESCRIPTION:Projection de « Colocs de Choc » suivie d’un Débat avec France Alzheimer\nLe jeudi 13 juin à 20h30\, soirée spéciale alliant divertissement et réflexion. À l’affiche\, la comédie « Colocs de Choc » réalisée par Élodie Lélu.\nLa projection du film sera suivie d’un débat animé par l’association France Alzheimer\, offrant une occasion unique d’échanger sur des thèmes importants liés à la maladie d’Alzheimer.\n4€\, moins de 14 ans 3\,80€.
URL:https://lafertemace.fr/event/cine-debat-4/2024-06-13/
LOCATION:Cinéma\, Salle G. Philipe 8 rue St Denis\, La Ferté-Macé
CATEGORIES:Cinéma,Concert - Spectacle - Débat,Loisirs,Santé - Social
ATTACH;FMTTYPE=image/jpeg:https://lafertemace.fr/wp-content/uploads/2020/06/AVATAR_cinemaLAFM-2-e1652193177948.jpg
ORGANIZER;CN="Cin%C3%A9Fert%C3%A9":MAILTO:cinemagerardphilipe@wanadoo.fr
END:VEVENT
BEGIN:VEVENT
DTSTART;TZID=Europe/Helsinki:20240613T143000
DTEND;TZID=Europe/Helsinki:20240613T143000
DTSTAMP:20260424T193428
CREATED:20240123T155956Z
LAST-MODIFIED:20240123T155956Z
UID:10000702-1718289000-1718289000@lafertemace.fr
SUMMARY:Visite greeter
DESCRIPTION:Visite avec Michel Louvel\, greeter. Sur les pas d’artistes fertois d’hier et d’aujourd’hui (poètes\, romanciers\, sculpteurs\, peintres)\nA 14h30\, Gratuit\nsur réservation\, 6 personnes maximum
URL:https://lafertemace.fr/event/visite-greeter-8/2024-06-13/
LOCATION:Bureau Information Tourisme\, 11 Rue de la Victoire\, La Ferté Macé\, 61600
CATEGORIES:Loisirs,Patrimoine,Sports et Loisirs
ATTACH;FMTTYPE=image/jpeg:https://lafertemace.fr/wp-content/uploads/2016/04/Eglise-visite-de-la-ville-X-540.jpg
ORGANIZER;CN="Bureau Information Tourisme (Flers Agglo)":MAILTO:otsi.la-ferte-mace@wanadoo.fr
END:VEVENT
BEGIN:VEVENT
DTSTART;VALUE=DATE:20240613
DTEND;VALUE=DATE:20240614
DTSTAMP:20260424T193428
CREATED:20240312T104101Z
LAST-MODIFIED:20240312T104101Z
UID:10001059-1718236800-1718323199@lafertemace.fr
SUMMARY:Visite commentée de la ville
DESCRIPTION:
URL:https://lafertemace.fr/event/visite-commentee-de-la-ville/2024-06-13/
LOCATION:Bureau Information Tourisme\, 11 Rue de la Victoire\, La Ferté Macé\, 61600
CATEGORIES:Loisirs,Patrimoine,Sports et Loisirs
ATTACH;FMTTYPE=image/jpeg:https://lafertemace.fr/wp-content/uploads/2016/04/Eglise-visite-de-la-ville-X-540.jpg
ORGANIZER;CN="Bureau Information Tourisme (Flers Agglo)":MAILTO:otsi.la-ferte-mace@wanadoo.fr
END:VEVENT
BEGIN:VEVENT
DTSTART;TZID=Europe/Helsinki:20240612T150000
DTEND;TZID=Europe/Helsinki:20240612T150000
DTSTAMP:20260424T193428
CREATED:20240604T103539Z
LAST-MODIFIED:20240604T103539Z
UID:10001549-1718204400-1718204400@lafertemace.fr
SUMMARY:Goûters brico
DESCRIPTION:Participez aux préparatifs des 10 ans du Centre Socioculturel Thérèse Letinturier.
URL:https://lafertemace.fr/event/gouters-brico/2024-06-12/
LOCATION:Centre Socioculturel Thérèse Letinturier\, 14 Rue Pasteur\, La Ferté-Macé\, 61600
CATEGORIES:Atelier,Loisirs,Sports et Loisirs
ATTACH;FMTTYPE=image/jpeg:https://lafertemace.fr/wp-content/uploads/2023/08/2023-Centre-Socio-Therse-Letinturier-2.jpg
ORGANIZER;CN="Centre Socioculturel Th%C3%A9r%C3%A8se Letinturier":MAILTO:centresocioculturel@lafertemace.fr
END:VEVENT
BEGIN:VEVENT
DTSTART;TZID=Europe/Helsinki:20240612T140000
DTEND;TZID=Europe/Helsinki:20240612T140000
DTSTAMP:20260424T193428
CREATED:20240521T143000Z
LAST-MODIFIED:20240521T143000Z
UID:10001532-1718200800-1718200800@lafertemace.fr
SUMMARY:kermesse EHPAD
DESCRIPTION:
URL:https://lafertemace.fr/event/kermesse-ehpad/
LOCATION:CHIC des Andaines\, Rue Soeur Marie Boitier\, La Ferté-Macé\, 61600
CATEGORIES:Expositions,Loisirs,Santé - Social,Sports et Loisirs
ATTACH;FMTTYPE=image/jpeg:https://lafertemace.fr/wp-content/uploads/2017/11/Les-charmilles-blanches-EHPAD-Chic-des-andaines-X-540.jpg
END:VEVENT
BEGIN:VEVENT
DTSTART;TZID=Europe/Helsinki:20240612T110000
DTEND;TZID=Europe/Helsinki:20240612T120000
DTSTAMP:20260424T193428
CREATED:20240502T145525Z
LAST-MODIFIED:20240502T150600Z
UID:10001524-1718190000-1718193600@lafertemace.fr
SUMMARY:Baby mouv'
DESCRIPTION:
URL:https://lafertemace.fr/event/baby-mouv/2024-06-12/
LOCATION:Centre Socioculturel Thérèse Letinturier\, 14 Rue Pasteur\, La Ferté-Macé\, 61600
CATEGORIES:Atelier,Loisirs,Santé - Social,Sports et Loisirs
ATTACH;FMTTYPE=image/jpeg:https://lafertemace.fr/wp-content/uploads/2023/08/2023-Centre-Socio-Therse-Letinturier-2.jpg
ORGANIZER;CN="Centre Socioculturel Th%C3%A9r%C3%A8se Letinturier":MAILTO:centresocioculturel@lafertemace.fr
END:VEVENT
BEGIN:VEVENT
DTSTART;VALUE=DATE:20240612
DTEND;VALUE=DATE:20240613
DTSTAMP:20260424T193428
CREATED:20240116T154340Z
LAST-MODIFIED:20240116T154340Z
UID:10001467-1718150400-1718236799@lafertemace.fr
SUMMARY:Exposition de camping cars
DESCRIPTION:Sur le parking de la base de loisirs du 12 au 16 juin 2024.
URL:https://lafertemace.fr/event/exposition-de-camping-cars-2/
LOCATION:Base de Loisirs\, Bd de la Forêt d'Andaine\, La Ferté-Macé\, 61600
CATEGORIES:Expositions,Loisirs,Sports et Loisirs
ATTACH;FMTTYPE=image/jpeg:https://lafertemace.fr/wp-content/uploads/2021/06/Camping-cars-juin-2021-2.jpg
END:VEVENT
END:VCALENDAR