BEGIN:VCALENDAR
VERSION:2.0
PRODID:-//Ville de La Ferté-Macé - ECPv6.15.20//NONSGML v1.0//EN
CALSCALE:GREGORIAN
METHOD:PUBLISH
X-WR-CALNAME:Ville de La Ferté-Macé
X-ORIGINAL-URL:https://lafertemace.fr
X-WR-CALDESC:Évènements pour Ville de La Ferté-Macé
REFRESH-INTERVAL;VALUE=DURATION:PT1H
X-Robots-Tag:noindex
X-PUBLISHED-TTL:PT1H
BEGIN:VTIMEZONE
TZID:Europe/Helsinki
BEGIN:DAYLIGHT
TZOFFSETFROM:+0200
TZOFFSETTO:+0300
TZNAME:EEST
DTSTART:20230326T010000
END:DAYLIGHT
BEGIN:STANDARD
TZOFFSETFROM:+0300
TZOFFSETTO:+0200
TZNAME:EET
DTSTART:20231029T010000
END:STANDARD
BEGIN:DAYLIGHT
TZOFFSETFROM:+0200
TZOFFSETTO:+0300
TZNAME:EEST
DTSTART:20240331T010000
END:DAYLIGHT
BEGIN:STANDARD
TZOFFSETFROM:+0300
TZOFFSETTO:+0200
TZNAME:EET
DTSTART:20241027T010000
END:STANDARD
BEGIN:DAYLIGHT
TZOFFSETFROM:+0200
TZOFFSETTO:+0300
TZNAME:EEST
DTSTART:20250330T010000
END:DAYLIGHT
BEGIN:STANDARD
TZOFFSETFROM:+0300
TZOFFSETTO:+0200
TZNAME:EET
DTSTART:20251026T010000
END:STANDARD
END:VTIMEZONE
BEGIN:VEVENT
DTSTART;VALUE=DATE:20240530
DTEND;VALUE=DATE:20240601
DTSTAMP:20260425T023911
CREATED:20240123T151540Z
LAST-MODIFIED:20240123T151540Z
UID:10000690-1717027200-1717199999@lafertemace.fr
SUMMARY:Championnat de France de Triathlon UGSEL
DESCRIPTION:Environ 350 élèves viendront disputer le championnat de France UGSEL\nAu programme\, deux épreuves par équipe : \nUn aquathlon le 30 mai durant l’après-midi\nUn triathlon le 31 mai durant la matinée
URL:https://lafertemace.fr/event/championnat-de-france-de-triathlon-ugsel/
LOCATION:Base de Loisirs\, Bd de la Forêt d'Andaine\, La Ferté-Macé\, 61600
CATEGORIES:Loisirs,Plein air,Sports,Sports et Loisirs
ATTACH;FMTTYPE=image/jpeg:https://lafertemace.fr/wp-content/uploads/2021/06/2021-ete-Base-de-loisirs-juin-4-scaled-e1718703974578.jpg
ORGANIZER;CN="Service Culture%2C Sports et Loisirs":MAILTO:sports.loisirs@lafertemace.fr
END:VEVENT
BEGIN:VEVENT
DTSTART;VALUE=DATE:20240530
DTEND;VALUE=DATE:20240531
DTSTAMP:20260425T023911
CREATED:20240312T104101Z
LAST-MODIFIED:20240312T104101Z
UID:10001057-1717027200-1717113599@lafertemace.fr
SUMMARY:Visite commentée de la ville
DESCRIPTION:
URL:https://lafertemace.fr/event/visite-commentee-de-la-ville/2024-05-30/
LOCATION:Bureau Information Tourisme\, 11 Rue de la Victoire\, La Ferté Macé\, 61600
CATEGORIES:Loisirs,Patrimoine,Sports et Loisirs
ATTACH;FMTTYPE=image/jpeg:https://lafertemace.fr/wp-content/uploads/2016/04/Eglise-visite-de-la-ville-X-540.jpg
ORGANIZER;CN="Bureau Information Tourisme (Flers Agglo)":MAILTO:otsi.la-ferte-mace@wanadoo.fr
END:VEVENT
BEGIN:VEVENT
DTSTART;TZID=Europe/Helsinki:20240529T120000
DTEND;TZID=Europe/Helsinki:20240529T150000
DTSTAMP:20260425T023911
CREATED:20240123T152313Z
LAST-MODIFIED:20240123T152313Z
UID:10000700-1716984000-1716994800@lafertemace.fr
SUMMARY:Repas\, concert... au LP Flora Tristan
DESCRIPTION:Dans le cadre des commémorations des 80 ans du débarquement des alliés\, les élèves de terminales hôtellerie restauration organisent un repas concert et planches apéritives sur réservation. Une exposition sur la vie des civils et des militaires de 1939 à 1945 sera présentée car réalisée par les élèves eux même. Quelques véhicules d’époque seront présentés et permettrons à chacun de venir passé un agréable moment dans l’enceinte du lycée. \nRéservation : Lycée Flora Tristan\, 7 Av de La raillère
URL:https://lafertemace.fr/event/repas-concert-au-lp-flora-tristan/
LOCATION:Lycée Flora Tristan\, 7-9 avenue de la Raillère\, La Ferté Macé\, 61600
CATEGORIES:Concert - Spectacle - Débat,Loisirs,Repas,Sports et Loisirs
ATTACH;FMTTYPE=image/jpeg:https://lafertemace.fr/wp-content/uploads/2023/02/2023-Lycee-Flora-Tristan-x800-.jpg
GEO:48.5938797;-0.360905
X-APPLE-STRUCTURED-LOCATION;VALUE=URI;X-ADDRESS=Lycée Flora Tristan 7-9 avenue de la Raillère La Ferté Macé 61600;X-APPLE-RADIUS=500;X-TITLE=7-9 avenue de la Raillère:geo:-0.360905,48.5938797
END:VEVENT
BEGIN:VEVENT
DTSTART;VALUE=DATE:20240528
DTEND;VALUE=DATE:20240529
DTSTAMP:20260425T023911
CREATED:20240425T144155Z
LAST-MODIFIED:20240425T144155Z
UID:10000527-1716854400-1716940799@lafertemace.fr
SUMMARY:Expo Poterie "Observons les oiseaux" (14/05-22/06/24)
DESCRIPTION:Du 14 mai au 22 juin\, l’atelier de poterie du Centre Socioculturel Thérèse Letinturier\, animé par Perrine Lemée\, expose à la Médiathèque de La Ferté-Macé. \nL’exposition « Observons les oiseaux » exposera les réalisations des ateliers enfants et adultes\, avec pour thème les oiseaux de jardins réalisés à taille réel en terre cuite vernissée et décorée. \nLes cours de poterie du Centre Socioculturel ont lieu les mercredis\, hors période scolaire\, de 16h à 17h30 pour les 6/11 ans et de 14 à 16h ou de 18h30 à 20h pour les adultes. Les inscriptions au cours sont déjà ouvertes pour la prochaine saison 2024 / 2025 via le Centre Socioculturel.\n02 33 14 14 83\, 14 rue Louis Pasteur\, Mail : centresocioculturel@lafertemace.fr
URL:https://lafertemace.fr/event/expo-poterie-observons-les-oiseaux-14-05-22-06-24/2024-05-28/
LOCATION:Médiathèque « La Grande Nouvelle »\, Le Grand Turc\, Rue St Denis\, La Ferté-macé\, 61600
CATEGORIES:Expositions,Loisirs,Sports et Loisirs
ORGANIZER;CN="Centre Socioculturel Th%C3%A9r%C3%A8se Letinturier":MAILTO:centresocioculturel@lafertemace.fr
END:VEVENT
BEGIN:VEVENT
DTSTART;VALUE=DATE:20240528
DTEND;VALUE=DATE:20240529
DTSTAMP:20260425T023911
CREATED:20230920T141603Z
LAST-MODIFIED:20230920T141603Z
UID:10000825-1716854400-1716940799@lafertemace.fr
SUMMARY:Atelier numérique
DESCRIPTION:Accompagnement personnalisé à l’usage des outils numériques (ordinateurs\, téléphones\, tablette…)\, et aux démarches en ligne.\nLe mardi à 15h et 16h30 (durée 1h) sauf vacances scolaires. \nPour adultes\, gratuit sur inscription à la médiathèque.
URL:https://lafertemace.fr/event/atelier-numerique/2024-05-28/
LOCATION:Médiathèque « La Grande Nouvelle »\, Le Grand Turc\, Rue St Denis\, La Ferté-macé\, 61600
CATEGORIES:Atelier,Loisirs,Sports et Loisirs
ATTACH;FMTTYPE=image/jpeg:https://lafertemace.fr/wp-content/uploads/2023/09/Atelier-numerique.jpg
ORGANIZER;CN="M%C3%A9diath%C3%A8que 'La Grande Nouvelle' (Flers Agglo)":MAILTO:mediatheque.lafetemace@flers-agglo.fr
END:VEVENT
BEGIN:VEVENT
DTSTART;TZID=Europe/Helsinki:20240527T140000
DTEND;TZID=Europe/Helsinki:20240527T140000
DTSTAMP:20260425T023911
CREATED:20240426T112503Z
LAST-MODIFIED:20240426T112503Z
UID:10001455-1716818400-1716818400@lafertemace.fr
SUMMARY:Cuisinons le soleil
DESCRIPTION:
URL:https://lafertemace.fr/event/cuisinons-le-soleil/2024-05-27/
LOCATION:Centre Socioculturel Thérèse Letinturier\, 14 Rue Pasteur\, La Ferté-Macé\, 61600
CATEGORIES:Atelier,Loisirs,Repas,Santé - Social,Sports et Loisirs
ATTACH;FMTTYPE=image/jpeg:https://lafertemace.fr/wp-content/uploads/2023/08/2023-Centre-Socio-Therse-Letinturier-2.jpg
ORGANIZER;CN="Centre Socioculturel Th%C3%A9r%C3%A8se Letinturier":MAILTO:centresocioculturel@lafertemace.fr
END:VEVENT
BEGIN:VEVENT
DTSTART;VALUE=DATE:20240527
DTEND;VALUE=DATE:20240528
DTSTAMP:20260425T023911
CREATED:20240415T141822Z
LAST-MODIFIED:20240415T141822Z
UID:10001118-1716768000-1716854399@lafertemace.fr
SUMMARY:AMAVADA : Concours de dessin
DESCRIPTION:
URL:https://lafertemace.fr/event/amavada-concours-de-dessin/2024-05-27/
CATEGORIES:Atelier,Loisirs,Patrimoine,Santé - Social,Sports et Loisirs
ATTACH;FMTTYPE=image/jpeg:https://lafertemace.fr/wp-content/uploads/2024/04/2024-amavada-concours-dessin2.jpg
END:VEVENT
BEGIN:VEVENT
DTSTART;VALUE=DATE:20240525
DTEND;VALUE=DATE:20240526
DTSTAMP:20260425T023911
CREATED:20240521T114640Z
LAST-MODIFIED:20240521T114640Z
UID:10001530-1716595200-1716681599@lafertemace.fr
SUMMARY:Visite d'un jardin refuge LPO & rencontre découverte
DESCRIPTION:Le groupe LPO des Andaines vous propose : \n\n10h – Visite d’un jardin refuge LPO. Gratuit. Inscription au 06 84 67 94 66\n15h30 – Rencontre découverte autour d’un diaporama pour reconnaître et protéger les oiseaux du jardin. Gratuit. Inscription à la médiathèque\, 02 33 14 14 79
URL:https://lafertemace.fr/event/visite-dun-jardin-refuge-lpo-rencontre-decouverte/
LOCATION:Médiathèque « La Grande Nouvelle »\, Le Grand Turc\, Rue St Denis\, La Ferté-macé\, 61600
CATEGORIES:Atelier,Expositions,Loisirs,Plein air,Santé - Social,Sports et Loisirs
ATTACH;FMTTYPE=image/jpeg:https://lafertemace.fr/wp-content/uploads/2023/08/2023-Fete-des-Associations-lpo2.jpg
END:VEVENT
BEGIN:VEVENT
DTSTART;VALUE=DATE:20240525
DTEND;VALUE=DATE:20240526
DTSTAMP:20260425T023911
CREATED:20240123T150809Z
LAST-MODIFIED:20240123T150809Z
UID:10001482-1716595200-1716681599@lafertemace.fr
SUMMARY:Beach volley
DESCRIPTION:Tournoi de beach volley à la base de loisirs. \n 
URL:https://lafertemace.fr/event/beach-volley-3/2024-05-25/
LOCATION:Base de Loisirs\, Bd de la Forêt d'Andaine\, La Ferté-Macé\, 61600
CATEGORIES:Loisirs,Plein air,Sports,Sports et Loisirs
ATTACH;FMTTYPE=image/jpeg:https://lafertemace.fr/wp-content/uploads/2016/05/Beach-Tennis-X540.jpg
ORGANIZER;CN="Service Culture%2C Sports et Loisirs":MAILTO:sports.loisirs@lafertemace.fr
END:VEVENT
BEGIN:VEVENT
DTSTART;TZID=Europe/Helsinki:20240524T200000
DTEND;TZID=Europe/Helsinki:20240524T220000
DTSTAMP:20260425T023911
CREATED:20240318T124437Z
LAST-MODIFIED:20240318T124437Z
UID:10001449-1716580800-1716588000@lafertemace.fr
SUMMARY:Soirée jeux
DESCRIPTION:Soirée jeux de 20 h à 22 h à l’espace jeux du 10 rue de Versailles . \nGratuit. Plus de 500 jeux à emprunter –  liste :  JEUX par ordre alphabétique 2\nContact :Asso les amis de jeux\, tel. :  06 85 89 18 40 
URL:https://lafertemace.fr/event/soiree-jeux-3/2024-05-24/
LOCATION:Espace Jeux\, 10 rue de Versailles\, La Ferté-Macé
CATEGORIES:Loisirs,Sports et Loisirs
END:VEVENT
BEGIN:VEVENT
DTSTART;TZID=Europe/Helsinki:20240524T200000
DTEND;TZID=Europe/Helsinki:20240524T220000
DTSTAMP:20260425T023911
CREATED:20231002T141250Z
LAST-MODIFIED:20231002T141250Z
UID:10000895-1716580800-1716588000@lafertemace.fr
SUMMARY:Soirée Jeux
DESCRIPTION:L’espace jeux du 10 rue de Versailles est ouvert à tout public de 20 h à 22 h. \nPlus de 500 jeux disponibles et c’est gratuit  \nContact :  Albert Le Monnier\, 06 85 89 18 40  
URL:https://lafertemace.fr/event/soiree-jeux-2/2024-05-24/
LOCATION:Espace Jeux\, 10 rue de Versailles\, La Ferté-Macé
CATEGORIES:Loisirs,Sports et Loisirs
ATTACH;FMTTYPE=image/jpeg:https://lafertemace.fr/wp-content/uploads/2020/02/AVATAR_jeux-e1630583942358.jpeg
END:VEVENT
BEGIN:VEVENT
DTSTART;VALUE=DATE:20240524
DTEND;VALUE=DATE:20240525
DTSTAMP:20260425T023911
CREATED:20240411T101218Z
LAST-MODIFIED:20240411T101218Z
UID:10001521-1716508800-1716595199@lafertemace.fr
SUMMARY:Concours de fleurissement (11/04-31/05)
DESCRIPTION:Participez au concours de fleurissement des balcons\, du 11 avril au 31 mai \nRèglement du concours \nbulletin inscription \n 
URL:https://lafertemace.fr/event/concours-de-fleurissement-11-04-31-05/2024-05-24/
CATEGORIES:Expositions,Loisirs,Patrimoine,Plein air,Santé - Social,Sports et Loisirs
ATTACH;FMTTYPE=image/png:https://lafertemace.fr/wp-content/uploads/2024/04/balcon.png
END:VEVENT
BEGIN:VEVENT
DTSTART;TZID=Europe/Helsinki:20240523T191500
DTEND;TZID=Europe/Helsinki:20240523T191500
DTSTAMP:20260425T023911
CREATED:20240503T114632Z
LAST-MODIFIED:20240503T114632Z
UID:10001527-1716491700-1716491700@lafertemace.fr
SUMMARY:Opéra
DESCRIPTION: 
URL:https://lafertemace.fr/event/opera/2024-05-23/
LOCATION:Salle Gérard Philipe\, Le Grand Turc\, Rue St Denis\, La Ferté-Macé\, 61600
CATEGORIES:Cinéma,Loisirs,Sports et Loisirs
ATTACH;FMTTYPE=image/jpeg:https://lafertemace.fr/wp-content/uploads/2020/06/AVATAR_cinemaLAFM-2-e1652193177948.jpg
ORGANIZER;CN="Cin%C3%A9Fert%C3%A9":MAILTO:cinemagerardphilipe@wanadoo.fr
END:VEVENT
BEGIN:VEVENT
DTSTART;TZID=Europe/Helsinki:20240523T170000
DTEND;TZID=Europe/Helsinki:20240523T180000
DTSTAMP:20260425T023911
CREATED:20240227T154507Z
LAST-MODIFIED:20240227T154507Z
UID:10000780-1716483600-1716487200@lafertemace.fr
SUMMARY:Fitness
DESCRIPTION:Gratuit\, tous les jeudis de 17h à 18h (mars à mai)
URL:https://lafertemace.fr/event/fitness/2024-05-23/
LOCATION:Centre Socioculturel Thérèse Letinturier\, 14 Rue Pasteur\, La Ferté-Macé\, 61600
CATEGORIES:Loisirs,Sports,Sports et Loisirs
ATTACH;FMTTYPE=image/jpeg:https://lafertemace.fr/wp-content/uploads/2023/08/2023-Centre-Socio-Therse-Letinturier-2.jpg
ORGANIZER;CN="Centre Socioculturel Th%C3%A9r%C3%A8se Letinturier":MAILTO:centresocioculturel@lafertemace.fr
END:VEVENT
BEGIN:VEVENT
DTSTART;VALUE=DATE:20240523
DTEND;VALUE=DATE:20240524
DTSTAMP:20260425T023911
CREATED:20240312T104101Z
LAST-MODIFIED:20240312T104101Z
UID:10001056-1716422400-1716508799@lafertemace.fr
SUMMARY:Visite commentée de la ville
DESCRIPTION:
URL:https://lafertemace.fr/event/visite-commentee-de-la-ville/2024-05-23/
LOCATION:Bureau Information Tourisme\, 11 Rue de la Victoire\, La Ferté Macé\, 61600
CATEGORIES:Loisirs,Patrimoine,Sports et Loisirs
ATTACH;FMTTYPE=image/jpeg:https://lafertemace.fr/wp-content/uploads/2016/04/Eglise-visite-de-la-ville-X-540.jpg
ORGANIZER;CN="Bureau Information Tourisme (Flers Agglo)":MAILTO:otsi.la-ferte-mace@wanadoo.fr
END:VEVENT
BEGIN:VEVENT
DTSTART;VALUE=DATE:20240521
DTEND;VALUE=DATE:20240522
DTSTAMP:20260425T023911
CREATED:20240425T144155Z
LAST-MODIFIED:20240425T144155Z
UID:10000526-1716249600-1716335999@lafertemace.fr
SUMMARY:Expo Poterie "Observons les oiseaux" (14/05-22/06/24)
DESCRIPTION:Du 14 mai au 22 juin\, l’atelier de poterie du Centre Socioculturel Thérèse Letinturier\, animé par Perrine Lemée\, expose à la Médiathèque de La Ferté-Macé. \nL’exposition « Observons les oiseaux » exposera les réalisations des ateliers enfants et adultes\, avec pour thème les oiseaux de jardins réalisés à taille réel en terre cuite vernissée et décorée. \nLes cours de poterie du Centre Socioculturel ont lieu les mercredis\, hors période scolaire\, de 16h à 17h30 pour les 6/11 ans et de 14 à 16h ou de 18h30 à 20h pour les adultes. Les inscriptions au cours sont déjà ouvertes pour la prochaine saison 2024 / 2025 via le Centre Socioculturel.\n02 33 14 14 83\, 14 rue Louis Pasteur\, Mail : centresocioculturel@lafertemace.fr
URL:https://lafertemace.fr/event/expo-poterie-observons-les-oiseaux-14-05-22-06-24/2024-05-21/
LOCATION:Médiathèque « La Grande Nouvelle »\, Le Grand Turc\, Rue St Denis\, La Ferté-macé\, 61600
CATEGORIES:Expositions,Loisirs,Sports et Loisirs
ORGANIZER;CN="Centre Socioculturel Th%C3%A9r%C3%A8se Letinturier":MAILTO:centresocioculturel@lafertemace.fr
END:VEVENT
BEGIN:VEVENT
DTSTART;VALUE=DATE:20240521
DTEND;VALUE=DATE:20240522
DTSTAMP:20260425T023911
CREATED:20240116T115826Z
LAST-MODIFIED:20240116T115826Z
UID:10001397-1716249600-1716335999@lafertemace.fr
SUMMARY:Fête foraine
DESCRIPTION:La fête foraine s’installe place de Neustadt du 21 mai au 02 juin 2024. \n 
URL:https://lafertemace.fr/event/fete-foraine/
LOCATION:Place de Neustadt\, La Ferté-Macé\, 61600
CATEGORIES:Loisirs,Sports et Loisirs
ATTACH;FMTTYPE=image/jpeg:https://lafertemace.fr/wp-content/uploads/2016/03/Fête-foraine-Fotolia_63854943-e1458293980192.jpg
END:VEVENT
BEGIN:VEVENT
DTSTART;VALUE=DATE:20240521
DTEND;VALUE=DATE:20240522
DTSTAMP:20260425T023911
CREATED:20230920T141603Z
LAST-MODIFIED:20230920T141603Z
UID:10000824-1716249600-1716335999@lafertemace.fr
SUMMARY:Atelier numérique
DESCRIPTION:Accompagnement personnalisé à l’usage des outils numériques (ordinateurs\, téléphones\, tablette…)\, et aux démarches en ligne.\nLe mardi à 15h et 16h30 (durée 1h) sauf vacances scolaires. \nPour adultes\, gratuit sur inscription à la médiathèque.
URL:https://lafertemace.fr/event/atelier-numerique/2024-05-21/
LOCATION:Médiathèque « La Grande Nouvelle »\, Le Grand Turc\, Rue St Denis\, La Ferté-macé\, 61600
CATEGORIES:Atelier,Loisirs,Sports et Loisirs
ATTACH;FMTTYPE=image/jpeg:https://lafertemace.fr/wp-content/uploads/2023/09/Atelier-numerique.jpg
ORGANIZER;CN="M%C3%A9diath%C3%A8que 'La Grande Nouvelle' (Flers Agglo)":MAILTO:mediatheque.lafetemace@flers-agglo.fr
END:VEVENT
BEGIN:VEVENT
DTSTART;TZID=Europe/Helsinki:20240520T140000
DTEND;TZID=Europe/Helsinki:20240520T140000
DTSTAMP:20260425T023911
CREATED:20240426T112503Z
LAST-MODIFIED:20240426T112503Z
UID:10001454-1716213600-1716213600@lafertemace.fr
SUMMARY:Cuisinons le soleil
DESCRIPTION:
URL:https://lafertemace.fr/event/cuisinons-le-soleil/2024-05-20/
LOCATION:Centre Socioculturel Thérèse Letinturier\, 14 Rue Pasteur\, La Ferté-Macé\, 61600
CATEGORIES:Atelier,Loisirs,Repas,Santé - Social,Sports et Loisirs
ATTACH;FMTTYPE=image/jpeg:https://lafertemace.fr/wp-content/uploads/2023/08/2023-Centre-Socio-Therse-Letinturier-2.jpg
ORGANIZER;CN="Centre Socioculturel Th%C3%A9r%C3%A8se Letinturier":MAILTO:centresocioculturel@lafertemace.fr
END:VEVENT
BEGIN:VEVENT
DTSTART;VALUE=DATE:20240520
DTEND;VALUE=DATE:20240521
DTSTAMP:20260425T023911
CREATED:20240415T141822Z
LAST-MODIFIED:20240415T141822Z
UID:10001117-1716163200-1716249599@lafertemace.fr
SUMMARY:AMAVADA : Concours de dessin
DESCRIPTION:
URL:https://lafertemace.fr/event/amavada-concours-de-dessin/2024-05-20/
CATEGORIES:Atelier,Loisirs,Patrimoine,Santé - Social,Sports et Loisirs
ATTACH;FMTTYPE=image/jpeg:https://lafertemace.fr/wp-content/uploads/2024/04/2024-amavada-concours-dessin2.jpg
END:VEVENT
BEGIN:VEVENT
DTSTART;TZID=Europe/Helsinki:20240518T180000
DTEND;TZID=Europe/Helsinki:20240518T220000
DTSTAMP:20260425T023911
CREATED:20240312T105742Z
LAST-MODIFIED:20240409T095327Z
UID:10001068-1716055200-1716069600@lafertemace.fr
SUMMARY:Nuit des Musées - Jouer c'est du sport
DESCRIPTION:« Jouer c’est du sport » au Musée du Jouet de 18h à 22h. \nLes visiteurs pourront découvrir plus d’une dizaine de jouets et jeux parfois originaux\, datant principalement du début du XXe siècle. Au cours de la soirée\, une présentation de ces objets aura lieu toutes les heures\, à 18h15\, 19h15\, 20h15 et 21h15. 
URL:https://lafertemace.fr/event/nuit-des-musees/2024-05-18/
LOCATION:Musée du Jouet\, Rue de la Victoire\, La Ferté-Macé\, 61600
CATEGORIES:Expositions,Loisirs,Patrimoine,Sports et Loisirs
ATTACH;FMTTYPE=image/jpeg:https://lafertemace.fr/wp-content/uploads/2023/12/20230317_105609-scaled.jpg
ORGANIZER;CN="Service Culture%2C Sports et Loisirs":MAILTO:sports.loisirs@lafertemace.fr
END:VEVENT
BEGIN:VEVENT
DTSTART;TZID=Europe/Helsinki:20240518T143000
DTEND;TZID=Europe/Helsinki:20240518T143000
DTSTAMP:20260425T023911
CREATED:20240123T150537Z
LAST-MODIFIED:20240123T150537Z
UID:10001480-1716042600-1716042600@lafertemace.fr
SUMMARY:Visite greeter
DESCRIPTION:Visite de la ville avec Michel Louvel : Lieux fertois oubliés (haras\, bains-douches\, abattoirs)\nDurée : 2h \, sur réservation\, 02 3 37 10 97\n6 personnes maximum \n14h30 à l’office de tourisme
URL:https://lafertemace.fr/event/visite-greeter-7/2024-05-18/
LOCATION:Bureau Information Tourisme\, 11 Rue de la Victoire\, La Ferté Macé\, 61600
CATEGORIES:Loisirs,Patrimoine,Sports et Loisirs
ATTACH;FMTTYPE=image/jpeg:https://lafertemace.fr/wp-content/uploads/2016/04/Eglise-visite-de-la-ville-X-540.jpg
ORGANIZER;CN="Bureau Information Tourisme (Flers Agglo)":MAILTO:otsi.la-ferte-mace@wanadoo.fr
END:VEVENT
BEGIN:VEVENT
DTSTART;TZID=Europe/Helsinki:20240518T110000
DTEND;TZID=Europe/Helsinki:20240518T110000
DTSTAMP:20260425T023911
CREATED:20240507T144007Z
LAST-MODIFIED:20240507T144007Z
UID:10001529-1716030000-1716030000@lafertemace.fr
SUMMARY:Défilé des confréries
DESCRIPTION:La confrérie de La Tripière Fertoise qui défend depuis 1981\, la gastronomie fertoise : « Les tripes en brochettes » tiendra son 42ème Chapitre à La Ferté-Macé\, le samedi 18 mai 2024\, lors de la Fête de Printemps. \nAprès l’accueil des confréries\, le défilé organisé par l’Académie des Confréries Gastronomiques du Duché Normandie-Maine empruntera l’itinéraire suivant :  \n\nDépart 11h00 avec la fanfare des pompiers\n– Rue Saint-Denis\n– Rue des Fossés Saint Denis\n– Rue de la Victoire\n– Place Leclerc
URL:https://lafertemace.fr/event/defile-des-confreries/2024-05-18/
CATEGORIES:Défilé,Loisirs,Patrimoine,Santé - Social,Sports et Loisirs
ATTACH;FMTTYPE=image/jpeg:https://lafertemace.fr/wp-content/uploads/2024/05/2024-tripiere-fertoise.jpg
END:VEVENT
BEGIN:VEVENT
DTSTART;TZID=Europe/Helsinki:20240518T100000
DTEND;TZID=Europe/Helsinki:20240518T180000
DTSTAMP:20260425T023911
CREATED:20240123T140858Z
LAST-MODIFIED:20240409T103641Z
UID:10001479-1716026400-1716055200@lafertemace.fr
SUMMARY:4ème Fête de Printemps
DESCRIPTION:   Le thème de cette quatrième édition est la Cuisine du monde.\nUn voyage culinaire avec des ateliers culinaires orchestrés par des chefs d’exception auront lieu tout au long de la journée\, entrecoupés de danses du monde. Marché de producteurs et exposition de voitures anciennes. Ainsi que le chapitre des confréries avec la tripière fertoise. \n 
URL:https://lafertemace.fr/event/4eme-fete-de-printemps/2024-05-18/
LOCATION:Place du Gal Leclerc\, La Ferté-Macé
CATEGORIES:Loisirs,Sports et Loisirs
ATTACH;FMTTYPE=image/jpeg:https://lafertemace.fr/wp-content/uploads/2023/06/2023Fete-de-Printemps-site19.jpg
ORGANIZER;CN="Service Culture%2C Sports et Loisirs":MAILTO:sports.loisirs@lafertemace.fr
END:VEVENT
BEGIN:VEVENT
DTSTART;VALUE=DATE:20240518
DTEND;VALUE=DATE:20240519
DTSTAMP:20260425T023911
CREATED:20240312T105312Z
LAST-MODIFIED:20240312T105312Z
UID:10000556-1715990400-1716076799@lafertemace.fr
SUMMARY:Pierres en lumières
DESCRIPTION:L’Eglise Notre-Dame s’illumine
URL:https://lafertemace.fr/event/pierres-en-lumieres/2024-05-18/
LOCATION:Place du Gal Leclerc\, La Ferté-Macé
CATEGORIES:Loisirs,Patrimoine,Sports et Loisirs
ORGANIZER;CN="Bureau Information Tourisme (Flers Agglo)":MAILTO:otsi.la-ferte-mace@wanadoo.fr
END:VEVENT
BEGIN:VEVENT
DTSTART;TZID=Europe/Helsinki:20240517T200000
DTEND;TZID=Europe/Helsinki:20240517T220000
DTSTAMP:20260425T023911
CREATED:20240318T124437Z
LAST-MODIFIED:20240318T124437Z
UID:10001448-1715976000-1715983200@lafertemace.fr
SUMMARY:Soirée jeux
DESCRIPTION:Soirée jeux de 20 h à 22 h à l’espace jeux du 10 rue de Versailles . \nGratuit. Plus de 500 jeux à emprunter –  liste :  JEUX par ordre alphabétique 2\nContact :Asso les amis de jeux\, tel. :  06 85 89 18 40 
URL:https://lafertemace.fr/event/soiree-jeux-3/2024-05-17/
LOCATION:Espace Jeux\, 10 rue de Versailles\, La Ferté-Macé
CATEGORIES:Loisirs,Sports et Loisirs
END:VEVENT
BEGIN:VEVENT
DTSTART;TZID=Europe/Helsinki:20240517T200000
DTEND;TZID=Europe/Helsinki:20240517T220000
DTSTAMP:20260425T023911
CREATED:20231002T141250Z
LAST-MODIFIED:20231002T141250Z
UID:10000894-1715976000-1715983200@lafertemace.fr
SUMMARY:Soirée Jeux
DESCRIPTION:L’espace jeux du 10 rue de Versailles est ouvert à tout public de 20 h à 22 h. \nPlus de 500 jeux disponibles et c’est gratuit  \nContact :  Albert Le Monnier\, 06 85 89 18 40  
URL:https://lafertemace.fr/event/soiree-jeux-2/2024-05-17/
LOCATION:Espace Jeux\, 10 rue de Versailles\, La Ferté-Macé
CATEGORIES:Loisirs,Sports et Loisirs
ATTACH;FMTTYPE=image/jpeg:https://lafertemace.fr/wp-content/uploads/2020/02/AVATAR_jeux-e1630583942358.jpeg
END:VEVENT
BEGIN:VEVENT
DTSTART;VALUE=DATE:20240517
DTEND;VALUE=DATE:20240518
DTSTAMP:20260425T023911
CREATED:20240411T101218Z
LAST-MODIFIED:20240411T101218Z
UID:10001520-1715904000-1715990399@lafertemace.fr
SUMMARY:Concours de fleurissement (11/04-31/05)
DESCRIPTION:Participez au concours de fleurissement des balcons\, du 11 avril au 31 mai \nRèglement du concours \nbulletin inscription \n 
URL:https://lafertemace.fr/event/concours-de-fleurissement-11-04-31-05/2024-05-17/
CATEGORIES:Expositions,Loisirs,Patrimoine,Plein air,Santé - Social,Sports et Loisirs
ATTACH;FMTTYPE=image/png:https://lafertemace.fr/wp-content/uploads/2024/04/balcon.png
END:VEVENT
BEGIN:VEVENT
DTSTART;TZID=Europe/Helsinki:20240516T203000
DTEND;TZID=Europe/Helsinki:20240516T203000
DTSTAMP:20260425T023911
CREATED:20240503T114222Z
LAST-MODIFIED:20240503T114222Z
UID:10001526-1715891400-1715891400@lafertemace.fr
SUMMARY:Deutscher film
DESCRIPTION:Film : Stella une vie allemande en VOstFr
URL:https://lafertemace.fr/event/deutscher-film-9/2024-05-16/
LOCATION:Salle Gérard Philipe\, Le Grand Turc\, Rue St Denis\, La Ferté-Macé\, 61600
CATEGORIES:Cinéma,Loisirs,Sports et Loisirs
ATTACH;FMTTYPE=image/jpeg:https://lafertemace.fr/wp-content/uploads/2020/06/AVATAR_cinemaLAFM-2-e1652193177948.jpg
ORGANIZER;CN="Cin%C3%A9Fert%C3%A9":MAILTO:cinemagerardphilipe@wanadoo.fr
END:VEVENT
BEGIN:VEVENT
DTSTART;TZID=Europe/Helsinki:20240516T170000
DTEND;TZID=Europe/Helsinki:20240516T180000
DTSTAMP:20260425T023911
CREATED:20240227T154507Z
LAST-MODIFIED:20240227T154507Z
UID:10000779-1715878800-1715882400@lafertemace.fr
SUMMARY:Fitness
DESCRIPTION:Gratuit\, tous les jeudis de 17h à 18h (mars à mai)
URL:https://lafertemace.fr/event/fitness/2024-05-16/
LOCATION:Centre Socioculturel Thérèse Letinturier\, 14 Rue Pasteur\, La Ferté-Macé\, 61600
CATEGORIES:Loisirs,Sports,Sports et Loisirs
ATTACH;FMTTYPE=image/jpeg:https://lafertemace.fr/wp-content/uploads/2023/08/2023-Centre-Socio-Therse-Letinturier-2.jpg
ORGANIZER;CN="Centre Socioculturel Th%C3%A9r%C3%A8se Letinturier":MAILTO:centresocioculturel@lafertemace.fr
END:VEVENT
END:VCALENDAR