BEGIN:VCALENDAR
VERSION:2.0
PRODID:-//Ville de La Ferté-Macé - ECPv6.15.20//NONSGML v1.0//EN
CALSCALE:GREGORIAN
METHOD:PUBLISH
X-WR-CALNAME:Ville de La Ferté-Macé
X-ORIGINAL-URL:https://lafertemace.fr
X-WR-CALDESC:Évènements pour Ville de La Ferté-Macé
REFRESH-INTERVAL;VALUE=DURATION:PT1H
X-Robots-Tag:noindex
X-PUBLISHED-TTL:PT1H
BEGIN:VTIMEZONE
TZID:UTC
BEGIN:STANDARD
TZOFFSETFROM:+0000
TZOFFSETTO:+0000
TZNAME:UTC
DTSTART:20250101T000000
END:STANDARD
END:VTIMEZONE
BEGIN:VEVENT
DTSTART;TZID=UTC:20260428T200000
DTEND;TZID=UTC:20260428T200000
DTSTAMP:20260420T174119
CREATED:20260420T131525Z
LAST-MODIFIED:20260420T131525Z
UID:10002902-1777406400-1777406400@lafertemace.fr
SUMMARY:Conseil Municipal
DESCRIPTION:La séance du Conseil Municipal se déroulera à 20h\, salle des mariages en Mairie.
URL:https://lafertemace.fr/event/conseil-municipal-14/2026-04-28/
LOCATION:Mairie\, Place de la République
CATEGORIES:Santé - Social
ATTACH;FMTTYPE=image/jpeg:https://lafertemace.fr/wp-content/uploads/2017/04/2014-Bâtiments-Patrimoine-Mairie-8-e1493025620338.jpg
END:VEVENT
END:VCALENDAR