BEGIN:VCALENDAR
VERSION:2.0
PRODID:-//Ville de La Ferté-Macé - ECPv6.15.20//NONSGML v1.0//EN
CALSCALE:GREGORIAN
METHOD:PUBLISH
X-WR-CALNAME:Ville de La Ferté-Macé
X-ORIGINAL-URL:https://lafertemace.fr
X-WR-CALDESC:Évènements pour Ville de La Ferté-Macé
REFRESH-INTERVAL;VALUE=DURATION:PT1H
X-Robots-Tag:noindex
X-PUBLISHED-TTL:PT1H
BEGIN:VTIMEZONE
TZID:UTC
BEGIN:STANDARD
TZOFFSETFROM:+0000
TZOFFSETTO:+0000
TZNAME:UTC
DTSTART:20250101T000000
END:STANDARD
END:VTIMEZONE
BEGIN:VEVENT
DTSTART;TZID=UTC:20260707T140000
DTEND;TZID=UTC:20260707T170000
DTSTAMP:20260422T200904
CREATED:20260420T141230Z
LAST-MODIFIED:20260420T141651Z
UID:10003218-1783432800-1783443600@lafertemace.fr
SUMMARY:Après-midi jeux
DESCRIPTION:L’association « Les Amis des jeux » vous propose des après-midis jeux à la base de loisirs en juillet et août. \nLes mardis et jeudis de 14 h à 17 h  ( jeux de plein air \, grands jeux en bois ). \nPour tous – Gratuit
URL:https://lafertemace.fr/event/apres-midi-jeux-2/2026-07-07/
LOCATION:Base de Loisirs\, Bd de la Forêt d'Andaine\, La Ferté-Macé\, 61600
CATEGORIES:Loisirs,Plein air,Sports et Loisirs
ATTACH;FMTTYPE=image/jpeg:https://lafertemace.fr/wp-content/uploads/2016/05/2012-manifestations-jeux-anciens-festival-des-jeux-Base-de-loisirs-jeu-de-quilles-1-e1463744110911.jpg
ORGANIZER;CN="Les amis des jeux":MAILTO:albert.le-monnier@wanadoo.fr
END:VEVENT
BEGIN:VEVENT
DTSTART;TZID=UTC:20260714T140000
DTEND;TZID=UTC:20260714T170000
DTSTAMP:20260422T200904
CREATED:20260420T141230Z
LAST-MODIFIED:20260420T141651Z
UID:10003219-1784037600-1784048400@lafertemace.fr
SUMMARY:Après-midi jeux
DESCRIPTION:L’association « Les Amis des jeux » vous propose des après-midis jeux à la base de loisirs en juillet et août. \nLes mardis et jeudis de 14 h à 17 h  ( jeux de plein air \, grands jeux en bois ). \nPour tous – Gratuit
URL:https://lafertemace.fr/event/apres-midi-jeux-2/2026-07-14/
LOCATION:Base de Loisirs\, Bd de la Forêt d'Andaine\, La Ferté-Macé\, 61600
CATEGORIES:Loisirs,Plein air,Sports et Loisirs
ATTACH;FMTTYPE=image/jpeg:https://lafertemace.fr/wp-content/uploads/2016/05/2012-manifestations-jeux-anciens-festival-des-jeux-Base-de-loisirs-jeu-de-quilles-1-e1463744110911.jpg
ORGANIZER;CN="Les amis des jeux":MAILTO:albert.le-monnier@wanadoo.fr
END:VEVENT
BEGIN:VEVENT
DTSTART;TZID=UTC:20260721T140000
DTEND;TZID=UTC:20260721T170000
DTSTAMP:20260422T200904
CREATED:20260420T141230Z
LAST-MODIFIED:20260420T141651Z
UID:10003220-1784642400-1784653200@lafertemace.fr
SUMMARY:Après-midi jeux
DESCRIPTION:L’association « Les Amis des jeux » vous propose des après-midis jeux à la base de loisirs en juillet et août. \nLes mardis et jeudis de 14 h à 17 h  ( jeux de plein air \, grands jeux en bois ). \nPour tous – Gratuit
URL:https://lafertemace.fr/event/apres-midi-jeux-2/2026-07-21/
LOCATION:Base de Loisirs\, Bd de la Forêt d'Andaine\, La Ferté-Macé\, 61600
CATEGORIES:Loisirs,Plein air,Sports et Loisirs
ATTACH;FMTTYPE=image/jpeg:https://lafertemace.fr/wp-content/uploads/2016/05/2012-manifestations-jeux-anciens-festival-des-jeux-Base-de-loisirs-jeu-de-quilles-1-e1463744110911.jpg
ORGANIZER;CN="Les amis des jeux":MAILTO:albert.le-monnier@wanadoo.fr
END:VEVENT
BEGIN:VEVENT
DTSTART;TZID=UTC:20260728T140000
DTEND;TZID=UTC:20260728T170000
DTSTAMP:20260422T200904
CREATED:20260420T141230Z
LAST-MODIFIED:20260420T141651Z
UID:10003221-1785247200-1785258000@lafertemace.fr
SUMMARY:Après-midi jeux
DESCRIPTION:L’association « Les Amis des jeux » vous propose des après-midis jeux à la base de loisirs en juillet et août. \nLes mardis et jeudis de 14 h à 17 h  ( jeux de plein air \, grands jeux en bois ). \nPour tous – Gratuit
URL:https://lafertemace.fr/event/apres-midi-jeux-2/2026-07-28/
LOCATION:Base de Loisirs\, Bd de la Forêt d'Andaine\, La Ferté-Macé\, 61600
CATEGORIES:Loisirs,Plein air,Sports et Loisirs
ATTACH;FMTTYPE=image/jpeg:https://lafertemace.fr/wp-content/uploads/2016/05/2012-manifestations-jeux-anciens-festival-des-jeux-Base-de-loisirs-jeu-de-quilles-1-e1463744110911.jpg
ORGANIZER;CN="Les amis des jeux":MAILTO:albert.le-monnier@wanadoo.fr
END:VEVENT
BEGIN:VEVENT
DTSTART;TZID=UTC:20260804T140000
DTEND;TZID=UTC:20260804T170000
DTSTAMP:20260422T200904
CREATED:20260420T141230Z
LAST-MODIFIED:20260420T141651Z
UID:10003222-1785852000-1785862800@lafertemace.fr
SUMMARY:Après-midi jeux
DESCRIPTION:L’association « Les Amis des jeux » vous propose des après-midis jeux à la base de loisirs en juillet et août. \nLes mardis et jeudis de 14 h à 17 h  ( jeux de plein air \, grands jeux en bois ). \nPour tous – Gratuit
URL:https://lafertemace.fr/event/apres-midi-jeux-2/2026-08-04/
LOCATION:Base de Loisirs\, Bd de la Forêt d'Andaine\, La Ferté-Macé\, 61600
CATEGORIES:Loisirs,Plein air,Sports et Loisirs
ATTACH;FMTTYPE=image/jpeg:https://lafertemace.fr/wp-content/uploads/2016/05/2012-manifestations-jeux-anciens-festival-des-jeux-Base-de-loisirs-jeu-de-quilles-1-e1463744110911.jpg
ORGANIZER;CN="Les amis des jeux":MAILTO:albert.le-monnier@wanadoo.fr
END:VEVENT
BEGIN:VEVENT
DTSTART;TZID=UTC:20260811T140000
DTEND;TZID=UTC:20260811T170000
DTSTAMP:20260422T200904
CREATED:20260420T141230Z
LAST-MODIFIED:20260420T141651Z
UID:10003223-1786456800-1786467600@lafertemace.fr
SUMMARY:Après-midi jeux
DESCRIPTION:L’association « Les Amis des jeux » vous propose des après-midis jeux à la base de loisirs en juillet et août. \nLes mardis et jeudis de 14 h à 17 h  ( jeux de plein air \, grands jeux en bois ). \nPour tous – Gratuit
URL:https://lafertemace.fr/event/apres-midi-jeux-2/2026-08-11/
LOCATION:Base de Loisirs\, Bd de la Forêt d'Andaine\, La Ferté-Macé\, 61600
CATEGORIES:Loisirs,Plein air,Sports et Loisirs
ATTACH;FMTTYPE=image/jpeg:https://lafertemace.fr/wp-content/uploads/2016/05/2012-manifestations-jeux-anciens-festival-des-jeux-Base-de-loisirs-jeu-de-quilles-1-e1463744110911.jpg
ORGANIZER;CN="Les amis des jeux":MAILTO:albert.le-monnier@wanadoo.fr
END:VEVENT
BEGIN:VEVENT
DTSTART;TZID=UTC:20260818T140000
DTEND;TZID=UTC:20260818T170000
DTSTAMP:20260422T200904
CREATED:20260420T141230Z
LAST-MODIFIED:20260420T141651Z
UID:10003224-1787061600-1787072400@lafertemace.fr
SUMMARY:Après-midi jeux
DESCRIPTION:L’association « Les Amis des jeux » vous propose des après-midis jeux à la base de loisirs en juillet et août. \nLes mardis et jeudis de 14 h à 17 h  ( jeux de plein air \, grands jeux en bois ). \nPour tous – Gratuit
URL:https://lafertemace.fr/event/apres-midi-jeux-2/2026-08-18/
LOCATION:Base de Loisirs\, Bd de la Forêt d'Andaine\, La Ferté-Macé\, 61600
CATEGORIES:Loisirs,Plein air,Sports et Loisirs
ATTACH;FMTTYPE=image/jpeg:https://lafertemace.fr/wp-content/uploads/2016/05/2012-manifestations-jeux-anciens-festival-des-jeux-Base-de-loisirs-jeu-de-quilles-1-e1463744110911.jpg
ORGANIZER;CN="Les amis des jeux":MAILTO:albert.le-monnier@wanadoo.fr
END:VEVENT
BEGIN:VEVENT
DTSTART;TZID=UTC:20260825T140000
DTEND;TZID=UTC:20260825T170000
DTSTAMP:20260422T200904
CREATED:20260420T141230Z
LAST-MODIFIED:20260420T141651Z
UID:10003225-1787666400-1787677200@lafertemace.fr
SUMMARY:Après-midi jeux
DESCRIPTION:L’association « Les Amis des jeux » vous propose des après-midis jeux à la base de loisirs en juillet et août. \nLes mardis et jeudis de 14 h à 17 h  ( jeux de plein air \, grands jeux en bois ). \nPour tous – Gratuit
URL:https://lafertemace.fr/event/apres-midi-jeux-2/2026-08-25/
LOCATION:Base de Loisirs\, Bd de la Forêt d'Andaine\, La Ferté-Macé\, 61600
CATEGORIES:Loisirs,Plein air,Sports et Loisirs
ATTACH;FMTTYPE=image/jpeg:https://lafertemace.fr/wp-content/uploads/2016/05/2012-manifestations-jeux-anciens-festival-des-jeux-Base-de-loisirs-jeu-de-quilles-1-e1463744110911.jpg
ORGANIZER;CN="Les amis des jeux":MAILTO:albert.le-monnier@wanadoo.fr
END:VEVENT
END:VCALENDAR